BEGIN:VCALENDAR
VERSION:2.0
PRODID:-//Sheridan Public Library - ECPv6.15.20//NONSGML v1.0//EN
CALSCALE:GREGORIAN
METHOD:PUBLISH
X-ORIGINAL-URL:https://sheridan.lib.in.us
X-WR-CALDESC:Events for Sheridan Public Library
REFRESH-INTERVAL;VALUE=DURATION:PT1H
X-Robots-Tag:noindex
X-PUBLISHED-TTL:PT1H
BEGIN:VTIMEZONE
TZID:America/Indiana/Indianapolis
BEGIN:DAYLIGHT
TZOFFSETFROM:-0500
TZOFFSETTO:-0400
TZNAME:EDT
DTSTART:20250309T070000
END:DAYLIGHT
BEGIN:STANDARD
TZOFFSETFROM:-0400
TZOFFSETTO:-0500
TZNAME:EST
DTSTART:20251102T060000
END:STANDARD
BEGIN:DAYLIGHT
TZOFFSETFROM:-0500
TZOFFSETTO:-0400
TZNAME:EDT
DTSTART:20260308T070000
END:DAYLIGHT
BEGIN:STANDARD
TZOFFSETFROM:-0400
TZOFFSETTO:-0500
TZNAME:EST
DTSTART:20261101T060000
END:STANDARD
BEGIN:DAYLIGHT
TZOFFSETFROM:-0500
TZOFFSETTO:-0400
TZNAME:EDT
DTSTART:20270314T070000
END:DAYLIGHT
BEGIN:STANDARD
TZOFFSETFROM:-0400
TZOFFSETTO:-0500
TZNAME:EST
DTSTART:20271107T060000
END:STANDARD
END:VTIMEZONE
BEGIN:VEVENT
DTSTART;VALUE=DATE:20260504
DTEND;VALUE=DATE:20260506
DTSTAMP:20260421T160359
CREATED:20241125T151540Z
LAST-MODIFIED:20241125T151540Z
UID:27395-1777852800-1778025599@sheridan.lib.in.us
SUMMARY:Closed for Elections
DESCRIPTION:
URL:https://sheridan.lib.in.us/event/closed-for-elections-2/
END:VEVENT
BEGIN:VEVENT
DTSTART;VALUE=DATE:20260523
DTEND;VALUE=DATE:20260524
DTSTAMP:20260421T160359
CREATED:20250527T001254Z
LAST-MODIFIED:20250527T001254Z
UID:29179-1779494400-1779580799@sheridan.lib.in.us
SUMMARY:Molly & Connor O'Malley's 2nd Birthday
DESCRIPTION:
URL:https://sheridan.lib.in.us/event/molly-connor-omalleys-2nd-birthday/
END:VEVENT
BEGIN:VEVENT
DTSTART;TZID=America/Indiana/Indianapolis:20260525T190000
DTEND;TZID=America/Indiana/Indianapolis:20260525T210000
DTSTAMP:20260421T160359
CREATED:20260420T150204Z
LAST-MODIFIED:20260420T150204Z
UID:31144-1779735600-1779742800@sheridan.lib.in.us
SUMMARY:PHI BETA PSI
DESCRIPTION:
URL:https://sheridan.lib.in.us/event/phi-beta-psi-23/
END:VEVENT
BEGIN:VEVENT
DTSTART;VALUE=DATE:20260531
DTEND;VALUE=DATE:20260601
DTSTAMP:20260421T160359
CREATED:20250919T161834Z
LAST-MODIFIED:20250919T161834Z
UID:29943-1780185600-1780271999@sheridan.lib.in.us
SUMMARY:Hamersley Graduation Open House
DESCRIPTION:
URL:https://sheridan.lib.in.us/event/hamersley-graduation-open-house/
END:VEVENT
END:VCALENDAR