BEGIN:VCALENDAR
VERSION:2.0
PRODID:-//Sheridan Public Library - ECPv6.15.20//NONSGML v1.0//EN
CALSCALE:GREGORIAN
METHOD:PUBLISH
X-ORIGINAL-URL:https://sheridan.lib.in.us
X-WR-CALDESC:Events for Sheridan Public Library
REFRESH-INTERVAL;VALUE=DURATION:PT1H
X-Robots-Tag:noindex
X-PUBLISHED-TTL:PT1H
BEGIN:VTIMEZONE
TZID:America/Indiana/Indianapolis
BEGIN:DAYLIGHT
TZOFFSETFROM:-0500
TZOFFSETTO:-0400
TZNAME:EDT
DTSTART:20250309T070000
END:DAYLIGHT
BEGIN:STANDARD
TZOFFSETFROM:-0400
TZOFFSETTO:-0500
TZNAME:EST
DTSTART:20251102T060000
END:STANDARD
BEGIN:DAYLIGHT
TZOFFSETFROM:-0500
TZOFFSETTO:-0400
TZNAME:EDT
DTSTART:20260308T070000
END:DAYLIGHT
BEGIN:STANDARD
TZOFFSETFROM:-0400
TZOFFSETTO:-0500
TZNAME:EST
DTSTART:20261101T060000
END:STANDARD
BEGIN:DAYLIGHT
TZOFFSETFROM:-0500
TZOFFSETTO:-0400
TZNAME:EDT
DTSTART:20270314T070000
END:DAYLIGHT
BEGIN:STANDARD
TZOFFSETFROM:-0400
TZOFFSETTO:-0500
TZNAME:EST
DTSTART:20271107T060000
END:STANDARD
END:VTIMEZONE
BEGIN:VEVENT
DTSTART;TZID=America/Indiana/Indianapolis:20260210T180000
DTEND;TZID=America/Indiana/Indianapolis:20260210T203000
DTSTAMP:20260422T185003
CREATED:20260108T152553Z
LAST-MODIFIED:20260108T152553Z
UID:30612-1770746400-1770755400@sheridan.lib.in.us
SUMMARY:Rotary
DESCRIPTION:
URL:https://sheridan.lib.in.us/event/rotary-84/
END:VEVENT
BEGIN:VEVENT
DTSTART;TZID=America/Indiana/Indianapolis:20260211T130000
DTEND;TZID=America/Indiana/Indianapolis:20260211T160000
DTSTAMP:20260422T185003
CREATED:20260108T152912Z
LAST-MODIFIED:20260108T152912Z
UID:30618-1770814800-1770825600@sheridan.lib.in.us
SUMMARY:Room Reserved
DESCRIPTION:
URL:https://sheridan.lib.in.us/event/room-reserved/
END:VEVENT
BEGIN:VEVENT
DTSTART;TZID=America/Indiana/Indianapolis:20260212T180000
DTEND;TZID=America/Indiana/Indianapolis:20260212T193000
DTSTAMP:20260422T185003
CREATED:20260108T152727Z
LAST-MODIFIED:20260108T152727Z
UID:30616-1770919200-1770924600@sheridan.lib.in.us
SUMMARY:Family Bingo
DESCRIPTION:
URL:https://sheridan.lib.in.us/event/family-bingo-5/
END:VEVENT
BEGIN:VEVENT
DTSTART;TZID=America/Indiana/Indianapolis:20260214T063000
DTEND;TZID=America/Indiana/Indianapolis:20260214T110000
DTSTAMP:20260422T185003
CREATED:20250310T192625Z
LAST-MODIFIED:20250310T192625Z
UID:28538-1771050600-1771066800@sheridan.lib.in.us
SUMMARY:Greater Men's Breakfast
DESCRIPTION:
URL:https://sheridan.lib.in.us/event/greater-mens-breakfast-8/
END:VEVENT
BEGIN:VEVENT
DTSTART;TZID=America/Indiana/Indianapolis:20260216T080000
DTEND;TZID=America/Indiana/Indianapolis:20260220T110000
DTSTAMP:20260422T185003
CREATED:20260108T152204Z
LAST-MODIFIED:20260108T152204Z
UID:30608-1771228800-1771585200@sheridan.lib.in.us
SUMMARY:Backflow class
DESCRIPTION:
URL:https://sheridan.lib.in.us/event/backflow-class-80/
END:VEVENT
BEGIN:VEVENT
DTSTART;TZID=America/Indiana/Indianapolis:20260216T173000
DTEND;TZID=America/Indiana/Indianapolis:20260216T193000
DTSTAMP:20260422T185003
CREATED:20260212T170944Z
LAST-MODIFIED:20260212T170944Z
UID:30774-1771263000-1771270200@sheridan.lib.in.us
SUMMARY:Sheridan Rec Board - Softball committee
DESCRIPTION:
URL:https://sheridan.lib.in.us/event/sheridan-rec-board-softball-committee/
END:VEVENT
BEGIN:VEVENT
DTSTART;TZID=America/Indiana/Indianapolis:20260217T180000
DTEND;TZID=America/Indiana/Indianapolis:20260217T203000
DTSTAMP:20260422T185003
CREATED:20260108T152635Z
LAST-MODIFIED:20260108T152635Z
UID:30614-1771351200-1771360200@sheridan.lib.in.us
SUMMARY:Rotary
DESCRIPTION:
URL:https://sheridan.lib.in.us/event/rotary-85/
END:VEVENT
BEGIN:VEVENT
DTSTART;TZID=America/Indiana/Indianapolis:20260218T150000
DTEND;TZID=America/Indiana/Indianapolis:20260218T170000
DTSTAMP:20260422T185003
CREATED:20260108T191610Z
LAST-MODIFIED:20260108T191610Z
UID:30624-1771426800-1771434000@sheridan.lib.in.us
SUMMARY:ADULT BINGO
DESCRIPTION:
URL:https://sheridan.lib.in.us/event/adult-bingo-40/
END:VEVENT
BEGIN:VEVENT
DTSTART;TZID=America/Indiana/Indianapolis:20260218T170000
DTEND;TZID=America/Indiana/Indianapolis:20260218T200000
DTSTAMP:20260422T185003
CREATED:20260108T191912Z
LAST-MODIFIED:20260108T191912Z
UID:30628-1771434000-1771444800@sheridan.lib.in.us
SUMMARY:SHERIDAN READERS
DESCRIPTION:
URL:https://sheridan.lib.in.us/event/sheridan-readers-25/
END:VEVENT
BEGIN:VEVENT
DTSTART;TZID=America/Indiana/Indianapolis:20260221T150000
DTEND;TZID=America/Indiana/Indianapolis:20260221T210000
DTSTAMP:20260422T185003
CREATED:20260221T144833Z
LAST-MODIFIED:20260221T144833Z
UID:30802-1771686000-1771707600@sheridan.lib.in.us
SUMMARY:KRISTIN ROOT
DESCRIPTION:
URL:https://sheridan.lib.in.us/event/kristin-root/
END:VEVENT
BEGIN:VEVENT
DTSTART;TZID=America/Indiana/Indianapolis:20260223T173000
DTEND;TZID=America/Indiana/Indianapolis:20260223T190000
DTSTAMP:20260422T185003
CREATED:20260113T160928Z
LAST-MODIFIED:20260113T160928Z
UID:30636-1771867800-1771873200@sheridan.lib.in.us
SUMMARY:SCERT Meeting
DESCRIPTION:
URL:https://sheridan.lib.in.us/event/scert-meeting-2/
END:VEVENT
BEGIN:VEVENT
DTSTART;TZID=America/Indiana/Indianapolis:20260224T190000
DTEND;TZID=America/Indiana/Indianapolis:20260224T210000
DTSTAMP:20260422T185003
CREATED:20260113T160822Z
LAST-MODIFIED:20260113T160822Z
UID:30634-1771959600-1771966800@sheridan.lib.in.us
SUMMARY:Phi Beta Psi
DESCRIPTION:
URL:https://sheridan.lib.in.us/event/phi-beta-psi-16/
END:VEVENT
BEGIN:VEVENT
DTSTART;TZID=America/Indiana/Indianapolis:20260225T183000
DTEND;TZID=America/Indiana/Indianapolis:20260225T213000
DTSTAMP:20260422T185003
CREATED:20260115T164137Z
LAST-MODIFIED:20260115T164137Z
UID:30646-1772044200-1772055000@sheridan.lib.in.us
SUMMARY:Sheridan Rec Board
DESCRIPTION:
URL:https://sheridan.lib.in.us/event/sheridan-rec-board-2/
END:VEVENT
BEGIN:VEVENT
DTSTART;VALUE=DATE:20260301
DTEND;VALUE=DATE:20260302
DTSTAMP:20260422T185003
CREATED:20260219T215626Z
LAST-MODIFIED:20260219T215626Z
UID:30799-1772323200-1772409599@sheridan.lib.in.us
SUMMARY:Dort Pickett Birthday
DESCRIPTION:
URL:https://sheridan.lib.in.us/event/dort-pickett-birthday/
END:VEVENT
BEGIN:VEVENT
DTSTART;TZID=America/Indiana/Indianapolis:20260303T180000
DTEND;TZID=America/Indiana/Indianapolis:20260303T200000
DTSTAMP:20260422T185003
CREATED:20260218T193155Z
LAST-MODIFIED:20260218T193155Z
UID:30788-1772560800-1772568000@sheridan.lib.in.us
SUMMARY:Rotary
DESCRIPTION:
URL:https://sheridan.lib.in.us/event/rotary-86/
END:VEVENT
BEGIN:VEVENT
DTSTART;TZID=America/Indiana/Indianapolis:20260304T150000
DTEND;TZID=America/Indiana/Indianapolis:20260304T170000
DTSTAMP:20260422T185003
CREATED:20260218T193227Z
LAST-MODIFIED:20260218T193227Z
UID:30790-1772636400-1772643600@sheridan.lib.in.us
SUMMARY:Adult Bingo
DESCRIPTION:
URL:https://sheridan.lib.in.us/event/adult-bingo-41/
END:VEVENT
BEGIN:VEVENT
DTSTART;TZID=America/Indiana/Indianapolis:20260305T180000
DTEND;TZID=America/Indiana/Indianapolis:20260305T200000
DTSTAMP:20260422T185003
CREATED:20260218T194223Z
LAST-MODIFIED:20260218T194223Z
UID:30792-1772733600-1772740800@sheridan.lib.in.us
SUMMARY:Kiwanis
DESCRIPTION:
URL:https://sheridan.lib.in.us/event/kiwanis-2/
END:VEVENT
BEGIN:VEVENT
DTSTART;VALUE=DATE:20260308
DTEND;VALUE=DATE:20260309
DTSTAMP:20260422T185003
CREATED:20260305T154305Z
LAST-MODIFIED:20260305T154305Z
UID:30939-1772928000-1773014399@sheridan.lib.in.us
SUMMARY:JAMES ROSSMAN: BIRTHDAY PARTY
DESCRIPTION:
URL:https://sheridan.lib.in.us/event/james-rossman-birthday-party/
END:VEVENT
BEGIN:VEVENT
DTSTART;TZID=America/Indiana/Indianapolis:20260312T180000
DTEND;TZID=America/Indiana/Indianapolis:20260312T190000
DTSTAMP:20260422T185003
CREATED:20260304T161057Z
LAST-MODIFIED:20260304T161057Z
UID:30930-1773338400-1773342000@sheridan.lib.in.us
SUMMARY:Family Bingo Night
DESCRIPTION:
URL:https://sheridan.lib.in.us/event/family-bingo-night/
END:VEVENT
BEGIN:VEVENT
DTSTART;TZID=America/Indiana/Indianapolis:20260314T063000
DTEND;TZID=America/Indiana/Indianapolis:20260314T110000
DTSTAMP:20260422T185003
CREATED:20250310T192653Z
LAST-MODIFIED:20250310T192653Z
UID:28540-1773469800-1773486000@sheridan.lib.in.us
SUMMARY:Greater Men's Breakfast
DESCRIPTION:
URL:https://sheridan.lib.in.us/event/greater-mens-breakfast-9/
END:VEVENT
BEGIN:VEVENT
DTSTART;TZID=America/Indiana/Indianapolis:20260318T150000
DTEND;TZID=America/Indiana/Indianapolis:20260318T170000
DTSTAMP:20260422T185003
CREATED:20260304T160751Z
LAST-MODIFIED:20260304T160751Z
UID:30926-1773846000-1773853200@sheridan.lib.in.us
SUMMARY:Adult Bingo
DESCRIPTION:
URL:https://sheridan.lib.in.us/event/adult-bingo-42/
END:VEVENT
BEGIN:VEVENT
DTSTART;TZID=America/Indiana/Indianapolis:20260318T170000
DTEND;TZID=America/Indiana/Indianapolis:20260318T183000
DTSTAMP:20260422T185003
CREATED:20260304T160952Z
LAST-MODIFIED:20260304T204458Z
UID:30928-1773853200-1773858600@sheridan.lib.in.us
SUMMARY:Sheridan Readers
DESCRIPTION:
URL:https://sheridan.lib.in.us/event/sheridan-readers-26/
END:VEVENT
BEGIN:VEVENT
DTSTART;TZID=America/Indiana/Indianapolis:20260321T080000
DTEND;TZID=America/Indiana/Indianapolis:20260321T120000
DTSTAMP:20260422T185003
CREATED:20250108T192446Z
LAST-MODIFIED:20260304T204554Z
UID:27998-1774080000-1774094400@sheridan.lib.in.us
SUMMARY:EASTER BUNNY VISIT + EGG HUNT
DESCRIPTION:
URL:https://sheridan.lib.in.us/event/easter-bunny-visit-egg-hunt-2/
END:VEVENT
BEGIN:VEVENT
DTSTART;TZID=America/Indiana/Indianapolis:20260321T160000
DTEND;TZID=America/Indiana/Indianapolis:20260321T220000
DTSTAMP:20260422T185003
CREATED:20260320T161844Z
LAST-MODIFIED:20260320T161844Z
UID:31010-1774108800-1774130400@sheridan.lib.in.us
SUMMARY:D & D
DESCRIPTION:
URL:https://sheridan.lib.in.us/event/d-d/
END:VEVENT
BEGIN:VEVENT
DTSTART;VALUE=DATE:20260322
DTEND;VALUE=DATE:20260323
DTSTAMP:20260422T185003
CREATED:20260316T220603Z
LAST-MODIFIED:20260316T220640Z
UID:30983-1774137600-1774223999@sheridan.lib.in.us
SUMMARY:BIRTHDAY PARTY: LYNDSEY ASKREN
DESCRIPTION:
URL:https://sheridan.lib.in.us/event/birthday-party-lyndsey-askren/
END:VEVENT
BEGIN:VEVENT
DTSTART;TZID=America/Indiana/Indianapolis:20260323T080000
DTEND;TZID=America/Indiana/Indianapolis:20260323T110000
DTSTAMP:20260422T185003
CREATED:20260319T171202Z
LAST-MODIFIED:20260319T171341Z
UID:30989-1774252800-1774263600@sheridan.lib.in.us
SUMMARY:BACKFLOW CLASS
DESCRIPTION:
URL:https://sheridan.lib.in.us/event/back-flow-class/
END:VEVENT
BEGIN:VEVENT
DTSTART;TZID=America/Indiana/Indianapolis:20260323T173000
DTEND;TZID=America/Indiana/Indianapolis:20260323T190000
DTSTAMP:20260422T185003
CREATED:20260319T180022Z
LAST-MODIFIED:20260319T180022Z
UID:31000-1774287000-1774292400@sheridan.lib.in.us
SUMMARY:S-CERT Meeting
DESCRIPTION:
URL:https://sheridan.lib.in.us/event/s-cert-meeting/
END:VEVENT
BEGIN:VEVENT
DTSTART;TZID=America/Indiana/Indianapolis:20260324T080000
DTEND;TZID=America/Indiana/Indianapolis:20260324T110000
DTSTAMP:20260422T185003
CREATED:20260319T171410Z
LAST-MODIFIED:20260319T171410Z
UID:30993-1774339200-1774350000@sheridan.lib.in.us
SUMMARY:BACKFLOW CLASS
DESCRIPTION:
URL:https://sheridan.lib.in.us/event/backflow-class-81/
END:VEVENT
BEGIN:VEVENT
DTSTART;TZID=America/Indiana/Indianapolis:20260324T190000
DTEND;TZID=America/Indiana/Indianapolis:20260324T210000
DTSTAMP:20260422T185003
CREATED:20260319T171025Z
LAST-MODIFIED:20260319T171025Z
UID:30987-1774378800-1774386000@sheridan.lib.in.us
SUMMARY:PHI BETA PSI
DESCRIPTION:
URL:https://sheridan.lib.in.us/event/phi-beta-psi-17/
END:VEVENT
BEGIN:VEVENT
DTSTART;TZID=America/Indiana/Indianapolis:20260325T080000
DTEND;TZID=America/Indiana/Indianapolis:20260325T110000
DTSTAMP:20260422T185003
CREATED:20260319T171452Z
LAST-MODIFIED:20260319T171452Z
UID:30995-1774425600-1774436400@sheridan.lib.in.us
SUMMARY:BACKFLOW CLASS
DESCRIPTION:
URL:https://sheridan.lib.in.us/event/backflow-class-82/
END:VEVENT
END:VCALENDAR