BEGIN:VCALENDAR
VERSION:2.0
PRODID:-//Sheridan Public Library - ECPv6.15.20//NONSGML v1.0//EN
CALSCALE:GREGORIAN
METHOD:PUBLISH
X-ORIGINAL-URL:https://sheridan.lib.in.us
X-WR-CALDESC:Events for Sheridan Public Library
REFRESH-INTERVAL;VALUE=DURATION:PT1H
X-Robots-Tag:noindex
X-PUBLISHED-TTL:PT1H
BEGIN:VTIMEZONE
TZID:America/Indiana/Indianapolis
BEGIN:DAYLIGHT
TZOFFSETFROM:-0500
TZOFFSETTO:-0400
TZNAME:EDT
DTSTART:20240310T070000
END:DAYLIGHT
BEGIN:STANDARD
TZOFFSETFROM:-0400
TZOFFSETTO:-0500
TZNAME:EST
DTSTART:20241103T060000
END:STANDARD
BEGIN:DAYLIGHT
TZOFFSETFROM:-0500
TZOFFSETTO:-0400
TZNAME:EDT
DTSTART:20250309T070000
END:DAYLIGHT
BEGIN:STANDARD
TZOFFSETFROM:-0400
TZOFFSETTO:-0500
TZNAME:EST
DTSTART:20251102T060000
END:STANDARD
BEGIN:DAYLIGHT
TZOFFSETFROM:-0500
TZOFFSETTO:-0400
TZNAME:EDT
DTSTART:20260308T070000
END:DAYLIGHT
BEGIN:STANDARD
TZOFFSETFROM:-0400
TZOFFSETTO:-0500
TZNAME:EST
DTSTART:20261101T060000
END:STANDARD
END:VTIMEZONE
BEGIN:VEVENT
DTSTART;TZID=America/Indiana/Indianapolis:20251118T123000
DTEND;TZID=America/Indiana/Indianapolis:20251118T153000
DTSTAMP:20260422T181809
CREATED:20251017T192830Z
LAST-MODIFIED:20251017T192830Z
UID:30136-1763469000-1763479800@sheridan.lib.in.us
SUMMARY:ESTATE PLANNING WORKSHOP FOR SENIORS - BLEVINS LAW OFFICE
DESCRIPTION:
URL:https://sheridan.lib.in.us/event/estate-planning-workshop-for-seniors-blevins-law-office/
END:VEVENT
BEGIN:VEVENT
DTSTART;TZID=America/Indiana/Indianapolis:20251118T180000
DTEND;TZID=America/Indiana/Indianapolis:20251118T180000
DTSTAMP:20260422T181809
CREATED:20241202T212214Z
LAST-MODIFIED:20241202T212214Z
UID:27538-1763488800-1763488800@sheridan.lib.in.us
SUMMARY:ROTARY
DESCRIPTION:
URL:https://sheridan.lib.in.us/event/rotary-77/
END:VEVENT
BEGIN:VEVENT
DTSTART;TZID=America/Indiana/Indianapolis:20251119T150000
DTEND;TZID=America/Indiana/Indianapolis:20251119T170000
DTSTAMP:20260422T181809
CREATED:20241213T190658Z
LAST-MODIFIED:20241213T190658Z
UID:27774-1763564400-1763571600@sheridan.lib.in.us
SUMMARY:ADULT BINGO
DESCRIPTION:
URL:https://sheridan.lib.in.us/event/adult-bingo-35/
END:VEVENT
BEGIN:VEVENT
DTSTART;TZID=America/Indiana/Indianapolis:20251119T173000
DTEND;TZID=America/Indiana/Indianapolis:20251119T173000
DTSTAMP:20260422T181809
CREATED:20250107T165259Z
LAST-MODIFIED:20250107T165259Z
UID:27893-1763573400-1763573400@sheridan.lib.in.us
SUMMARY:SHERIDAN READERS
DESCRIPTION:
URL:https://sheridan.lib.in.us/event/sheridan-readers-24/
END:VEVENT
BEGIN:VEVENT
DTSTART;TZID=America/Indiana/Indianapolis:20251119T193000
DTEND;TZID=America/Indiana/Indianapolis:20251119T213000
DTSTAMP:20260422T181809
CREATED:20240926T133710Z
LAST-MODIFIED:20250808T195819Z
UID:26726-1763580600-1763587800@sheridan.lib.in.us
SUMMARY:SHERIDAN RECREATION BOARD
DESCRIPTION:
URL:https://sheridan.lib.in.us/event/sheridan-recreation-board-20/
END:VEVENT
BEGIN:VEVENT
DTSTART;TZID=America/Indiana/Indianapolis:20251120T150000
DTEND;TZID=America/Indiana/Indianapolis:20251120T170000
DTSTAMP:20260422T181809
CREATED:20251002T161730Z
LAST-MODIFIED:20251002T161730Z
UID:30086-1763650800-1763658000@sheridan.lib.in.us
SUMMARY:AFTER SCHOOL CLUB: THANKSGIVING PARADE STEM CHALLENGE
DESCRIPTION:
URL:https://sheridan.lib.in.us/event/after-school-club-thanksgiving-parade-stem-challenge/
END:VEVENT
BEGIN:VEVENT
DTSTART;VALUE=DATE:20251122
DTEND;VALUE=DATE:20251123
DTSTAMP:20260422T181809
CREATED:20250612T141355Z
LAST-MODIFIED:20250612T141355Z
UID:29311-1763769600-1763855999@sheridan.lib.in.us
SUMMARY:PAYTON THURSTON: BIRTHDAY PARTY
DESCRIPTION:
URL:https://sheridan.lib.in.us/event/payton-thurston-birthday-party/
END:VEVENT
BEGIN:VEVENT
DTSTART;VALUE=DATE:20251123
DTEND;VALUE=DATE:20251124
DTSTAMP:20260422T181809
CREATED:20250513T151523Z
LAST-MODIFIED:20250513T151523Z
UID:29104-1763856000-1763942399@sheridan.lib.in.us
SUMMARY:PICKETT REUNION
DESCRIPTION:
URL:https://sheridan.lib.in.us/event/pickett-reunion-2/
END:VEVENT
BEGIN:VEVENT
DTSTART;TZID=America/Indiana/Indianapolis:20251124T173000
DTEND;TZID=America/Indiana/Indianapolis:20251124T193000
DTSTAMP:20260422T181809
CREATED:20241125T192632Z
LAST-MODIFIED:20241125T192632Z
UID:27419-1764005400-1764012600@sheridan.lib.in.us
SUMMARY:S-CERT RESPONSE TEAM
DESCRIPTION:
URL:https://sheridan.lib.in.us/event/s-cert-response-team-24/
END:VEVENT
BEGIN:VEVENT
DTSTART;TZID=America/Indiana/Indianapolis:20251125T150000
DTEND;TZID=America/Indiana/Indianapolis:20251125T170000
DTSTAMP:20260422T181809
CREATED:20251002T162739Z
LAST-MODIFIED:20251002T162739Z
UID:30088-1764082800-1764090000@sheridan.lib.in.us
SUMMARY:STEAM STORYTIME
DESCRIPTION:
URL:https://sheridan.lib.in.us/event/steam-storytime-2/
END:VEVENT
BEGIN:VEVENT
DTSTART;TZID=America/Indiana/Indianapolis:20251125T190000
DTEND;TZID=America/Indiana/Indianapolis:20251125T190000
DTSTAMP:20260422T181809
CREATED:20241202T215739Z
LAST-MODIFIED:20241202T215739Z
UID:27621-1764097200-1764097200@sheridan.lib.in.us
SUMMARY:PHI BETA PSI
DESCRIPTION:
URL:https://sheridan.lib.in.us/event/phi-beta-psi-21/
END:VEVENT
BEGIN:VEVENT
DTSTART;VALUE=DATE:20251127
DTEND;VALUE=DATE:20251128
DTSTAMP:20260422T181809
CREATED:20251124T160917Z
LAST-MODIFIED:20251124T160917Z
UID:30406-1764201600-1764287999@sheridan.lib.in.us
SUMMARY:PICKETT: THANKSGIVING
DESCRIPTION:
URL:https://sheridan.lib.in.us/event/pickett-thanksgiving/
END:VEVENT
BEGIN:VEVENT
DTSTART;VALUE=DATE:20251129
DTEND;VALUE=DATE:20251130
DTSTAMP:20260422T181809
CREATED:20250417T181815Z
LAST-MODIFIED:20250417T181859Z
UID:28907-1764374400-1764460799@sheridan.lib.in.us
SUMMARY:MIKE SIGMAN: THANKSGIVING
DESCRIPTION:
URL:https://sheridan.lib.in.us/event/mike-sigman-thanksgiving/
END:VEVENT
BEGIN:VEVENT
DTSTART;VALUE=DATE:20251130
DTEND;VALUE=DATE:20251201
DTSTAMP:20260422T181809
CREATED:20250918T185050Z
LAST-MODIFIED:20250918T185050Z
UID:29939-1764460800-1764547199@sheridan.lib.in.us
SUMMARY:VALERIE MASCAN: 1ST BIRTHDAY PARTY
DESCRIPTION:
URL:https://sheridan.lib.in.us/event/valerie-mascan-1st-birthday-party/
END:VEVENT
BEGIN:VEVENT
DTSTART;TZID=America/Indiana/Indianapolis:20251202T150000
DTEND;TZID=America/Indiana/Indianapolis:20251202T170000
DTSTAMP:20260422T181809
CREATED:20251003T175340Z
LAST-MODIFIED:20251003T175340Z
UID:30103-1764687600-1764694800@sheridan.lib.in.us
SUMMARY:TEEN: CREATING ON CANVAS
DESCRIPTION:
URL:https://sheridan.lib.in.us/event/teen-creating-on-canvas/
END:VEVENT
BEGIN:VEVENT
DTSTART;TZID=America/Indiana/Indianapolis:20251202T180000
DTEND;TZID=America/Indiana/Indianapolis:20251202T180000
DTSTAMP:20260422T181809
CREATED:20241202T212359Z
LAST-MODIFIED:20241202T212359Z
UID:27541-1764698400-1764698400@sheridan.lib.in.us
SUMMARY:ROTARY
DESCRIPTION:
URL:https://sheridan.lib.in.us/event/rotary-78/
END:VEVENT
BEGIN:VEVENT
DTSTART;TZID=America/Indiana/Indianapolis:20251203T150000
DTEND;TZID=America/Indiana/Indianapolis:20251203T170000
DTSTAMP:20260422T181809
CREATED:20241213T190737Z
LAST-MODIFIED:20241213T190737Z
UID:27776-1764774000-1764781200@sheridan.lib.in.us
SUMMARY:ADULT BINGO
DESCRIPTION:
URL:https://sheridan.lib.in.us/event/adult-bingo-36/
END:VEVENT
BEGIN:VEVENT
DTSTART;TZID=America/Indiana/Indianapolis:20251203T180000
DTEND;TZID=America/Indiana/Indianapolis:20251203T200000
DTSTAMP:20260422T181809
CREATED:20241202T214619Z
LAST-MODIFIED:20250221T203604Z
UID:27597-1764784800-1764792000@sheridan.lib.in.us
SUMMARY:PINNERS
DESCRIPTION:
URL:https://sheridan.lib.in.us/event/pinners-25/
END:VEVENT
BEGIN:VEVENT
DTSTART;TZID=America/Indiana/Indianapolis:20251204T153000
DTEND;TZID=America/Indiana/Indianapolis:20251204T173000
DTSTAMP:20260422T181809
CREATED:20251118T203812Z
LAST-MODIFIED:20251118T203812Z
UID:30351-1764862200-1764869400@sheridan.lib.in.us
SUMMARY:After School Club: Lego Gingerbread Houses
DESCRIPTION:
URL:https://sheridan.lib.in.us/event/after-school-club-lego-gingerbread-houses/
END:VEVENT
BEGIN:VEVENT
DTSTART;TZID=America/Indiana/Indianapolis:20251204T180000
DTEND;TZID=America/Indiana/Indianapolis:20251204T180000
DTSTAMP:20260422T181809
CREATED:20241202T221156Z
LAST-MODIFIED:20241202T221156Z
UID:27671-1764871200-1764871200@sheridan.lib.in.us
SUMMARY:KIWANIS CLUB OF SHERIDAN
DESCRIPTION:
URL:https://sheridan.lib.in.us/event/kiwanis-club-of-sheridan-36/
END:VEVENT
BEGIN:VEVENT
DTSTART;TZID=America/Indiana/Indianapolis:20251206T080000
DTEND;TZID=America/Indiana/Indianapolis:20251206T130000
DTSTAMP:20260422T181809
CREATED:20250108T191645Z
LAST-MODIFIED:20250108T191942Z
UID:27992-1765008000-1765026000@sheridan.lib.in.us
SUMMARY:VISIT WITH SANTA
DESCRIPTION:
URL:https://sheridan.lib.in.us/event/visit-with-santa-2/
END:VEVENT
BEGIN:VEVENT
DTSTART;TZID=America/Indiana/Indianapolis:20251207T120000
DTEND;TZID=America/Indiana/Indianapolis:20251207T220000
DTSTAMP:20260422T181809
CREATED:20250310T142804Z
LAST-MODIFIED:20250310T142804Z
UID:28525-1765108800-1765144800@sheridan.lib.in.us
SUMMARY:CHRIST TABERNACLE CHRISTMAS: KATHY BARKER
DESCRIPTION:
URL:https://sheridan.lib.in.us/event/christ-tabernacle-christmas-kathy-barker/
END:VEVENT
BEGIN:VEVENT
DTSTART;TZID=America/Indiana/Indianapolis:20251208T130000
DTEND;TZID=America/Indiana/Indianapolis:20251208T190000
DTSTAMP:20260422T181809
CREATED:20241213T165855Z
LAST-MODIFIED:20241213T165855Z
UID:27728-1765198800-1765220400@sheridan.lib.in.us
SUMMARY:BLOOD DRIVE
DESCRIPTION:
URL:https://sheridan.lib.in.us/event/blood-drive-8/
END:VEVENT
BEGIN:VEVENT
DTSTART;TZID=America/Indiana/Indianapolis:20251208T180000
DTEND;TZID=America/Indiana/Indianapolis:20251208T180000
DTSTAMP:20260422T181809
CREATED:20241202T213353Z
LAST-MODIFIED:20241202T213353Z
UID:27570-1765216800-1765216800@sheridan.lib.in.us
SUMMARY:LIBRARY BOARD MEETING
DESCRIPTION:
URL:https://sheridan.lib.in.us/event/library-board-meeting-27/
END:VEVENT
BEGIN:VEVENT
DTSTART;TZID=America/Indiana/Indianapolis:20251209T180000
DTEND;TZID=America/Indiana/Indianapolis:20251209T180000
DTSTAMP:20260422T181809
CREATED:20241202T212431Z
LAST-MODIFIED:20241202T212431Z
UID:27544-1765303200-1765303200@sheridan.lib.in.us
SUMMARY:ROTARY
DESCRIPTION:
URL:https://sheridan.lib.in.us/event/rotary-79/
END:VEVENT
BEGIN:VEVENT
DTSTART;TZID=America/Indiana/Indianapolis:20251210T170000
DTEND;TZID=America/Indiana/Indianapolis:20251210T190000
DTSTAMP:20260422T181809
CREATED:20251118T171308Z
LAST-MODIFIED:20251118T171308Z
UID:30329-1765386000-1765393200@sheridan.lib.in.us
SUMMARY:GIRL SCOUT MEETING: MALINDA MADDEN
DESCRIPTION:
URL:https://sheridan.lib.in.us/event/girl-scout-meeting-malinda-madden/
END:VEVENT
BEGIN:VEVENT
DTSTART;TZID=America/Indiana/Indianapolis:20251211T103000
DTEND;TZID=America/Indiana/Indianapolis:20251211T120000
DTSTAMP:20260422T181809
CREATED:20251118T204739Z
LAST-MODIFIED:20251118T204839Z
UID:30353-1765449000-1765454400@sheridan.lib.in.us
SUMMARY:HOMESCHOOL USED BOOK AND TOY SWAP
DESCRIPTION:
URL:https://sheridan.lib.in.us/event/homeschool-used-book-and-toy-swap/
END:VEVENT
BEGIN:VEVENT
DTSTART;TZID=America/Indiana/Indianapolis:20251211T180000
DTEND;TZID=America/Indiana/Indianapolis:20251211T193000
DTSTAMP:20260422T181809
CREATED:20251003T174650Z
LAST-MODIFIED:20251003T174650Z
UID:30097-1765476000-1765481400@sheridan.lib.in.us
SUMMARY:Family Bingo
DESCRIPTION:
URL:https://sheridan.lib.in.us/event/family-bingo-3/
END:VEVENT
BEGIN:VEVENT
DTSTART;TZID=America/Indiana/Indianapolis:20251212T080000
DTEND;TZID=America/Indiana/Indianapolis:20251212T170000
DTSTAMP:20260422T181809
CREATED:20251023T152307Z
LAST-MODIFIED:20251023T152307Z
UID:30201-1765526400-1765558800@sheridan.lib.in.us
SUMMARY:The Farmers Bank/Town of Sheridan
DESCRIPTION:
URL:https://sheridan.lib.in.us/event/the-farmers-bank-town-of-sheridan/
END:VEVENT
BEGIN:VEVENT
DTSTART;TZID=America/Indiana/Indianapolis:20251213T063000
DTEND;TZID=America/Indiana/Indianapolis:20251213T110000
DTSTAMP:20260422T181809
CREATED:20250310T192533Z
LAST-MODIFIED:20250310T192533Z
UID:28534-1765607400-1765623600@sheridan.lib.in.us
SUMMARY:Greater Men's Breakfast
DESCRIPTION:
URL:https://sheridan.lib.in.us/event/greater-mens-breakfast-6/
END:VEVENT
END:VCALENDAR