BEGIN:VCALENDAR
VERSION:2.0
PRODID:-//Sheridan Public Library - ECPv6.15.20//NONSGML v1.0//EN
CALSCALE:GREGORIAN
METHOD:PUBLISH
X-ORIGINAL-URL:https://sheridan.lib.in.us
X-WR-CALDESC:Events for Sheridan Public Library
REFRESH-INTERVAL;VALUE=DURATION:PT1H
X-Robots-Tag:noindex
X-PUBLISHED-TTL:PT1H
BEGIN:VTIMEZONE
TZID:America/Indiana/Indianapolis
BEGIN:DAYLIGHT
TZOFFSETFROM:-0500
TZOFFSETTO:-0400
TZNAME:EDT
DTSTART:20240310T070000
END:DAYLIGHT
BEGIN:STANDARD
TZOFFSETFROM:-0400
TZOFFSETTO:-0500
TZNAME:EST
DTSTART:20241103T060000
END:STANDARD
BEGIN:DAYLIGHT
TZOFFSETFROM:-0500
TZOFFSETTO:-0400
TZNAME:EDT
DTSTART:20250309T070000
END:DAYLIGHT
BEGIN:STANDARD
TZOFFSETFROM:-0400
TZOFFSETTO:-0500
TZNAME:EST
DTSTART:20251102T060000
END:STANDARD
BEGIN:DAYLIGHT
TZOFFSETFROM:-0500
TZOFFSETTO:-0400
TZNAME:EDT
DTSTART:20260308T070000
END:DAYLIGHT
BEGIN:STANDARD
TZOFFSETFROM:-0400
TZOFFSETTO:-0500
TZNAME:EST
DTSTART:20261101T060000
END:STANDARD
END:VTIMEZONE
BEGIN:VEVENT
DTSTART;TZID=America/Indiana/Indianapolis:20250922T173000
DTEND;TZID=America/Indiana/Indianapolis:20250922T193000
DTSTAMP:20260422T183232
CREATED:20241125T192535Z
LAST-MODIFIED:20241125T192535Z
UID:27415-1758562200-1758569400@sheridan.lib.in.us
SUMMARY:S-CERT RESPONSE TEAM
DESCRIPTION:
URL:https://sheridan.lib.in.us/event/s-cert-response-team-22/
END:VEVENT
BEGIN:VEVENT
DTSTART;TZID=America/Indiana/Indianapolis:20250923T080000
DTEND;TZID=America/Indiana/Indianapolis:20250923T110000
DTSTAMP:20260422T183232
CREATED:20250725T150311Z
LAST-MODIFIED:20250725T150311Z
UID:29620-1758614400-1758625200@sheridan.lib.in.us
SUMMARY:Backflow Class
DESCRIPTION:
URL:https://sheridan.lib.in.us/event/backflow-class-66/
END:VEVENT
BEGIN:VEVENT
DTSTART;TZID=America/Indiana/Indianapolis:20250923T190000
DTEND;TZID=America/Indiana/Indianapolis:20250923T190000
DTSTAMP:20260422T183232
CREATED:20241202T215623Z
LAST-MODIFIED:20241202T215623Z
UID:27617-1758654000-1758654000@sheridan.lib.in.us
SUMMARY:PHI BETA PSI
DESCRIPTION:
URL:https://sheridan.lib.in.us/event/phi-beta-psi-19/
END:VEVENT
BEGIN:VEVENT
DTSTART;TZID=America/Indiana/Indianapolis:20250924T080000
DTEND;TZID=America/Indiana/Indianapolis:20250924T110000
DTSTAMP:20260422T183232
CREATED:20250725T150621Z
LAST-MODIFIED:20250725T150621Z
UID:29622-1758700800-1758711600@sheridan.lib.in.us
SUMMARY:Backflow Class
DESCRIPTION:
URL:https://sheridan.lib.in.us/event/backflow-class-67/
END:VEVENT
BEGIN:VEVENT
DTSTART;TZID=America/Indiana/Indianapolis:20250924T193000
DTEND;TZID=America/Indiana/Indianapolis:20250924T213000
DTSTAMP:20260422T183232
CREATED:20240926T133801Z
LAST-MODIFIED:20240926T133801Z
UID:26730-1758742200-1758749400@sheridan.lib.in.us
SUMMARY:SHERIDAN RECREATION BOARD
DESCRIPTION:
URL:https://sheridan.lib.in.us/event/sheridan-recreation-board-22/
END:VEVENT
BEGIN:VEVENT
DTSTART;TZID=America/Indiana/Indianapolis:20250925T080000
DTEND;TZID=America/Indiana/Indianapolis:20250925T110000
DTSTAMP:20260422T183232
CREATED:20250725T150642Z
LAST-MODIFIED:20250725T150642Z
UID:29624-1758787200-1758798000@sheridan.lib.in.us
SUMMARY:Backflow Class
DESCRIPTION:
URL:https://sheridan.lib.in.us/event/backflow-class-68/
END:VEVENT
BEGIN:VEVENT
DTSTART;TZID=America/Indiana/Indianapolis:20250925T143000
DTEND;TZID=America/Indiana/Indianapolis:20250925T173000
DTSTAMP:20260422T183232
CREATED:20250825T151917Z
LAST-MODIFIED:20250825T151917Z
UID:29758-1758810600-1758821400@sheridan.lib.in.us
SUMMARY:CARTOON TRIVIA
DESCRIPTION:
URL:https://sheridan.lib.in.us/event/cartoon-trivia/
END:VEVENT
BEGIN:VEVENT
DTSTART;TZID=America/Indiana/Indianapolis:20250926T080000
DTEND;TZID=America/Indiana/Indianapolis:20250926T110000
DTSTAMP:20260422T183232
CREATED:20250725T150812Z
LAST-MODIFIED:20250725T150812Z
UID:29626-1758873600-1758884400@sheridan.lib.in.us
SUMMARY:Backflow Class
DESCRIPTION:
URL:https://sheridan.lib.in.us/event/backflow-class-69/
END:VEVENT
BEGIN:VEVENT
DTSTART;VALUE=DATE:20250927
DTEND;VALUE=DATE:20250928
DTSTAMP:20260422T183232
CREATED:20250502T193400Z
LAST-MODIFIED:20250502T193400Z
UID:29029-1758931200-1759017599@sheridan.lib.in.us
SUMMARY:Mike Cape's 6th birthday
DESCRIPTION:
URL:https://sheridan.lib.in.us/event/mike-capes-6th-birthday/
END:VEVENT
BEGIN:VEVENT
DTSTART;VALUE=DATE:20250928
DTEND;VALUE=DATE:20250929
DTSTAMP:20260422T183232
CREATED:20250623T142528Z
LAST-MODIFIED:20250623T142528Z
UID:29336-1759017600-1759103999@sheridan.lib.in.us
SUMMARY:MARY CUMMINGS: BABY SHOWER
DESCRIPTION:
URL:https://sheridan.lib.in.us/event/mary-cummings-baby-shower/
END:VEVENT
BEGIN:VEVENT
DTSTART;TZID=America/Indiana/Indianapolis:20250929T150000
DTEND;TZID=America/Indiana/Indianapolis:20250929T210000
DTSTAMP:20260422T183232
CREATED:20250915T152103Z
LAST-MODIFIED:20250915T152103Z
UID:29926-1759158000-1759179600@sheridan.lib.in.us
SUMMARY:BIRTHDAY PARTY: BETH LEE SURPRISE
DESCRIPTION:
URL:https://sheridan.lib.in.us/event/birthday-party-beth-lee-surprise/
END:VEVENT
BEGIN:VEVENT
DTSTART;TZID=America/Indiana/Indianapolis:20250930T143000
DTEND;TZID=America/Indiana/Indianapolis:20250930T173000
DTSTAMP:20260422T183232
CREATED:20250825T152128Z
LAST-MODIFIED:20250825T152128Z
UID:29760-1759242600-1759253400@sheridan.lib.in.us
SUMMARY:STEAM STORYTIME
DESCRIPTION:
URL:https://sheridan.lib.in.us/event/steam-storytime/
END:VEVENT
BEGIN:VEVENT
DTSTART;TZID=America/Indiana/Indianapolis:20251001T143000
DTEND;TZID=America/Indiana/Indianapolis:20251001T170000
DTSTAMP:20260422T183232
CREATED:20251001T202334Z
LAST-MODIFIED:20251001T202334Z
UID:30061-1759329000-1759338000@sheridan.lib.in.us
SUMMARY:STEAM Storytime: Nature Detectives
DESCRIPTION:
URL:https://sheridan.lib.in.us/event/steam-storytime-nature-detectives/
END:VEVENT
BEGIN:VEVENT
DTSTART;TZID=America/Indiana/Indianapolis:20251001T150000
DTEND;TZID=America/Indiana/Indianapolis:20251001T170000
DTSTAMP:20260422T183232
CREATED:20241213T190534Z
LAST-MODIFIED:20241213T190534Z
UID:27768-1759330800-1759338000@sheridan.lib.in.us
SUMMARY:ADULT BINGO
DESCRIPTION:
URL:https://sheridan.lib.in.us/event/adult-bingo-32/
END:VEVENT
BEGIN:VEVENT
DTSTART;TZID=America/Indiana/Indianapolis:20251001T180000
DTEND;TZID=America/Indiana/Indianapolis:20251001T200000
DTSTAMP:20260422T183232
CREATED:20241202T214250Z
LAST-MODIFIED:20250221T203518Z
UID:27590-1759341600-1759348800@sheridan.lib.in.us
SUMMARY:PINNERS
DESCRIPTION:
URL:https://sheridan.lib.in.us/event/pinners-23/
END:VEVENT
BEGIN:VEVENT
DTSTART;TZID=America/Indiana/Indianapolis:20251002T140000
DTEND;TZID=America/Indiana/Indianapolis:20251002T170000
DTSTAMP:20260422T183232
CREATED:20251001T202642Z
LAST-MODIFIED:20251001T202642Z
UID:30069-1759413600-1759424400@sheridan.lib.in.us
SUMMARY:AFTER SCHOOL CLUB: LEGO HALLOWEEN CREATURE CHALLENGE
DESCRIPTION:
URL:https://sheridan.lib.in.us/event/after-school-club-lego-halloween-creature-challenge/
END:VEVENT
BEGIN:VEVENT
DTSTART;TZID=America/Indiana/Indianapolis:20251002T180000
DTEND;TZID=America/Indiana/Indianapolis:20251002T180000
DTSTAMP:20260422T183232
CREATED:20241202T220949Z
LAST-MODIFIED:20241202T220949Z
UID:27663-1759428000-1759428000@sheridan.lib.in.us
SUMMARY:KIWANIS CLUB OF SHERIDAN
DESCRIPTION:
URL:https://sheridan.lib.in.us/event/kiwanis-club-of-sheridan-32/
END:VEVENT
BEGIN:VEVENT
DTSTART;VALUE=DATE:20251004
DTEND;VALUE=DATE:20251005
DTSTAMP:20260422T183232
CREATED:20250925T202410Z
LAST-MODIFIED:20250925T202410Z
UID:30023-1759536000-1759622399@sheridan.lib.in.us
SUMMARY:VERONICA COOPER: 50TH WEDDING ANNIVERSARY
DESCRIPTION:
URL:https://sheridan.lib.in.us/event/veronica-cooper-50th-wedding-anniversary/
END:VEVENT
BEGIN:VEVENT
DTSTART;TZID=America/Indiana/Indianapolis:20251006T180000
DTEND;TZID=America/Indiana/Indianapolis:20251006T200000
DTSTAMP:20260422T183232
CREATED:20250919T200450Z
LAST-MODIFIED:20250919T200450Z
UID:29946-1759773600-1759780800@sheridan.lib.in.us
SUMMARY:Library Board
DESCRIPTION:
URL:https://sheridan.lib.in.us/event/library-board/
END:VEVENT
BEGIN:VEVENT
DTSTART;TZID=America/Indiana/Indianapolis:20251007T140000
DTEND;TZID=America/Indiana/Indianapolis:20251007T170000
DTSTAMP:20260422T183232
CREATED:20251001T202513Z
LAST-MODIFIED:20251001T202513Z
UID:30065-1759845600-1759856400@sheridan.lib.in.us
SUMMARY:TEEN SHARPIE PUMPKIN DECORATING
DESCRIPTION:
URL:https://sheridan.lib.in.us/event/teen-sharpie-pumpkin-decorating/
END:VEVENT
BEGIN:VEVENT
DTSTART;TZID=America/Indiana/Indianapolis:20251007T180000
DTEND;TZID=America/Indiana/Indianapolis:20251007T180000
DTSTAMP:20260422T183232
CREATED:20241202T211927Z
LAST-MODIFIED:20241202T211927Z
UID:27528-1759860000-1759860000@sheridan.lib.in.us
SUMMARY:ROTARY
DESCRIPTION:
URL:https://sheridan.lib.in.us/event/rotary-72/
END:VEVENT
BEGIN:VEVENT
DTSTART;TZID=America/Indiana/Indianapolis:20251008T180000
DTEND;TZID=America/Indiana/Indianapolis:20251008T200000
DTSTAMP:20260422T183232
CREATED:20250123T203831Z
LAST-MODIFIED:20250123T203831Z
UID:28153-1759946400-1759953600@sheridan.lib.in.us
SUMMARY:MEDICARE EDUCATION: ROBERT OWEN
DESCRIPTION:
URL:https://sheridan.lib.in.us/event/medicare-education-robert-owen-9/
END:VEVENT
BEGIN:VEVENT
DTSTART;TZID=America/Indiana/Indianapolis:20251009T100000
DTEND;TZID=America/Indiana/Indianapolis:20251009T120000
DTSTAMP:20260422T183232
CREATED:20251001T202432Z
LAST-MODIFIED:20251001T202432Z
UID:30063-1760004000-1760011200@sheridan.lib.in.us
SUMMARY:Homeschool Craft Swap
DESCRIPTION:
URL:https://sheridan.lib.in.us/event/homeschool-craft-swap/
END:VEVENT
BEGIN:VEVENT
DTSTART;TZID=America/Indiana/Indianapolis:20251009T170000
DTEND;TZID=America/Indiana/Indianapolis:20251009T190000
DTSTAMP:20260422T183232
CREATED:20251001T202600Z
LAST-MODIFIED:20251001T202600Z
UID:30067-1760029200-1760036400@sheridan.lib.in.us
SUMMARY:FAMILY BINGO
DESCRIPTION:
URL:https://sheridan.lib.in.us/event/family-bingo/
END:VEVENT
BEGIN:VEVENT
DTSTART;VALUE=DATE:20251011
DTEND;VALUE=DATE:20251012
DTSTAMP:20260422T183232
CREATED:20241016T134038Z
LAST-MODIFIED:20241016T134038Z
UID:27152-1760140800-1760227199@sheridan.lib.in.us
SUMMARY:Easton O'Malley's 4th Birthday
DESCRIPTION:
URL:https://sheridan.lib.in.us/event/easton-omalleys-4th-birthday/
END:VEVENT
BEGIN:VEVENT
DTSTART;TZID=America/Indiana/Indianapolis:20251012T130000
DTEND;TZID=America/Indiana/Indianapolis:20251012T180000
DTSTAMP:20260422T183232
CREATED:20250904T190743Z
LAST-MODIFIED:20250904T190743Z
UID:29845-1760274000-1760292000@sheridan.lib.in.us
SUMMARY:COLLETT FAMILY GATHERING
DESCRIPTION:
URL:https://sheridan.lib.in.us/event/collett-family-gathering/
END:VEVENT
BEGIN:VEVENT
DTSTART;TZID=America/Indiana/Indianapolis:20251013T103000
DTEND;TZID=America/Indiana/Indianapolis:20251013T120000
DTSTAMP:20260422T183232
CREATED:20251001T201921Z
LAST-MODIFIED:20251001T201921Z
UID:30051-1760351400-1760356800@sheridan.lib.in.us
SUMMARY:Magic Show with Mr. Paul
DESCRIPTION:
URL:https://sheridan.lib.in.us/event/magic-show-with-mr-paul/
END:VEVENT
BEGIN:VEVENT
DTSTART;TZID=America/Indiana/Indianapolis:20251013T180000
DTEND;TZID=America/Indiana/Indianapolis:20251013T180000
DTSTAMP:20260422T183232
CREATED:20241202T213305Z
LAST-MODIFIED:20241202T213305Z
UID:27566-1760378400-1760378400@sheridan.lib.in.us
SUMMARY:LIBRARY BOARD MEETING
DESCRIPTION:
URL:https://sheridan.lib.in.us/event/library-board-meeting-25/
END:VEVENT
BEGIN:VEVENT
DTSTART;TZID=America/Indiana/Indianapolis:20251014T150000
DTEND;TZID=America/Indiana/Indianapolis:20251014T160000
DTSTAMP:20260422T183232
CREATED:20251001T202014Z
LAST-MODIFIED:20251001T202014Z
UID:30053-1760454000-1760457600@sheridan.lib.in.us
SUMMARY:Fire Safety with Sheridan Fire Department
DESCRIPTION:
URL:https://sheridan.lib.in.us/event/fire-safety-with-sheridan-fire-department/
END:VEVENT
BEGIN:VEVENT
DTSTART;TZID=America/Indiana/Indianapolis:20251014T180000
DTEND;TZID=America/Indiana/Indianapolis:20251014T180000
DTSTAMP:20260422T183232
CREATED:20241202T211959Z
LAST-MODIFIED:20241202T211959Z
UID:27530-1760464800-1760464800@sheridan.lib.in.us
SUMMARY:ROTARY
DESCRIPTION:
URL:https://sheridan.lib.in.us/event/rotary-73/
END:VEVENT
END:VCALENDAR