BEGIN:VCALENDAR
VERSION:2.0
PRODID:-//Sheridan Public Library - ECPv6.15.20//NONSGML v1.0//EN
CALSCALE:GREGORIAN
METHOD:PUBLISH
X-ORIGINAL-URL:https://sheridan.lib.in.us
X-WR-CALDESC:Events for Sheridan Public Library
REFRESH-INTERVAL;VALUE=DURATION:PT1H
X-Robots-Tag:noindex
X-PUBLISHED-TTL:PT1H
BEGIN:VTIMEZONE
TZID:America/Indiana/Indianapolis
BEGIN:DAYLIGHT
TZOFFSETFROM:-0500
TZOFFSETTO:-0400
TZNAME:EDT
DTSTART:20240310T070000
END:DAYLIGHT
BEGIN:STANDARD
TZOFFSETFROM:-0400
TZOFFSETTO:-0500
TZNAME:EST
DTSTART:20241103T060000
END:STANDARD
BEGIN:DAYLIGHT
TZOFFSETFROM:-0500
TZOFFSETTO:-0400
TZNAME:EDT
DTSTART:20250309T070000
END:DAYLIGHT
BEGIN:STANDARD
TZOFFSETFROM:-0400
TZOFFSETTO:-0500
TZNAME:EST
DTSTART:20251102T060000
END:STANDARD
BEGIN:DAYLIGHT
TZOFFSETFROM:-0500
TZOFFSETTO:-0400
TZNAME:EDT
DTSTART:20260308T070000
END:DAYLIGHT
BEGIN:STANDARD
TZOFFSETFROM:-0400
TZOFFSETTO:-0500
TZNAME:EST
DTSTART:20261101T060000
END:STANDARD
END:VTIMEZONE
BEGIN:VEVENT
DTSTART;VALUE=DATE:20250816
DTEND;VALUE=DATE:20250817
DTSTAMP:20260422T181741
CREATED:20250402T184046Z
LAST-MODIFIED:20250402T184046Z
UID:28753-1755302400-1755388799@sheridan.lib.in.us
SUMMARY:Riley Family
DESCRIPTION:
URL:https://sheridan.lib.in.us/event/riley-family/
END:VEVENT
BEGIN:VEVENT
DTSTART;TZID=America/Indiana/Indianapolis:20250819T180000
DTEND;TZID=America/Indiana/Indianapolis:20250819T180000
DTSTAMP:20260422T181741
CREATED:20241202T211717Z
LAST-MODIFIED:20241202T211717Z
UID:27518-1755626400-1755626400@sheridan.lib.in.us
SUMMARY:ROTARY
DESCRIPTION:
URL:https://sheridan.lib.in.us/event/rotary-68/
END:VEVENT
BEGIN:VEVENT
DTSTART;TZID=America/Indiana/Indianapolis:20250820T150000
DTEND;TZID=America/Indiana/Indianapolis:20250820T170000
DTSTAMP:20260422T181741
CREATED:20241213T190139Z
LAST-MODIFIED:20241213T190139Z
UID:27760-1755702000-1755709200@sheridan.lib.in.us
SUMMARY:ADULT BINGO
DESCRIPTION:
URL:https://sheridan.lib.in.us/event/adult-bingo-29/
END:VEVENT
BEGIN:VEVENT
DTSTART;TZID=America/Indiana/Indianapolis:20250820T173000
DTEND;TZID=America/Indiana/Indianapolis:20250820T173000
DTSTAMP:20260422T181741
CREATED:20250107T165105Z
LAST-MODIFIED:20250107T165105Z
UID:27887-1755711000-1755711000@sheridan.lib.in.us
SUMMARY:SHERIDAN READERS
DESCRIPTION:
URL:https://sheridan.lib.in.us/event/sheridan-readers-21/
END:VEVENT
BEGIN:VEVENT
DTSTART;TZID=America/Indiana/Indianapolis:20250821T180000
DTEND;TZID=America/Indiana/Indianapolis:20250821T180000
DTSTAMP:20260422T181741
CREATED:20241202T220817Z
LAST-MODIFIED:20241202T220817Z
UID:27657-1755799200-1755799200@sheridan.lib.in.us
SUMMARY:KIWANIS CLUB OF SHERIDAN
DESCRIPTION:
URL:https://sheridan.lib.in.us/event/kiwanis-club-of-sheridan-29/
END:VEVENT
BEGIN:VEVENT
DTSTART;VALUE=DATE:20250823
DTEND;VALUE=DATE:20250824
DTSTAMP:20260422T181741
CREATED:20250623T213615Z
LAST-MODIFIED:20250623T213615Z
UID:29350-1755907200-1755993599@sheridan.lib.in.us
SUMMARY:LAUREN RAILER: BRIDAL SHOWER
DESCRIPTION:
URL:https://sheridan.lib.in.us/event/lauren-railer-bridal-shower/
END:VEVENT
BEGIN:VEVENT
DTSTART;TZID=America/Indiana/Indianapolis:20250825T173000
DTEND;TZID=America/Indiana/Indianapolis:20250825T193000
DTSTAMP:20260422T181741
CREATED:20241125T192511Z
LAST-MODIFIED:20241125T192511Z
UID:27413-1756143000-1756150200@sheridan.lib.in.us
SUMMARY:S-CERT RESPONSE TEAM
DESCRIPTION:
URL:https://sheridan.lib.in.us/event/s-cert-response-team-21/
END:VEVENT
BEGIN:VEVENT
DTSTART;TZID=America/Indiana/Indianapolis:20250826T190000
DTEND;TZID=America/Indiana/Indianapolis:20250826T190000
DTSTAMP:20260422T181741
CREATED:20241202T215558Z
LAST-MODIFIED:20241202T215558Z
UID:27615-1756234800-1756234800@sheridan.lib.in.us
SUMMARY:PHI BETA PSI
DESCRIPTION:
URL:https://sheridan.lib.in.us/event/phi-beta-psi-18/
END:VEVENT
BEGIN:VEVENT
DTSTART;TZID=America/Indiana/Indianapolis:20250827T193000
DTEND;TZID=America/Indiana/Indianapolis:20250827T213000
DTSTAMP:20260422T181741
CREATED:20240926T133734Z
LAST-MODIFIED:20240926T133734Z
UID:26728-1756323000-1756330200@sheridan.lib.in.us
SUMMARY:SHERIDAN RECREATION BOARD
DESCRIPTION:
URL:https://sheridan.lib.in.us/event/sheridan-recreation-board-21/
END:VEVENT
BEGIN:VEVENT
DTSTART;TZID=America/Indiana/Indianapolis:20250902T180000
DTEND;TZID=America/Indiana/Indianapolis:20250902T180000
DTSTAMP:20260422T181741
CREATED:20241202T211751Z
LAST-MODIFIED:20241202T211751Z
UID:27520-1756836000-1756836000@sheridan.lib.in.us
SUMMARY:ROTARY
DESCRIPTION:
URL:https://sheridan.lib.in.us/event/rotary-69/
END:VEVENT
BEGIN:VEVENT
DTSTART;TZID=America/Indiana/Indianapolis:20250903T150000
DTEND;TZID=America/Indiana/Indianapolis:20250903T170000
DTSTAMP:20260422T181741
CREATED:20241213T190326Z
LAST-MODIFIED:20241213T190326Z
UID:27762-1756911600-1756918800@sheridan.lib.in.us
SUMMARY:ADULT BINGO
DESCRIPTION:
URL:https://sheridan.lib.in.us/event/adult-bingo-30/
END:VEVENT
BEGIN:VEVENT
DTSTART;TZID=America/Indiana/Indianapolis:20250903T180000
DTEND;TZID=America/Indiana/Indianapolis:20250903T200000
DTSTAMP:20260422T181741
CREATED:20241202T214226Z
LAST-MODIFIED:20250221T203456Z
UID:27588-1756922400-1756929600@sheridan.lib.in.us
SUMMARY:PINNERS
DESCRIPTION:
URL:https://sheridan.lib.in.us/event/pinners-22/
END:VEVENT
BEGIN:VEVENT
DTSTART;TZID=America/Indiana/Indianapolis:20250904T180000
DTEND;TZID=America/Indiana/Indianapolis:20250904T180000
DTSTAMP:20260422T181741
CREATED:20241202T220845Z
LAST-MODIFIED:20241202T220845Z
UID:27659-1757008800-1757008800@sheridan.lib.in.us
SUMMARY:KIWANIS CLUB OF SHERIDAN
DESCRIPTION:
URL:https://sheridan.lib.in.us/event/kiwanis-club-of-sheridan-30/
END:VEVENT
BEGIN:VEVENT
DTSTART;TZID=America/Indiana/Indianapolis:20250905T090000
DTEND;TZID=America/Indiana/Indianapolis:20250905T150000
DTSTAMP:20260422T181741
CREATED:20250829T184420Z
LAST-MODIFIED:20250829T184514Z
UID:29784-1757062800-1757084400@sheridan.lib.in.us
SUMMARY:SCS/SPD
DESCRIPTION:
URL:https://sheridan.lib.in.us/event/scs-spd/
END:VEVENT
BEGIN:VEVENT
DTSTART;TZID=America/Indiana/Indianapolis:20250908T130000
DTEND;TZID=America/Indiana/Indianapolis:20250908T190000
DTSTAMP:20260422T181741
CREATED:20241213T165821Z
LAST-MODIFIED:20241213T165821Z
UID:27726-1757336400-1757358000@sheridan.lib.in.us
SUMMARY:BLOOD DRIVE
DESCRIPTION:
URL:https://sheridan.lib.in.us/event/blood-drive-7/
END:VEVENT
BEGIN:VEVENT
DTSTART;TZID=America/Indiana/Indianapolis:20250908T180000
DTEND;TZID=America/Indiana/Indianapolis:20250908T180000
DTSTAMP:20260422T181741
CREATED:20241202T213234Z
LAST-MODIFIED:20241202T213234Z
UID:27564-1757354400-1757354400@sheridan.lib.in.us
SUMMARY:LIBRARY BOARD MEETING
DESCRIPTION:
URL:https://sheridan.lib.in.us/event/library-board-meeting-24/
END:VEVENT
BEGIN:VEVENT
DTSTART;TZID=America/Indiana/Indianapolis:20250909T143000
DTEND;TZID=America/Indiana/Indianapolis:20250909T173000
DTSTAMP:20260422T181741
CREATED:20250825T151717Z
LAST-MODIFIED:20250825T151717Z
UID:29754-1757428200-1757439000@sheridan.lib.in.us
SUMMARY:Teen Crafternoon
DESCRIPTION:
URL:https://sheridan.lib.in.us/event/teen-crafternoon-2/
END:VEVENT
BEGIN:VEVENT
DTSTART;TZID=America/Indiana/Indianapolis:20250909T180000
DTEND;TZID=America/Indiana/Indianapolis:20250909T180000
DTSTAMP:20260422T181741
CREATED:20241202T211819Z
LAST-MODIFIED:20241202T211819Z
UID:27522-1757440800-1757440800@sheridan.lib.in.us
SUMMARY:ROTARY
DESCRIPTION:
URL:https://sheridan.lib.in.us/event/rotary-70/
END:VEVENT
BEGIN:VEVENT
DTSTART;TZID=America/Indiana/Indianapolis:20250910T180000
DTEND;TZID=America/Indiana/Indianapolis:20250910T200000
DTSTAMP:20260422T181741
CREATED:20250123T203729Z
LAST-MODIFIED:20250123T203729Z
UID:28150-1757527200-1757534400@sheridan.lib.in.us
SUMMARY:MEDICARE EDUCATION: ROBERT OWEN
DESCRIPTION:
URL:https://sheridan.lib.in.us/event/medicare-education-robert-owen-8/
END:VEVENT
BEGIN:VEVENT
DTSTART;TZID=America/Indiana/Indianapolis:20250911T103000
DTEND;TZID=America/Indiana/Indianapolis:20250911T113000
DTSTAMP:20260422T181741
CREATED:20250814T174938Z
LAST-MODIFIED:20250814T174938Z
UID:29686-1757586600-1757590200@sheridan.lib.in.us
SUMMARY:Homeschooling meet-up
DESCRIPTION:
URL:https://sheridan.lib.in.us/event/homeschooling-meet-up-3/
END:VEVENT
BEGIN:VEVENT
DTSTART;TZID=America/Indiana/Indianapolis:20250913T090000
DTEND;TZID=America/Indiana/Indianapolis:20250913T130000
DTSTAMP:20260422T181741
CREATED:20250703T200637Z
LAST-MODIFIED:20250703T200637Z
UID:29463-1757754000-1757768400@sheridan.lib.in.us
SUMMARY:KIWANIS CLUB OF SHERIDAN
DESCRIPTION:
URL:https://sheridan.lib.in.us/event/kiwanis-club-of-sheridan-15/
END:VEVENT
BEGIN:VEVENT
DTSTART;TZID=America/Indiana/Indianapolis:20250916T143000
DTEND;TZID=America/Indiana/Indianapolis:20250916T173000
DTSTAMP:20260422T181741
CREATED:20250825T151814Z
LAST-MODIFIED:20250825T151814Z
UID:29756-1758033000-1758043800@sheridan.lib.in.us
SUMMARY:AUTHOR VISIT
DESCRIPTION:
URL:https://sheridan.lib.in.us/event/author-visit/
END:VEVENT
BEGIN:VEVENT
DTSTART;TZID=America/Indiana/Indianapolis:20250916T180000
DTEND;TZID=America/Indiana/Indianapolis:20250916T180000
DTSTAMP:20260422T181741
CREATED:20241202T211851Z
LAST-MODIFIED:20241202T211851Z
UID:27525-1758045600-1758045600@sheridan.lib.in.us
SUMMARY:ROTARY
DESCRIPTION:
URL:https://sheridan.lib.in.us/event/rotary-71/
END:VEVENT
BEGIN:VEVENT
DTSTART;TZID=America/Indiana/Indianapolis:20250917T150000
DTEND;TZID=America/Indiana/Indianapolis:20250917T170000
DTSTAMP:20260422T181741
CREATED:20241213T190356Z
LAST-MODIFIED:20241213T190428Z
UID:27764-1758121200-1758128400@sheridan.lib.in.us
SUMMARY:ADULT BINGO
DESCRIPTION:
URL:https://sheridan.lib.in.us/event/adult-bingo-31/
END:VEVENT
BEGIN:VEVENT
DTSTART;TZID=America/Indiana/Indianapolis:20250917T173000
DTEND;TZID=America/Indiana/Indianapolis:20250917T173000
DTSTAMP:20260422T181741
CREATED:20250107T165135Z
LAST-MODIFIED:20250107T165135Z
UID:27889-1758130200-1758130200@sheridan.lib.in.us
SUMMARY:SHERIDAN READERS
DESCRIPTION:
URL:https://sheridan.lib.in.us/event/sheridan-readers-22/
END:VEVENT
BEGIN:VEVENT
DTSTART;TZID=America/Indiana/Indianapolis:20250918T180000
DTEND;TZID=America/Indiana/Indianapolis:20250918T180000
DTSTAMP:20260422T181741
CREATED:20241202T220924Z
LAST-MODIFIED:20241202T220924Z
UID:27661-1758218400-1758218400@sheridan.lib.in.us
SUMMARY:KIWANIS CLUB OF SHERIDAN
DESCRIPTION:
URL:https://sheridan.lib.in.us/event/kiwanis-club-of-sheridan-31/
END:VEVENT
BEGIN:VEVENT
DTSTART;VALUE=DATE:20250920
DTEND;VALUE=DATE:20250921
DTSTAMP:20260422T181741
CREATED:20250605T204815Z
LAST-MODIFIED:20250605T204815Z
UID:29296-1758326400-1758412799@sheridan.lib.in.us
SUMMARY:EDEN BABY SHOWER
DESCRIPTION:
URL:https://sheridan.lib.in.us/event/eden-baby-shower/
END:VEVENT
BEGIN:VEVENT
DTSTART;VALUE=DATE:20250921
DTEND;VALUE=DATE:20250922
DTSTAMP:20260422T181741
CREATED:20240916T154408Z
LAST-MODIFIED:20240916T154408Z
UID:26559-1758412800-1758499199@sheridan.lib.in.us
SUMMARY:Kinkead Family
DESCRIPTION:
URL:https://sheridan.lib.in.us/event/kinkead-family-2/
END:VEVENT
BEGIN:VEVENT
DTSTART;TZID=America/Indiana/Indianapolis:20250922T080000
DTEND;TZID=America/Indiana/Indianapolis:20250922T110000
DTSTAMP:20260422T181741
CREATED:20250725T150110Z
LAST-MODIFIED:20250725T150209Z
UID:29617-1758528000-1758538800@sheridan.lib.in.us
SUMMARY:Backflow Class
DESCRIPTION:
URL:https://sheridan.lib.in.us/event/backflow-class-8am-11am/
END:VEVENT
BEGIN:VEVENT
DTSTART;TZID=America/Indiana/Indianapolis:20250922T173000
DTEND;TZID=America/Indiana/Indianapolis:20250922T193000
DTSTAMP:20260422T181741
CREATED:20241125T192535Z
LAST-MODIFIED:20241125T192535Z
UID:27415-1758562200-1758569400@sheridan.lib.in.us
SUMMARY:S-CERT RESPONSE TEAM
DESCRIPTION:
URL:https://sheridan.lib.in.us/event/s-cert-response-team-22/
END:VEVENT
END:VCALENDAR