BEGIN:VCALENDAR
VERSION:2.0
PRODID:-//Sheridan Public Library - ECPv6.15.20//NONSGML v1.0//EN
CALSCALE:GREGORIAN
METHOD:PUBLISH
X-ORIGINAL-URL:https://sheridan.lib.in.us
X-WR-CALDESC:Events for Sheridan Public Library
REFRESH-INTERVAL;VALUE=DURATION:PT1H
X-Robots-Tag:noindex
X-PUBLISHED-TTL:PT1H
BEGIN:VTIMEZONE
TZID:America/Indiana/Indianapolis
BEGIN:DAYLIGHT
TZOFFSETFROM:-0500
TZOFFSETTO:-0400
TZNAME:EDT
DTSTART:20240310T070000
END:DAYLIGHT
BEGIN:STANDARD
TZOFFSETFROM:-0400
TZOFFSETTO:-0500
TZNAME:EST
DTSTART:20241103T060000
END:STANDARD
BEGIN:DAYLIGHT
TZOFFSETFROM:-0500
TZOFFSETTO:-0400
TZNAME:EDT
DTSTART:20250309T070000
END:DAYLIGHT
BEGIN:STANDARD
TZOFFSETFROM:-0400
TZOFFSETTO:-0500
TZNAME:EST
DTSTART:20251102T060000
END:STANDARD
BEGIN:DAYLIGHT
TZOFFSETFROM:-0500
TZOFFSETTO:-0400
TZNAME:EDT
DTSTART:20260308T070000
END:DAYLIGHT
BEGIN:STANDARD
TZOFFSETFROM:-0400
TZOFFSETTO:-0500
TZNAME:EST
DTSTART:20261101T060000
END:STANDARD
END:VTIMEZONE
BEGIN:VEVENT
DTSTART;TZID=America/Indiana/Indianapolis:20250606T110000
DTEND;TZID=America/Indiana/Indianapolis:20250606T160000
DTSTAMP:20260422T181817
CREATED:20250417T195956Z
LAST-MODIFIED:20250417T195956Z
UID:28912-1749207600-1749225600@sheridan.lib.in.us
SUMMARY:TABLETOP GAMES
DESCRIPTION:
URL:https://sheridan.lib.in.us/event/tabletop-games/
END:VEVENT
BEGIN:VEVENT
DTSTART;VALUE=DATE:20250607
DTEND;VALUE=DATE:20250608
DTSTAMP:20260422T181817
CREATED:20241106T171058Z
LAST-MODIFIED:20241106T171058Z
UID:27273-1749254400-1749340799@sheridan.lib.in.us
SUMMARY:Bill Hinshaw's 90th Birthday
DESCRIPTION:
URL:https://sheridan.lib.in.us/event/bill-hinshaws-90th-birthday/
END:VEVENT
BEGIN:VEVENT
DTSTART;TZID=America/Indiana/Indianapolis:20250609T180000
DTEND;TZID=America/Indiana/Indianapolis:20250609T180000
DTSTAMP:20260422T181817
CREATED:20241202T212940Z
LAST-MODIFIED:20241202T212940Z
UID:27558-1749492000-1749492000@sheridan.lib.in.us
SUMMARY:LIBRARY BOARD MEETING
DESCRIPTION:
URL:https://sheridan.lib.in.us/event/library-board-meeting-21/
END:VEVENT
BEGIN:VEVENT
DTSTART;TZID=America/Indiana/Indianapolis:20250610T180000
DTEND;TZID=America/Indiana/Indianapolis:20250610T180000
DTSTAMP:20260422T181817
CREATED:20241202T211326Z
LAST-MODIFIED:20241202T211326Z
UID:27504-1749578400-1749578400@sheridan.lib.in.us
SUMMARY:ROTARY
DESCRIPTION:
URL:https://sheridan.lib.in.us/event/rotary-61/
END:VEVENT
BEGIN:VEVENT
DTSTART;TZID=America/Indiana/Indianapolis:20250613T080000
DTEND;TZID=America/Indiana/Indianapolis:20250613T160000
DTSTAMP:20260422T181817
CREATED:20250417T200236Z
LAST-MODIFIED:20250417T200236Z
UID:28916-1749801600-1749830400@sheridan.lib.in.us
SUMMARY:OBSTACLE COURSE
DESCRIPTION:
URL:https://sheridan.lib.in.us/event/obstacle-course/
END:VEVENT
BEGIN:VEVENT
DTSTART;VALUE=DATE:20250614
DTEND;VALUE=DATE:20250615
DTSTAMP:20260422T181817
CREATED:20250404T192710Z
LAST-MODIFIED:20250404T192710Z
UID:28764-1749859200-1749945599@sheridan.lib.in.us
SUMMARY:Annie Hayes 2nd Birthday
DESCRIPTION:
URL:https://sheridan.lib.in.us/event/annie-hayes-2nd-birthday/
END:VEVENT
BEGIN:VEVENT
DTSTART;TZID=America/Indiana/Indianapolis:20250616T103000
DTEND;TZID=America/Indiana/Indianapolis:20250616T113000
DTSTAMP:20260422T181817
CREATED:20250417T201521Z
LAST-MODIFIED:20250417T201521Z
UID:28928-1750069800-1750073400@sheridan.lib.in.us
SUMMARY:DANCE PARTY
DESCRIPTION:
URL:https://sheridan.lib.in.us/event/dance-party/
END:VEVENT
BEGIN:VEVENT
DTSTART;TZID=America/Indiana/Indianapolis:20250617T180000
DTEND;TZID=America/Indiana/Indianapolis:20250617T180000
DTSTAMP:20260422T181817
CREATED:20241202T211401Z
LAST-MODIFIED:20241202T211401Z
UID:27506-1750183200-1750183200@sheridan.lib.in.us
SUMMARY:ROTARY
DESCRIPTION:
URL:https://sheridan.lib.in.us/event/rotary-62/
END:VEVENT
BEGIN:VEVENT
DTSTART;TZID=America/Indiana/Indianapolis:20250618T150000
DTEND;TZID=America/Indiana/Indianapolis:20250618T170000
DTSTAMP:20260422T181817
CREATED:20241213T185830Z
LAST-MODIFIED:20241213T185830Z
UID:27752-1750258800-1750266000@sheridan.lib.in.us
SUMMARY:ADULT BINGO
DESCRIPTION:
URL:https://sheridan.lib.in.us/event/adult-bingo-25/
END:VEVENT
BEGIN:VEVENT
DTSTART;TZID=America/Indiana/Indianapolis:20250618T173000
DTEND;TZID=America/Indiana/Indianapolis:20250618T173000
DTSTAMP:20260422T181817
CREATED:20250107T165013Z
LAST-MODIFIED:20250107T165013Z
UID:27883-1750267800-1750267800@sheridan.lib.in.us
SUMMARY:SHERIDAN READERS
DESCRIPTION:
URL:https://sheridan.lib.in.us/event/sheridan-readers-19/
END:VEVENT
BEGIN:VEVENT
DTSTART;TZID=America/Indiana/Indianapolis:20250619T180000
DTEND;TZID=America/Indiana/Indianapolis:20250619T180000
DTSTAMP:20260422T181817
CREATED:20241202T220627Z
LAST-MODIFIED:20241202T220627Z
UID:27649-1750356000-1750356000@sheridan.lib.in.us
SUMMARY:KIWANIS CLUB OF SHERIDAN
DESCRIPTION:
URL:https://sheridan.lib.in.us/event/kiwanis-club-of-sheridan-25/
END:VEVENT
BEGIN:VEVENT
DTSTART;VALUE=DATE:20250621
DTEND;VALUE=DATE:20250622
DTSTAMP:20260422T181817
CREATED:20250325T225656Z
LAST-MODIFIED:20250606T141805Z
UID:28695-1750464000-1750550399@sheridan.lib.in.us
SUMMARY:MAULDEN BRIDAL SHOWER
DESCRIPTION:
URL:https://sheridan.lib.in.us/event/maulden-baby-shower/
END:VEVENT
BEGIN:VEVENT
DTSTART;VALUE=DATE:20250622
DTEND;VALUE=DATE:20250623
DTSTAMP:20260422T181817
CREATED:20241108T170344Z
LAST-MODIFIED:20241108T170344Z
UID:27279-1750550400-1750636799@sheridan.lib.in.us
SUMMARY:Jones Family
DESCRIPTION:
URL:https://sheridan.lib.in.us/event/jones-family/
END:VEVENT
BEGIN:VEVENT
DTSTART;TZID=America/Indiana/Indianapolis:20250623T110000
DTEND;TZID=America/Indiana/Indianapolis:20250623T160000
DTSTAMP:20260422T181817
CREATED:20250417T201643Z
LAST-MODIFIED:20250417T201643Z
UID:28933-1750676400-1750694400@sheridan.lib.in.us
SUMMARY:DROP IN PLAY
DESCRIPTION:
URL:https://sheridan.lib.in.us/event/drop-in-play/
END:VEVENT
BEGIN:VEVENT
DTSTART;TZID=America/Indiana/Indianapolis:20250623T173000
DTEND;TZID=America/Indiana/Indianapolis:20250623T193000
DTSTAMP:20260422T181817
CREATED:20241125T192329Z
LAST-MODIFIED:20241125T192329Z
UID:27409-1750699800-1750707000@sheridan.lib.in.us
SUMMARY:S-CERT RESPONSE TEAM
DESCRIPTION:
URL:https://sheridan.lib.in.us/event/s-cert-response-team-19/
END:VEVENT
BEGIN:VEVENT
DTSTART;TZID=America/Indiana/Indianapolis:20250624T173000
DTEND;TZID=America/Indiana/Indianapolis:20250624T183000
DTSTAMP:20260422T181817
CREATED:20250417T194840Z
LAST-MODIFIED:20250417T194840Z
UID:28909-1750786200-1750789800@sheridan.lib.in.us
SUMMARY:DISNEY TRIVIA NIGHT
DESCRIPTION:
URL:https://sheridan.lib.in.us/event/disney-trivia-night/
END:VEVENT
BEGIN:VEVENT
DTSTART;TZID=America/Indiana/Indianapolis:20250624T190000
DTEND;TZID=America/Indiana/Indianapolis:20250624T210000
DTSTAMP:20260422T181817
CREATED:20250529T193629Z
LAST-MODIFIED:20250529T193629Z
UID:29257-1750791600-1750798800@sheridan.lib.in.us
SUMMARY:PHI BETA PSI: CATHY GOOD
DESCRIPTION:
URL:https://sheridan.lib.in.us/event/phi-beta-psi-cathy-good/
END:VEVENT
BEGIN:VEVENT
DTSTART;TZID=America/Indiana/Indianapolis:20250625T193000
DTEND;TZID=America/Indiana/Indianapolis:20250625T213000
DTSTAMP:20260422T181817
CREATED:20240926T133640Z
LAST-MODIFIED:20240926T133640Z
UID:26724-1750879800-1750887000@sheridan.lib.in.us
SUMMARY:SHERIDAN RECREATION BOARD
DESCRIPTION:
URL:https://sheridan.lib.in.us/event/sheridan-recreation-board-19/
END:VEVENT
BEGIN:VEVENT
DTSTART;VALUE=DATE:20250627
DTEND;VALUE=DATE:20250628
DTSTAMP:20260422T181817
CREATED:20250328T181234Z
LAST-MODIFIED:20250328T181234Z
UID:28708-1750982400-1751068799@sheridan.lib.in.us
SUMMARY:CAREGIVER QUARTERLY MEETING
DESCRIPTION:
URL:https://sheridan.lib.in.us/event/caregiver-quarterly-meeting/
END:VEVENT
BEGIN:VEVENT
DTSTART;TZID=America/Indiana/Indianapolis:20250627T110000
DTEND;TZID=America/Indiana/Indianapolis:20250627T160000
DTSTAMP:20260422T181817
CREATED:20250418T151419Z
LAST-MODIFIED:20250418T151523Z
UID:28945-1751022000-1751040000@sheridan.lib.in.us
SUMMARY:TABLETOP GAMES
DESCRIPTION:
URL:https://sheridan.lib.in.us/event/tabletop-games-2/
END:VEVENT
BEGIN:VEVENT
DTSTART;TZID=America/Indiana/Indianapolis:20250701T160000
DTEND;TZID=America/Indiana/Indianapolis:20250701T170000
DTSTAMP:20260422T181817
CREATED:20250417T200907Z
LAST-MODIFIED:20250417T200943Z
UID:28923-1751385600-1751389200@sheridan.lib.in.us
SUMMARY:TAPE RESIST ART
DESCRIPTION:
URL:https://sheridan.lib.in.us/event/tape-resist-art/
END:VEVENT
BEGIN:VEVENT
DTSTART;TZID=America/Indiana/Indianapolis:20250701T180000
DTEND;TZID=America/Indiana/Indianapolis:20250701T180000
DTSTAMP:20260422T181817
CREATED:20241202T211441Z
LAST-MODIFIED:20241202T211441Z
UID:27508-1751392800-1751392800@sheridan.lib.in.us
SUMMARY:ROTARY
DESCRIPTION:
URL:https://sheridan.lib.in.us/event/rotary-63/
END:VEVENT
BEGIN:VEVENT
DTSTART;TZID=America/Indiana/Indianapolis:20250702T150000
DTEND;TZID=America/Indiana/Indianapolis:20250702T170000
DTSTAMP:20260422T181817
CREATED:20241213T185854Z
LAST-MODIFIED:20241213T185854Z
UID:27754-1751468400-1751475600@sheridan.lib.in.us
SUMMARY:ADULT BINGO
DESCRIPTION:
URL:https://sheridan.lib.in.us/event/adult-bingo-26/
END:VEVENT
BEGIN:VEVENT
DTSTART;TZID=America/Indiana/Indianapolis:20250703T180000
DTEND;TZID=America/Indiana/Indianapolis:20250703T180000
DTSTAMP:20260422T181817
CREATED:20241202T220649Z
LAST-MODIFIED:20241202T220649Z
UID:27651-1751565600-1751565600@sheridan.lib.in.us
SUMMARY:KIWANIS CLUB OF SHERIDAN
DESCRIPTION:
URL:https://sheridan.lib.in.us/event/kiwanis-club-of-sheridan-26/
END:VEVENT
BEGIN:VEVENT
DTSTART;TZID=America/Indiana/Indianapolis:20250708T180000
DTEND;TZID=America/Indiana/Indianapolis:20250708T180000
DTSTAMP:20260422T181817
CREATED:20241202T211515Z
LAST-MODIFIED:20241202T211515Z
UID:27510-1751997600-1751997600@sheridan.lib.in.us
SUMMARY:ROTARY
DESCRIPTION:
URL:https://sheridan.lib.in.us/event/rotary-64/
END:VEVENT
BEGIN:VEVENT
DTSTART;TZID=America/Indiana/Indianapolis:20250711T110000
DTEND;TZID=America/Indiana/Indianapolis:20250711T160000
DTSTAMP:20260422T181817
CREATED:20250417T200448Z
LAST-MODIFIED:20250417T200448Z
UID:28919-1752231600-1752249600@sheridan.lib.in.us
SUMMARY:DROP IN ART STUDIO
DESCRIPTION:
URL:https://sheridan.lib.in.us/event/drop-in-art-studio/
END:VEVENT
BEGIN:VEVENT
DTSTART;VALUE=DATE:20250712
DTEND;VALUE=DATE:20250713
DTSTAMP:20260422T181817
CREATED:20250529T201020Z
LAST-MODIFIED:20250529T201020Z
UID:29259-1752278400-1752364799@sheridan.lib.in.us
SUMMARY:CAROL MILLER: BRIDAL SHOWER
DESCRIPTION:
URL:https://sheridan.lib.in.us/event/carol-miller-bridal-shower/
END:VEVENT
BEGIN:VEVENT
DTSTART;TZID=America/Indiana/Indianapolis:20250714T180000
DTEND;TZID=America/Indiana/Indianapolis:20250714T180000
DTSTAMP:20260422T181817
CREATED:20241202T213124Z
LAST-MODIFIED:20241202T213124Z
UID:27560-1752516000-1752516000@sheridan.lib.in.us
SUMMARY:LIBRARY BOARD MEETING
DESCRIPTION:
URL:https://sheridan.lib.in.us/event/library-board-meeting-22/
END:VEVENT
BEGIN:VEVENT
DTSTART;TZID=America/Indiana/Indianapolis:20250715T180000
DTEND;TZID=America/Indiana/Indianapolis:20250715T180000
DTSTAMP:20260422T181817
CREATED:20241202T211545Z
LAST-MODIFIED:20241202T211545Z
UID:27512-1752602400-1752602400@sheridan.lib.in.us
SUMMARY:ROTARY
DESCRIPTION:
URL:https://sheridan.lib.in.us/event/rotary-65/
END:VEVENT
BEGIN:VEVENT
DTSTART;TZID=America/Indiana/Indianapolis:20250716T150000
DTEND;TZID=America/Indiana/Indianapolis:20250716T170000
DTSTAMP:20260422T181817
CREATED:20241213T185923Z
LAST-MODIFIED:20241213T185923Z
UID:27756-1752678000-1752685200@sheridan.lib.in.us
SUMMARY:ADULT BINGO
DESCRIPTION:
URL:https://sheridan.lib.in.us/event/adult-bingo-27/
END:VEVENT
END:VCALENDAR