BEGIN:VCALENDAR
VERSION:2.0
PRODID:-//Sheridan Public Library - ECPv6.15.20//NONSGML v1.0//EN
CALSCALE:GREGORIAN
METHOD:PUBLISH
X-ORIGINAL-URL:https://sheridan.lib.in.us
X-WR-CALDESC:Events for Sheridan Public Library
REFRESH-INTERVAL;VALUE=DURATION:PT1H
X-Robots-Tag:noindex
X-PUBLISHED-TTL:PT1H
BEGIN:VTIMEZONE
TZID:America/Indiana/Indianapolis
BEGIN:DAYLIGHT
TZOFFSETFROM:-0500
TZOFFSETTO:-0400
TZNAME:EDT
DTSTART:20240310T070000
END:DAYLIGHT
BEGIN:STANDARD
TZOFFSETFROM:-0400
TZOFFSETTO:-0500
TZNAME:EST
DTSTART:20241103T060000
END:STANDARD
BEGIN:DAYLIGHT
TZOFFSETFROM:-0500
TZOFFSETTO:-0400
TZNAME:EDT
DTSTART:20250309T070000
END:DAYLIGHT
BEGIN:STANDARD
TZOFFSETFROM:-0400
TZOFFSETTO:-0500
TZNAME:EST
DTSTART:20251102T060000
END:STANDARD
BEGIN:DAYLIGHT
TZOFFSETFROM:-0500
TZOFFSETTO:-0400
TZNAME:EDT
DTSTART:20260308T070000
END:DAYLIGHT
BEGIN:STANDARD
TZOFFSETFROM:-0400
TZOFFSETTO:-0500
TZNAME:EST
DTSTART:20261101T060000
END:STANDARD
END:VTIMEZONE
BEGIN:VEVENT
DTSTART;TZID=America/Indiana/Indianapolis:20250319T080000
DTEND;TZID=America/Indiana/Indianapolis:20250319T110000
DTSTAMP:20260422T181758
CREATED:20250107T212321Z
LAST-MODIFIED:20250107T212321Z
UID:27943-1742371200-1742382000@sheridan.lib.in.us
SUMMARY:BACKFLOW CLASS
DESCRIPTION:
URL:https://sheridan.lib.in.us/event/backflow-class-53/
END:VEVENT
BEGIN:VEVENT
DTSTART;TZID=America/Indiana/Indianapolis:20250319T150000
DTEND;TZID=America/Indiana/Indianapolis:20250319T170000
DTSTAMP:20260422T181758
CREATED:20241213T185436Z
LAST-MODIFIED:20241213T185436Z
UID:27740-1742396400-1742403600@sheridan.lib.in.us
SUMMARY:ADULT BINGO
DESCRIPTION:
URL:https://sheridan.lib.in.us/event/adult-bingo-19/
END:VEVENT
BEGIN:VEVENT
DTSTART;TZID=America/Indiana/Indianapolis:20250319T173000
DTEND;TZID=America/Indiana/Indianapolis:20250319T173000
DTSTAMP:20260422T181758
CREATED:20250107T164531Z
LAST-MODIFIED:20250107T164807Z
UID:27875-1742405400-1742405400@sheridan.lib.in.us
SUMMARY:SHERIDAN READERS
DESCRIPTION:
URL:https://sheridan.lib.in.us/event/sheridan-readers-16/
END:VEVENT
BEGIN:VEVENT
DTSTART;TZID=America/Indiana/Indianapolis:20250320T080000
DTEND;TZID=America/Indiana/Indianapolis:20250320T110000
DTSTAMP:20260422T181758
CREATED:20250107T213808Z
LAST-MODIFIED:20250107T213808Z
UID:27947-1742457600-1742468400@sheridan.lib.in.us
SUMMARY:BACKFLOW CLASS
DESCRIPTION:
URL:https://sheridan.lib.in.us/event/backflow-class-54/
END:VEVENT
BEGIN:VEVENT
DTSTART;TZID=America/Indiana/Indianapolis:20250320T180000
DTEND;TZID=America/Indiana/Indianapolis:20250320T180000
DTSTAMP:20260422T181758
CREATED:20241202T220338Z
LAST-MODIFIED:20241202T220338Z
UID:27637-1742493600-1742493600@sheridan.lib.in.us
SUMMARY:KIWANIS CLUB OF SHERIDAN
DESCRIPTION:
URL:https://sheridan.lib.in.us/event/kiwanis-club-of-sheridan-19/
END:VEVENT
BEGIN:VEVENT
DTSTART;TZID=America/Indiana/Indianapolis:20250321T080000
DTEND;TZID=America/Indiana/Indianapolis:20250321T120000
DTSTAMP:20260422T181758
CREATED:20250107T213832Z
LAST-MODIFIED:20250107T213832Z
UID:27949-1742544000-1742558400@sheridan.lib.in.us
SUMMARY:BACKFLOW CLASS
DESCRIPTION:
URL:https://sheridan.lib.in.us/event/backflow-class-55/
END:VEVENT
BEGIN:VEVENT
DTSTART;TZID=America/Indiana/Indianapolis:20250322T110000
DTEND;TZID=America/Indiana/Indianapolis:20250322T130000
DTSTAMP:20260422T181758
CREATED:20250210T170159Z
LAST-MODIFIED:20250210T170159Z
UID:28341-1742641200-1742648400@sheridan.lib.in.us
SUMMARY:STEAM Spectacular
DESCRIPTION:
URL:https://sheridan.lib.in.us/event/steam-spectacular/
END:VEVENT
BEGIN:VEVENT
DTSTART;TZID=America/Indiana/Indianapolis:20250322T150000
DTEND;TZID=America/Indiana/Indianapolis:20250322T210000
DTSTAMP:20260422T181758
CREATED:20250304T183549Z
LAST-MODIFIED:20250304T183549Z
UID:28497-1742655600-1742677200@sheridan.lib.in.us
SUMMARY:DOTY BIRTHDAY PARTY
DESCRIPTION:
URL:https://sheridan.lib.in.us/event/doty-birthday-party/
END:VEVENT
BEGIN:VEVENT
DTSTART;TZID=America/Indiana/Indianapolis:20250323T130000
DTEND;TZID=America/Indiana/Indianapolis:20250323T150000
DTSTAMP:20260422T181758
CREATED:20250103T170353Z
LAST-MODIFIED:20250103T170353Z
UID:27858-1742734800-1742742000@sheridan.lib.in.us
SUMMARY:Barnes Bridal Shower
DESCRIPTION:
URL:https://sheridan.lib.in.us/event/barnes-bridal-shower/
END:VEVENT
BEGIN:VEVENT
DTSTART;TZID=America/Indiana/Indianapolis:20250324T173000
DTEND;TZID=America/Indiana/Indianapolis:20250324T193000
DTSTAMP:20260422T181758
CREATED:20241125T192215Z
LAST-MODIFIED:20241125T192215Z
UID:27403-1742837400-1742844600@sheridan.lib.in.us
SUMMARY:S-CERT RESPONSE TEAM
DESCRIPTION:
URL:https://sheridan.lib.in.us/event/s-cert-response-team-15/
END:VEVENT
BEGIN:VEVENT
DTSTART;TZID=America/Indiana/Indianapolis:20250325T190000
DTEND;TZID=America/Indiana/Indianapolis:20250325T190000
DTSTAMP:20260422T181758
CREATED:20241202T215152Z
LAST-MODIFIED:20241202T215152Z
UID:27605-1742929200-1742929200@sheridan.lib.in.us
SUMMARY:PHI BETA PSI
DESCRIPTION:
URL:https://sheridan.lib.in.us/event/phi-beta-psi-10/
END:VEVENT
BEGIN:VEVENT
DTSTART;TZID=America/Indiana/Indianapolis:20250326T193000
DTEND;TZID=America/Indiana/Indianapolis:20250326T213000
DTSTAMP:20260422T181758
CREATED:20240926T133518Z
LAST-MODIFIED:20240926T133518Z
UID:26718-1743017400-1743024600@sheridan.lib.in.us
SUMMARY:SHERIDAN RECREATION BOARD
DESCRIPTION:
URL:https://sheridan.lib.in.us/event/sheridan-recreation-board-16/
END:VEVENT
BEGIN:VEVENT
DTSTART;TZID=America/Indiana/Indianapolis:20250327T180000
DTEND;TZID=America/Indiana/Indianapolis:20250327T200000
DTSTAMP:20260422T181758
CREATED:20250114T200719Z
LAST-MODIFIED:20250114T201314Z
UID:28063-1743098400-1743105600@sheridan.lib.in.us
SUMMARY:MEDICARE EDUCATION: ROBERT OWEN
DESCRIPTION:
URL:https://sheridan.lib.in.us/event/medicare-education-robert-owen-2/
END:VEVENT
BEGIN:VEVENT
DTSTART;TZID=America/Indiana/Indianapolis:20250328T100000
DTEND;TZID=America/Indiana/Indianapolis:20250328T150000
DTSTAMP:20260422T181758
CREATED:20240913T175430Z
LAST-MODIFIED:20250228T173010Z
UID:26556-1743156000-1743174000@sheridan.lib.in.us
SUMMARY:Caregiver Inc.
DESCRIPTION:
URL:https://sheridan.lib.in.us/event/caregiver-inc-3/
END:VEVENT
BEGIN:VEVENT
DTSTART;TZID=America/Indiana/Indianapolis:20250401T150000
DTEND;TZID=America/Indiana/Indianapolis:20250401T170000
DTSTAMP:20260422T181758
CREATED:20250304T201647Z
LAST-MODIFIED:20250304T201704Z
UID:28501-1743519600-1743526800@sheridan.lib.in.us
SUMMARY:INTERACTIVE MOVIE
DESCRIPTION:
URL:https://sheridan.lib.in.us/event/interactive-movie/
END:VEVENT
BEGIN:VEVENT
DTSTART;TZID=America/Indiana/Indianapolis:20250401T180000
DTEND;TZID=America/Indiana/Indianapolis:20250401T180000
DTSTAMP:20260422T181758
CREATED:20241202T210948Z
LAST-MODIFIED:20241202T210948Z
UID:27492-1743530400-1743530400@sheridan.lib.in.us
SUMMARY:ROTARY
DESCRIPTION:
URL:https://sheridan.lib.in.us/event/rotary-55/
END:VEVENT
BEGIN:VEVENT
DTSTART;TZID=America/Indiana/Indianapolis:20250402T150000
DTEND;TZID=America/Indiana/Indianapolis:20250402T170000
DTSTAMP:20260422T181758
CREATED:20241213T185454Z
LAST-MODIFIED:20241213T185454Z
UID:27742-1743606000-1743613200@sheridan.lib.in.us
SUMMARY:ADULT BINGO
DESCRIPTION:
URL:https://sheridan.lib.in.us/event/adult-bingo-20/
END:VEVENT
BEGIN:VEVENT
DTSTART;TZID=America/Indiana/Indianapolis:20250403T110000
DTEND;TZID=America/Indiana/Indianapolis:20250403T160000
DTSTAMP:20260422T181758
CREATED:20250304T195624Z
LAST-MODIFIED:20250304T195910Z
UID:28499-1743678000-1743696000@sheridan.lib.in.us
SUMMARY:DROP IN FAMILY GAME DAY
DESCRIPTION:
URL:https://sheridan.lib.in.us/event/drop-in-family-game-day/
END:VEVENT
BEGIN:VEVENT
DTSTART;TZID=America/Indiana/Indianapolis:20250403T180000
DTEND;TZID=America/Indiana/Indianapolis:20250403T180000
DTSTAMP:20260422T181758
CREATED:20241202T220400Z
LAST-MODIFIED:20241202T220400Z
UID:27639-1743703200-1743703200@sheridan.lib.in.us
SUMMARY:KIWANIS CLUB OF SHERIDAN
DESCRIPTION:
URL:https://sheridan.lib.in.us/event/kiwanis-club-of-sheridan-20/
END:VEVENT
BEGIN:VEVENT
DTSTART;TZID=America/Indiana/Indianapolis:20250405T080000
DTEND;TZID=America/Indiana/Indianapolis:20250405T130000
DTSTAMP:20260422T181758
CREATED:20250108T190252Z
LAST-MODIFIED:20250108T191444Z
UID:27990-1743840000-1743858000@sheridan.lib.in.us
SUMMARY:EASTER BUNNY VISIT + EGG HUNT
DESCRIPTION:
URL:https://sheridan.lib.in.us/event/easter-bunny-visit-egg-hunt/
END:VEVENT
BEGIN:VEVENT
DTSTART;TZID=America/Indiana/Indianapolis:20250408T180000
DTEND;TZID=America/Indiana/Indianapolis:20250408T180000
DTSTAMP:20260422T181758
CREATED:20241202T210849Z
LAST-MODIFIED:20241202T210849Z
UID:27490-1744135200-1744135200@sheridan.lib.in.us
SUMMARY:ROTARY
DESCRIPTION:
URL:https://sheridan.lib.in.us/event/rotary-54/
END:VEVENT
BEGIN:VEVENT
DTSTART;TZID=America/Indiana/Indianapolis:20250409T180000
DTEND;TZID=America/Indiana/Indianapolis:20250409T200000
DTSTAMP:20260422T181758
CREATED:20250402T134624Z
LAST-MODIFIED:20250402T134624Z
UID:28743-1744221600-1744228800@sheridan.lib.in.us
SUMMARY:Pinners
DESCRIPTION:
URL:https://sheridan.lib.in.us/event/pinners-15/
END:VEVENT
BEGIN:VEVENT
DTSTART;VALUE=DATE:20250412
DTEND;VALUE=DATE:20250413
DTSTAMP:20260422T181758
CREATED:20241120T190527Z
LAST-MODIFIED:20241120T190527Z
UID:27387-1744416000-1744502399@sheridan.lib.in.us
SUMMARY:JUDY MCCLURE WEINANTZ 85TH BIRTHDAY
DESCRIPTION:
URL:https://sheridan.lib.in.us/event/judy-mcclure-weinantz-85th-birthday/
END:VEVENT
BEGIN:VEVENT
DTSTART;TZID=America/Indiana/Indianapolis:20250413T110000
DTEND;TZID=America/Indiana/Indianapolis:20250413T170000
DTSTAMP:20260422T181758
CREATED:20250203T161404Z
LAST-MODIFIED:20250203T161404Z
UID:28296-1744542000-1744563600@sheridan.lib.in.us
SUMMARY:HEIDI AND MAIZY ANDERSON'S BIRTHDAY PARTY
DESCRIPTION:
URL:https://sheridan.lib.in.us/event/heidi-and-maizy-andersons-birthday-party/
END:VEVENT
BEGIN:VEVENT
DTSTART;TZID=America/Indiana/Indianapolis:20250414T180000
DTEND;TZID=America/Indiana/Indianapolis:20250414T180000
DTSTAMP:20260422T181758
CREATED:20241202T212834Z
LAST-MODIFIED:20241202T212834Z
UID:27554-1744653600-1744653600@sheridan.lib.in.us
SUMMARY:LIBRARY BOARD MEETING
DESCRIPTION:
URL:https://sheridan.lib.in.us/event/library-board-meeting-19/
END:VEVENT
BEGIN:VEVENT
DTSTART;TZID=America/Indiana/Indianapolis:20250415T153000
DTEND;TZID=America/Indiana/Indianapolis:20250415T170000
DTSTAMP:20260422T181758
CREATED:20250318T213505Z
LAST-MODIFIED:20250318T213505Z
UID:28594-1744731000-1744736400@sheridan.lib.in.us
SUMMARY:Teen Crafternoon: Macrame
DESCRIPTION:
URL:https://sheridan.lib.in.us/event/teen-crafternoon-macrame/
END:VEVENT
BEGIN:VEVENT
DTSTART;TZID=America/Indiana/Indianapolis:20250415T180000
DTEND;TZID=America/Indiana/Indianapolis:20250415T180000
DTSTAMP:20260422T181758
CREATED:20241202T211019Z
LAST-MODIFIED:20241202T211019Z
UID:27494-1744740000-1744740000@sheridan.lib.in.us
SUMMARY:ROTARY
DESCRIPTION:
URL:https://sheridan.lib.in.us/event/rotary-56/
END:VEVENT
BEGIN:VEVENT
DTSTART;TZID=America/Indiana/Indianapolis:20250416T150000
DTEND;TZID=America/Indiana/Indianapolis:20250416T170000
DTSTAMP:20260422T181758
CREATED:20241213T185516Z
LAST-MODIFIED:20241213T185516Z
UID:27744-1744815600-1744822800@sheridan.lib.in.us
SUMMARY:ADULT BINGO
DESCRIPTION:
URL:https://sheridan.lib.in.us/event/adult-bingo-21/
END:VEVENT
BEGIN:VEVENT
DTSTART;TZID=America/Indiana/Indianapolis:20250416T173000
DTEND;TZID=America/Indiana/Indianapolis:20250416T173000
DTSTAMP:20260422T181758
CREATED:20250107T164601Z
LAST-MODIFIED:20250107T164601Z
UID:27877-1744824600-1744824600@sheridan.lib.in.us
SUMMARY:SHERIDAN READERS
DESCRIPTION:
URL:https://sheridan.lib.in.us/event/sheridan-readers-17/
END:VEVENT
BEGIN:VEVENT
DTSTART;TZID=America/Indiana/Indianapolis:20250417T153000
DTEND;TZID=America/Indiana/Indianapolis:20250417T170000
DTSTAMP:20260422T181758
CREATED:20250318T213630Z
LAST-MODIFIED:20250318T213630Z
UID:28596-1744903800-1744909200@sheridan.lib.in.us
SUMMARY:AFTER SCHOOL CLUB: STEAM KIT SHOWCASE
DESCRIPTION:
URL:https://sheridan.lib.in.us/event/after-school-club-steam-kit-showcase/
END:VEVENT
END:VCALENDAR