BEGIN:VCALENDAR
VERSION:2.0
PRODID:-//Sheridan Public Library - ECPv6.15.20//NONSGML v1.0//EN
CALSCALE:GREGORIAN
METHOD:PUBLISH
X-ORIGINAL-URL:https://sheridan.lib.in.us
X-WR-CALDESC:Events for Sheridan Public Library
REFRESH-INTERVAL;VALUE=DURATION:PT1H
X-Robots-Tag:noindex
X-PUBLISHED-TTL:PT1H
BEGIN:VTIMEZONE
TZID:America/Indiana/Indianapolis
BEGIN:DAYLIGHT
TZOFFSETFROM:-0500
TZOFFSETTO:-0400
TZNAME:EDT
DTSTART:20240310T070000
END:DAYLIGHT
BEGIN:STANDARD
TZOFFSETFROM:-0400
TZOFFSETTO:-0500
TZNAME:EST
DTSTART:20241103T060000
END:STANDARD
BEGIN:DAYLIGHT
TZOFFSETFROM:-0500
TZOFFSETTO:-0400
TZNAME:EDT
DTSTART:20250309T070000
END:DAYLIGHT
BEGIN:STANDARD
TZOFFSETFROM:-0400
TZOFFSETTO:-0500
TZNAME:EST
DTSTART:20251102T060000
END:STANDARD
BEGIN:DAYLIGHT
TZOFFSETFROM:-0500
TZOFFSETTO:-0400
TZNAME:EDT
DTSTART:20260308T070000
END:DAYLIGHT
BEGIN:STANDARD
TZOFFSETFROM:-0400
TZOFFSETTO:-0500
TZNAME:EST
DTSTART:20261101T060000
END:STANDARD
END:VTIMEZONE
BEGIN:VEVENT
DTSTART;TZID=America/Indiana/Indianapolis:20250206T180000
DTEND;TZID=America/Indiana/Indianapolis:20250206T180000
DTSTAMP:20260422T183844
CREATED:20241202T220112Z
LAST-MODIFIED:20241202T220208Z
UID:27629-1738864800-1738864800@sheridan.lib.in.us
SUMMARY:KIWANIS CLUB OF SHERIDAN
DESCRIPTION:
URL:https://sheridan.lib.in.us/event/kiwanis-club-of-sheridan-7/
END:VEVENT
BEGIN:VEVENT
DTSTART;TZID=America/Indiana/Indianapolis:20250208T070000
DTEND;TZID=America/Indiana/Indianapolis:20250208T110000
DTSTAMP:20260422T183844
CREATED:20250107T162425Z
LAST-MODIFIED:20250107T162425Z
UID:27868-1738998000-1739012400@sheridan.lib.in.us
SUMMARY:Greater Men's Breakfast
DESCRIPTION:
URL:https://sheridan.lib.in.us/event/greater-mens-breakfast-3/
END:VEVENT
BEGIN:VEVENT
DTSTART;TZID=America/Indiana/Indianapolis:20250210T080000
DTEND;TZID=America/Indiana/Indianapolis:20250210T110000
DTSTAMP:20260422T183844
CREATED:20250107T211238Z
LAST-MODIFIED:20250110T163316Z
UID:27928-1739174400-1739185200@sheridan.lib.in.us
SUMMARY:BACKFLOW CLASS
DESCRIPTION:
URL:https://sheridan.lib.in.us/event/backflow-class-46/
END:VEVENT
BEGIN:VEVENT
DTSTART;TZID=America/Indiana/Indianapolis:20250210T180000
DTEND;TZID=America/Indiana/Indianapolis:20250210T180000
DTSTAMP:20260422T183844
CREATED:20241202T212718Z
LAST-MODIFIED:20241202T212718Z
UID:27550-1739210400-1739210400@sheridan.lib.in.us
SUMMARY:LIBRARY BOARD MEETING
DESCRIPTION:
URL:https://sheridan.lib.in.us/event/library-board-meeting-17/
END:VEVENT
BEGIN:VEVENT
DTSTART;TZID=America/Indiana/Indianapolis:20250211T080000
DTEND;TZID=America/Indiana/Indianapolis:20250211T110000
DTSTAMP:20260422T183844
CREATED:20250107T211327Z
LAST-MODIFIED:20250110T163355Z
UID:27930-1739260800-1739271600@sheridan.lib.in.us
SUMMARY:BACKFLOW CLASS
DESCRIPTION:
URL:https://sheridan.lib.in.us/event/backflow-class-47/
END:VEVENT
BEGIN:VEVENT
DTSTART;TZID=America/Indiana/Indianapolis:20250211T153000
DTEND;TZID=America/Indiana/Indianapolis:20250211T170000
DTSTAMP:20260422T183844
CREATED:20250113T161432Z
LAST-MODIFIED:20250113T161432Z
UID:28018-1739287800-1739293200@sheridan.lib.in.us
SUMMARY:Valentine Crafternoon
DESCRIPTION:
URL:https://sheridan.lib.in.us/event/valentine-crafternoon/
END:VEVENT
BEGIN:VEVENT
DTSTART;TZID=America/Indiana/Indianapolis:20250211T180000
DTEND;TZID=America/Indiana/Indianapolis:20250211T180000
DTSTAMP:20260422T183844
CREATED:20241202T204208Z
LAST-MODIFIED:20241202T205351Z
UID:27474-1739296800-1739296800@sheridan.lib.in.us
SUMMARY:ROTARY
DESCRIPTION:
URL:https://sheridan.lib.in.us/event/rotary-49/
END:VEVENT
BEGIN:VEVENT
DTSTART;TZID=America/Indiana/Indianapolis:20250212T080000
DTEND;TZID=America/Indiana/Indianapolis:20250212T110000
DTSTAMP:20260422T183844
CREATED:20250107T211348Z
LAST-MODIFIED:20250110T163424Z
UID:27932-1739347200-1739358000@sheridan.lib.in.us
SUMMARY:BACKFLOW CLASS
DESCRIPTION:
URL:https://sheridan.lib.in.us/event/backflow-class-48/
END:VEVENT
BEGIN:VEVENT
DTSTART;TZID=America/Indiana/Indianapolis:20250213T080000
DTEND;TZID=America/Indiana/Indianapolis:20250213T110000
DTSTAMP:20260422T183844
CREATED:20250107T211624Z
LAST-MODIFIED:20250110T163500Z
UID:27936-1739433600-1739444400@sheridan.lib.in.us
SUMMARY:BACKFLOW CLASS
DESCRIPTION:
URL:https://sheridan.lib.in.us/event/backflow-class-50/
END:VEVENT
BEGIN:VEVENT
DTSTART;TZID=America/Indiana/Indianapolis:20250213T180000
DTEND;TZID=America/Indiana/Indianapolis:20250213T193000
DTSTAMP:20260422T183844
CREATED:20241018T180817Z
LAST-MODIFIED:20241018T180817Z
UID:27174-1739469600-1739475000@sheridan.lib.in.us
SUMMARY:Bingo
DESCRIPTION:
URL:https://sheridan.lib.in.us/event/bingo-12/
END:VEVENT
BEGIN:VEVENT
DTSTART;TZID=America/Indiana/Indianapolis:20250214T080000
DTEND;TZID=America/Indiana/Indianapolis:20250214T120000
DTSTAMP:20260422T183844
CREATED:20250107T211416Z
LAST-MODIFIED:20250110T163551Z
UID:27934-1739520000-1739534400@sheridan.lib.in.us
SUMMARY:BACKFLOW CLASS
DESCRIPTION:
URL:https://sheridan.lib.in.us/event/backflow-class-49/
END:VEVENT
BEGIN:VEVENT
DTSTART;TZID=America/Indiana/Indianapolis:20250214T130000
DTEND;TZID=America/Indiana/Indianapolis:20250214T190000
DTSTAMP:20260422T183844
CREATED:20241213T165649Z
LAST-MODIFIED:20241213T165649Z
UID:27722-1739538000-1739559600@sheridan.lib.in.us
SUMMARY:BLOOD DRIVE
DESCRIPTION:
URL:https://sheridan.lib.in.us/event/blood-drive-2/
END:VEVENT
BEGIN:VEVENT
DTSTART;TZID=America/Indiana/Indianapolis:20250215T093000
DTEND;TZID=America/Indiana/Indianapolis:20250215T130000
DTSTAMP:20260422T183844
CREATED:20250108T184908Z
LAST-MODIFIED:20250108T184908Z
UID:27969-1739611800-1739624400@sheridan.lib.in.us
SUMMARY:Magic the Gathering
DESCRIPTION:
URL:https://sheridan.lib.in.us/event/magic-the-gathering-2/
END:VEVENT
BEGIN:VEVENT
DTSTART;TZID=America/Indiana/Indianapolis:20250218T180000
DTEND;TZID=America/Indiana/Indianapolis:20250218T180000
DTSTAMP:20260422T183844
CREATED:20241202T204254Z
LAST-MODIFIED:20241202T210222Z
UID:27476-1739901600-1739901600@sheridan.lib.in.us
SUMMARY:ROTARY
DESCRIPTION:
URL:https://sheridan.lib.in.us/event/rotary-50/
END:VEVENT
BEGIN:VEVENT
DTSTART;TZID=America/Indiana/Indianapolis:20250219T150000
DTEND;TZID=America/Indiana/Indianapolis:20250219T170000
DTSTAMP:20260422T183844
CREATED:20241213T185355Z
LAST-MODIFIED:20241213T185355Z
UID:27736-1739977200-1739984400@sheridan.lib.in.us
SUMMARY:ADULT BINGO
DESCRIPTION:
URL:https://sheridan.lib.in.us/event/adult-bingo-17/
END:VEVENT
BEGIN:VEVENT
DTSTART;TZID=America/Indiana/Indianapolis:20250219T173000
DTEND;TZID=America/Indiana/Indianapolis:20250219T173000
DTSTAMP:20260422T183844
CREATED:20250107T164516Z
LAST-MODIFIED:20250107T164713Z
UID:27873-1739986200-1739986200@sheridan.lib.in.us
SUMMARY:SHERIDAN READERS
DESCRIPTION:
URL:https://sheridan.lib.in.us/event/sheridan-readers-15/
END:VEVENT
BEGIN:VEVENT
DTSTART;TZID=America/Indiana/Indianapolis:20250219T193000
DTEND;TZID=America/Indiana/Indianapolis:20250219T203000
DTSTAMP:20260422T183844
CREATED:20250211T213708Z
LAST-MODIFIED:20250211T213708Z
UID:28362-1739993400-1739997000@sheridan.lib.in.us
SUMMARY:SCRI Baseball meeting
DESCRIPTION:
URL:https://sheridan.lib.in.us/event/scri-baseball-meeting/
END:VEVENT
BEGIN:VEVENT
DTSTART;TZID=America/Indiana/Indianapolis:20250220T153000
DTEND;TZID=America/Indiana/Indianapolis:20250220T170000
DTSTAMP:20260422T183844
CREATED:20250113T161659Z
LAST-MODIFIED:20250113T161659Z
UID:28022-1740065400-1740070800@sheridan.lib.in.us
SUMMARY:AFTER SCHOOL CLUB: DOGMAN PARTY
DESCRIPTION:
URL:https://sheridan.lib.in.us/event/after-school-club-dogman-party/
END:VEVENT
BEGIN:VEVENT
DTSTART;TZID=America/Indiana/Indianapolis:20250220T180000
DTEND;TZID=America/Indiana/Indianapolis:20250220T180000
DTSTAMP:20260422T183844
CREATED:20241202T220235Z
LAST-MODIFIED:20241202T220235Z
UID:27633-1740074400-1740074400@sheridan.lib.in.us
SUMMARY:KIWANIS CLUB OF SHERIDAN
DESCRIPTION:
URL:https://sheridan.lib.in.us/event/kiwanis-club-of-sheridan-17/
END:VEVENT
BEGIN:VEVENT
DTSTART;VALUE=DATE:20250223
DTEND;VALUE=DATE:20250224
DTSTAMP:20260422T183844
CREATED:20250120T181858Z
LAST-MODIFIED:20250120T181916Z
UID:28076-1740268800-1740355199@sheridan.lib.in.us
SUMMARY:SALLY HENDERSON: BABY SHOWER
DESCRIPTION:
URL:https://sheridan.lib.in.us/event/sally-henderson-baby-shower/
END:VEVENT
BEGIN:VEVENT
DTSTART;TZID=America/Indiana/Indianapolis:20250224T173000
DTEND;TZID=America/Indiana/Indianapolis:20250224T193000
DTSTAMP:20260422T183844
CREATED:20241125T192003Z
LAST-MODIFIED:20241125T192003Z
UID:27401-1740418200-1740425400@sheridan.lib.in.us
SUMMARY:S-CERT RESPONSE TEAM
DESCRIPTION:
URL:https://sheridan.lib.in.us/event/s-cert-response-team-11/
END:VEVENT
BEGIN:VEVENT
DTSTART;TZID=America/Indiana/Indianapolis:20250225T190000
DTEND;TZID=America/Indiana/Indianapolis:20250225T190000
DTSTAMP:20260422T183844
CREATED:20241202T214923Z
LAST-MODIFIED:20241202T215123Z
UID:27602-1740510000-1740510000@sheridan.lib.in.us
SUMMARY:PHI BETA PSI
DESCRIPTION:
URL:https://sheridan.lib.in.us/event/phi-beta-psi-9/
END:VEVENT
BEGIN:VEVENT
DTSTART;TZID=America/Indiana/Indianapolis:20250226T193000
DTEND;TZID=America/Indiana/Indianapolis:20250226T213000
DTSTAMP:20260422T183844
CREATED:20240926T133448Z
LAST-MODIFIED:20240926T133448Z
UID:26716-1740598200-1740605400@sheridan.lib.in.us
SUMMARY:SHERIDAN RECREATION BOARD
DESCRIPTION:
URL:https://sheridan.lib.in.us/event/sheridan-recreation-board-15/
END:VEVENT
BEGIN:VEVENT
DTSTART;VALUE=DATE:20250301
DTEND;VALUE=DATE:20250302
DTSTAMP:20260422T183844
CREATED:20250116T232715Z
LAST-MODIFIED:20250116T232715Z
UID:28068-1740787200-1740873599@sheridan.lib.in.us
SUMMARY:Hanson Birthday Party
DESCRIPTION:
URL:https://sheridan.lib.in.us/event/hanson-birthday-party/
END:VEVENT
BEGIN:VEVENT
DTSTART;VALUE=DATE:20250302
DTEND;VALUE=DATE:20250303
DTSTAMP:20260422T183844
CREATED:20250127T170322Z
LAST-MODIFIED:20250127T170322Z
UID:28209-1740873600-1740959999@sheridan.lib.in.us
SUMMARY:PATTERSON BIRTHDAY PARTY
DESCRIPTION:
URL:https://sheridan.lib.in.us/event/patterson-birthday-party/
END:VEVENT
BEGIN:VEVENT
DTSTART;TZID=America/Indiana/Indianapolis:20250304T180000
DTEND;TZID=America/Indiana/Indianapolis:20250304T180000
DTSTAMP:20260422T183844
CREATED:20241202T204333Z
LAST-MODIFIED:20241202T210314Z
UID:27478-1741111200-1741111200@sheridan.lib.in.us
SUMMARY:ROTARY
DESCRIPTION:
URL:https://sheridan.lib.in.us/event/rotary-51/
END:VEVENT
BEGIN:VEVENT
DTSTART;TZID=America/Indiana/Indianapolis:20250305T150000
DTEND;TZID=America/Indiana/Indianapolis:20250305T170000
DTSTAMP:20260422T183844
CREATED:20241213T185416Z
LAST-MODIFIED:20241213T185416Z
UID:27738-1741186800-1741194000@sheridan.lib.in.us
SUMMARY:ADULT BINGO
DESCRIPTION:
URL:https://sheridan.lib.in.us/event/adult-bingo-18/
END:VEVENT
BEGIN:VEVENT
DTSTART;TZID=America/Indiana/Indianapolis:20250305T180000
DTEND;TZID=America/Indiana/Indianapolis:20250305T200000
DTSTAMP:20260422T183844
CREATED:20241202T213834Z
LAST-MODIFIED:20250221T203202Z
UID:27576-1741197600-1741204800@sheridan.lib.in.us
SUMMARY:PINNERS
DESCRIPTION:
URL:https://sheridan.lib.in.us/event/pinners-16/
END:VEVENT
BEGIN:VEVENT
DTSTART;TZID=America/Indiana/Indianapolis:20250306T180000
DTEND;TZID=America/Indiana/Indianapolis:20250306T180000
DTSTAMP:20260422T183844
CREATED:20241202T220313Z
LAST-MODIFIED:20241202T220313Z
UID:27635-1741284000-1741284000@sheridan.lib.in.us
SUMMARY:KIWANIS CLUB OF SHERIDAN
DESCRIPTION:
URL:https://sheridan.lib.in.us/event/kiwanis-club-of-sheridan-18/
END:VEVENT
BEGIN:VEVENT
DTSTART;TZID=America/Indiana/Indianapolis:20250308T070000
DTEND;TZID=America/Indiana/Indianapolis:20250308T110000
DTSTAMP:20260422T183844
CREATED:20250107T162516Z
LAST-MODIFIED:20250107T162516Z
UID:27870-1741417200-1741431600@sheridan.lib.in.us
SUMMARY:Greater Men's Breakfast
DESCRIPTION:
URL:https://sheridan.lib.in.us/event/greater-mens-breakfast-4/
END:VEVENT
END:VCALENDAR