BEGIN:VCALENDAR
VERSION:2.0
PRODID:-//Sheridan Public Library - ECPv6.15.20//NONSGML v1.0//EN
CALSCALE:GREGORIAN
METHOD:PUBLISH
X-ORIGINAL-URL:https://sheridan.lib.in.us
X-WR-CALDESC:Events for Sheridan Public Library
REFRESH-INTERVAL;VALUE=DURATION:PT1H
X-Robots-Tag:noindex
X-PUBLISHED-TTL:PT1H
BEGIN:VTIMEZONE
TZID:America/Indiana/Indianapolis
BEGIN:DAYLIGHT
TZOFFSETFROM:-0500
TZOFFSETTO:-0400
TZNAME:EDT
DTSTART:20230312T070000
END:DAYLIGHT
BEGIN:STANDARD
TZOFFSETFROM:-0400
TZOFFSETTO:-0500
TZNAME:EST
DTSTART:20231105T060000
END:STANDARD
BEGIN:DAYLIGHT
TZOFFSETFROM:-0500
TZOFFSETTO:-0400
TZNAME:EDT
DTSTART:20240310T070000
END:DAYLIGHT
BEGIN:STANDARD
TZOFFSETFROM:-0400
TZOFFSETTO:-0500
TZNAME:EST
DTSTART:20241103T060000
END:STANDARD
BEGIN:DAYLIGHT
TZOFFSETFROM:-0500
TZOFFSETTO:-0400
TZNAME:EDT
DTSTART:20250309T070000
END:DAYLIGHT
BEGIN:STANDARD
TZOFFSETFROM:-0400
TZOFFSETTO:-0500
TZNAME:EST
DTSTART:20251102T060000
END:STANDARD
END:VTIMEZONE
BEGIN:VEVENT
DTSTART;TZID=America/Indiana/Indianapolis:20240819T180000
DTEND;TZID=America/Indiana/Indianapolis:20240819T180000
DTSTAMP:20260423T014501
CREATED:20231006T151728Z
LAST-MODIFIED:20231006T151728Z
UID:23716-1724090400-1724090400@sheridan.lib.in.us
SUMMARY:PINNERS
DESCRIPTION:
URL:https://sheridan.lib.in.us/event/pinners-10/
END:VEVENT
BEGIN:VEVENT
DTSTART;TZID=America/Indiana/Indianapolis:20240820T180000
DTEND;TZID=America/Indiana/Indianapolis:20240820T180000
DTSTAMP:20260423T014501
CREATED:20231006T175915Z
LAST-MODIFIED:20231006T175915Z
UID:23915-1724176800-1724176800@sheridan.lib.in.us
SUMMARY:ROTARY
DESCRIPTION:
URL:https://sheridan.lib.in.us/event/rotary-33/
END:VEVENT
BEGIN:VEVENT
DTSTART;TZID=America/Indiana/Indianapolis:20240821T173000
DTEND;TZID=America/Indiana/Indianapolis:20240821T173000
DTSTAMP:20260423T014501
CREATED:20231002T220352Z
LAST-MODIFIED:20240709T192941Z
UID:23644-1724261400-1724261400@sheridan.lib.in.us
SUMMARY:SHERIDAN READERS WITH AUTHOR CARA PUTMAN
DESCRIPTION:
URL:https://sheridan.lib.in.us/event/sheridan-readers-11/
END:VEVENT
BEGIN:VEVENT
DTSTART;TZID=America/Indiana/Indianapolis:20240822T130000
DTEND;TZID=America/Indiana/Indianapolis:20240822T190000
DTSTAMP:20260423T014501
CREATED:20240102T182754Z
LAST-MODIFIED:20240625T205002Z
UID:24614-1724331600-1724353200@sheridan.lib.in.us
SUMMARY:Blood Drive
DESCRIPTION:
URL:https://sheridan.lib.in.us/event/blood-drive-4/
END:VEVENT
BEGIN:VEVENT
DTSTART;VALUE=DATE:20240824
DTEND;VALUE=DATE:20240825
DTSTAMP:20260423T014501
CREATED:20240425T175318Z
LAST-MODIFIED:20240425T175318Z
UID:25588-1724457600-1724543999@sheridan.lib.in.us
SUMMARY:CLOUD FAMILY GENDER REVEAL
DESCRIPTION:
URL:https://sheridan.lib.in.us/event/cloud-family-gender-reveal/
END:VEVENT
BEGIN:VEVENT
DTSTART;VALUE=DATE:20240825
DTEND;VALUE=DATE:20240826
DTSTAMP:20260423T014501
CREATED:20230929T181402Z
LAST-MODIFIED:20231002T184234Z
UID:23488-1724544000-1724630399@sheridan.lib.in.us
SUMMARY:HARBAUGH REUNION
DESCRIPTION:
URL:https://sheridan.lib.in.us/event/harbaugh-reunion/
END:VEVENT
BEGIN:VEVENT
DTSTART;TZID=America/Indiana/Indianapolis:20240826T173000
DTEND;TZID=America/Indiana/Indianapolis:20240826T173000
DTSTAMP:20260423T014501
CREATED:20231006T174149Z
LAST-MODIFIED:20231006T174149Z
UID:23846-1724693400-1724693400@sheridan.lib.in.us
SUMMARY:S-CERT RESPONSE TEAM
DESCRIPTION:
URL:https://sheridan.lib.in.us/event/s-cert-response-team-13/
END:VEVENT
BEGIN:VEVENT
DTSTART;TZID=America/Indiana/Indianapolis:20240827T190000
DTEND;TZID=America/Indiana/Indianapolis:20240827T190000
DTSTAMP:20260423T014501
CREATED:20231006T154227Z
LAST-MODIFIED:20231006T154227Z
UID:23777-1724785200-1724785200@sheridan.lib.in.us
SUMMARY:PHI BETA PSI
DESCRIPTION:
URL:https://sheridan.lib.in.us/event/phi-beta-psi-11/
END:VEVENT
BEGIN:VEVENT
DTSTART;TZID=America/Indiana/Indianapolis:20240828T193000
DTEND;TZID=America/Indiana/Indianapolis:20240828T193000
DTSTAMP:20260423T014501
CREATED:20231006T160928Z
LAST-MODIFIED:20231006T160928Z
UID:23809-1724873400-1724873400@sheridan.lib.in.us
SUMMARY:SHERIDAN RECREATION BOARD
DESCRIPTION:
URL:https://sheridan.lib.in.us/event/sheridan-recreation-board-11/
END:VEVENT
BEGIN:VEVENT
DTSTART;TZID=America/Indiana/Indianapolis:20240829T190000
DTEND;TZID=America/Indiana/Indianapolis:20240829T210000
DTSTAMP:20260423T014501
CREATED:20240711T143202Z
LAST-MODIFIED:20240822T174927Z
UID:26126-1724958000-1724965200@sheridan.lib.in.us
SUMMARY:MEDICARE 101
DESCRIPTION:
URL:https://sheridan.lib.in.us/event/medicare-101-6/
END:VEVENT
BEGIN:VEVENT
DTSTART;TZID=America/Indiana/Indianapolis:20240903T150000
DTEND;TZID=America/Indiana/Indianapolis:20240903T160000
DTSTAMP:20260423T014501
CREATED:20240903T191810Z
LAST-MODIFIED:20240903T191810Z
UID:26395-1725375600-1725379200@sheridan.lib.in.us
SUMMARY:Adult Bingo
DESCRIPTION:
URL:https://sheridan.lib.in.us/event/adult-bingo-11/
END:VEVENT
BEGIN:VEVENT
DTSTART;TZID=America/Indiana/Indianapolis:20240903T180000
DTEND;TZID=America/Indiana/Indianapolis:20240903T180000
DTSTAMP:20260423T014501
CREATED:20231006T175938Z
LAST-MODIFIED:20231006T175938Z
UID:23917-1725386400-1725386400@sheridan.lib.in.us
SUMMARY:ROTARY
DESCRIPTION:
URL:https://sheridan.lib.in.us/event/rotary-34/
END:VEVENT
BEGIN:VEVENT
DTSTART;TZID=America/Indiana/Indianapolis:20240904T110000
DTEND;TZID=America/Indiana/Indianapolis:20240904T113000
DTSTAMP:20260423T014501
CREATED:20240822T173443Z
LAST-MODIFIED:20240822T173443Z
UID:26274-1725447600-1725449400@sheridan.lib.in.us
SUMMARY:Mindful Movements
DESCRIPTION:
URL:https://sheridan.lib.in.us/event/mindful-movements-22/
END:VEVENT
BEGIN:VEVENT
DTSTART;TZID=America/Indiana/Indianapolis:20240905T100000
DTEND;TZID=America/Indiana/Indianapolis:20240905T160000
DTSTAMP:20260423T014501
CREATED:20230929T181502Z
LAST-MODIFIED:20231002T184222Z
UID:23490-1725530400-1725552000@sheridan.lib.in.us
SUMMARY:CLASS OF '56
DESCRIPTION:
URL:https://sheridan.lib.in.us/event/class-of-56/
END:VEVENT
BEGIN:VEVENT
DTSTART;TZID=America/Indiana/Indianapolis:20240905T180000
DTEND;TZID=America/Indiana/Indianapolis:20240905T210000
DTSTAMP:20260423T014501
CREATED:20240226T191028Z
LAST-MODIFIED:20240226T191028Z
UID:25162-1725559200-1725570000@sheridan.lib.in.us
SUMMARY:Kiwanis Club of Sheridan
DESCRIPTION:
URL:https://sheridan.lib.in.us/event/kiwanis-club-of-sheridan-16/
END:VEVENT
BEGIN:VEVENT
DTSTART;TZID=America/Indiana/Indianapolis:20240906T103000
DTEND;TZID=America/Indiana/Indianapolis:20240906T113000
DTSTAMP:20260423T014501
CREATED:20240822T174154Z
LAST-MODIFIED:20240822T174154Z
UID:26276-1725618600-1725622200@sheridan.lib.in.us
SUMMARY:Purposeful Play
DESCRIPTION:
URL:https://sheridan.lib.in.us/event/purposeful-play/
END:VEVENT
BEGIN:VEVENT
DTSTART;TZID=America/Indiana/Indianapolis:20240909T180000
DTEND;TZID=America/Indiana/Indianapolis:20240909T180000
DTSTAMP:20260423T014501
CREATED:20231006T153152Z
LAST-MODIFIED:20231006T153152Z
UID:23748-1725904800-1725904800@sheridan.lib.in.us
SUMMARY:LIBRARY BOARD MEETING
DESCRIPTION:
URL:https://sheridan.lib.in.us/event/library-board-meeting-12/
END:VEVENT
BEGIN:VEVENT
DTSTART;TZID=America/Indiana/Indianapolis:20240910T153000
DTEND;TZID=America/Indiana/Indianapolis:20240910T163000
DTSTAMP:20260423T014501
CREATED:20240822T174330Z
LAST-MODIFIED:20240822T174330Z
UID:26278-1725982200-1725985800@sheridan.lib.in.us
SUMMARY:Teen Crafternoon
DESCRIPTION:
URL:https://sheridan.lib.in.us/event/teen-crafternoon/
END:VEVENT
BEGIN:VEVENT
DTSTART;TZID=America/Indiana/Indianapolis:20240910T180000
DTEND;TZID=America/Indiana/Indianapolis:20240910T180000
DTSTAMP:20260423T014501
CREATED:20231006T175951Z
LAST-MODIFIED:20231006T175951Z
UID:23919-1725991200-1725991200@sheridan.lib.in.us
SUMMARY:ROTARY
DESCRIPTION:
URL:https://sheridan.lib.in.us/event/rotary-35/
END:VEVENT
BEGIN:VEVENT
DTSTART;TZID=America/Indiana/Indianapolis:20240912T153000
DTEND;TZID=America/Indiana/Indianapolis:20240912T163000
DTSTAMP:20260423T014501
CREATED:20240822T174515Z
LAST-MODIFIED:20240822T174515Z
UID:26280-1726155000-1726158600@sheridan.lib.in.us
SUMMARY:After School Club - Legos
DESCRIPTION:
URL:https://sheridan.lib.in.us/event/after-school-club-legos/
END:VEVENT
BEGIN:VEVENT
DTSTART;TZID=America/Indiana/Indianapolis:20240913T080000
DTEND;TZID=America/Indiana/Indianapolis:20240913T150000
DTSTAMP:20260423T014501
CREATED:20240614T182554Z
LAST-MODIFIED:20240614T182554Z
UID:25963-1726214400-1726239600@sheridan.lib.in.us
SUMMARY:CAREGIVER INC.
DESCRIPTION:
URL:https://sheridan.lib.in.us/event/caregiver-inc-2/
END:VEVENT
BEGIN:VEVENT
DTSTART;TZID=America/Indiana/Indianapolis:20240913T180000
DTEND;TZID=America/Indiana/Indianapolis:20240913T193000
DTSTAMP:20260423T014501
CREATED:20240912T161028Z
LAST-MODIFIED:20240912T161028Z
UID:26491-1726250400-1726255800@sheridan.lib.in.us
SUMMARY:Bingo
DESCRIPTION:
URL:https://sheridan.lib.in.us/event/bingo-8/
END:VEVENT
BEGIN:VEVENT
DTSTART;VALUE=DATE:20240914
DTEND;VALUE=DATE:20240915
DTSTAMP:20260423T014501
CREATED:20240115T213119Z
LAST-MODIFIED:20240115T213119Z
UID:24744-1726272000-1726358399@sheridan.lib.in.us
SUMMARY:KAREN MAULDEN: HAPPY 90TH BIRTHDAY ANNIE
DESCRIPTION:
URL:https://sheridan.lib.in.us/event/karen-maulden-happy-90th-birthday-annie/
CATEGORIES:COMMUNITY ROOM
END:VEVENT
BEGIN:VEVENT
DTSTART;VALUE=DATE:20240915
DTEND;VALUE=DATE:20240916
DTSTAMP:20260423T014501
CREATED:20230929T181536Z
LAST-MODIFIED:20231002T184210Z
UID:23492-1726358400-1726444799@sheridan.lib.in.us
SUMMARY:KINKEAD FAMILY
DESCRIPTION:
URL:https://sheridan.lib.in.us/event/kinkead-family/
END:VEVENT
BEGIN:VEVENT
DTSTART;TZID=America/Indiana/Indianapolis:20240917T180000
DTEND;TZID=America/Indiana/Indianapolis:20240917T180000
DTSTAMP:20260423T014501
CREATED:20231006T180008Z
LAST-MODIFIED:20231006T180008Z
UID:23921-1726596000-1726596000@sheridan.lib.in.us
SUMMARY:ROTARY
DESCRIPTION:
URL:https://sheridan.lib.in.us/event/rotary-36/
END:VEVENT
BEGIN:VEVENT
DTSTART;TZID=America/Indiana/Indianapolis:20240918T173000
DTEND;TZID=America/Indiana/Indianapolis:20240918T173000
DTSTAMP:20260423T014501
CREATED:20231002T220412Z
LAST-MODIFIED:20231002T220412Z
UID:23646-1726680600-1726680600@sheridan.lib.in.us
SUMMARY:SHERIDAN READERS
DESCRIPTION:
URL:https://sheridan.lib.in.us/event/sheridan-readers-12/
END:VEVENT
BEGIN:VEVENT
DTSTART;TZID=America/Indiana/Indianapolis:20240918T193000
DTEND;TZID=America/Indiana/Indianapolis:20240918T220000
DTSTAMP:20260423T014501
CREATED:20240826T172026Z
LAST-MODIFIED:20240826T172124Z
UID:26295-1726687800-1726696800@sheridan.lib.in.us
SUMMARY:Indiana Dressage Society
DESCRIPTION:
URL:https://sheridan.lib.in.us/event/indiana-dressage-society-5/
END:VEVENT
BEGIN:VEVENT
DTSTART;TZID=America/Indiana/Indianapolis:20240919T153000
DTEND;TZID=America/Indiana/Indianapolis:20240919T163000
DTSTAMP:20260423T014501
CREATED:20240822T174650Z
LAST-MODIFIED:20240822T174822Z
UID:26282-1726759800-1726763400@sheridan.lib.in.us
SUMMARY:Teen Tabletop Games
DESCRIPTION:
URL:https://sheridan.lib.in.us/event/teen-tabletop-games/
END:VEVENT
BEGIN:VEVENT
DTSTART;TZID=America/Indiana/Indianapolis:20240919T180000
DTEND;TZID=America/Indiana/Indianapolis:20240919T210000
DTSTAMP:20260423T014501
CREATED:20240226T190442Z
LAST-MODIFIED:20240226T190442Z
UID:25148-1726768800-1726779600@sheridan.lib.in.us
SUMMARY:Kiwanis Club of Sheridan
DESCRIPTION:
URL:https://sheridan.lib.in.us/event/kiwanis-club-of-sheridan-9/
END:VEVENT
BEGIN:VEVENT
DTSTART;TZID=America/Indiana/Indianapolis:20240920T110000
DTEND;TZID=America/Indiana/Indianapolis:20240920T113000
DTSTAMP:20260423T014501
CREATED:20240822T174950Z
LAST-MODIFIED:20240822T174950Z
UID:26285-1726830000-1726831800@sheridan.lib.in.us
SUMMARY:Family Dance Party
DESCRIPTION:
URL:https://sheridan.lib.in.us/event/family-dance-party/
END:VEVENT
END:VCALENDAR