BEGIN:VCALENDAR
VERSION:2.0
PRODID:-//Sheridan Public Library - ECPv6.15.20//NONSGML v1.0//EN
CALSCALE:GREGORIAN
METHOD:PUBLISH
X-ORIGINAL-URL:https://sheridan.lib.in.us
X-WR-CALDESC:Events for Sheridan Public Library
REFRESH-INTERVAL;VALUE=DURATION:PT1H
X-Robots-Tag:noindex
X-PUBLISHED-TTL:PT1H
BEGIN:VTIMEZONE
TZID:America/Indiana/Indianapolis
BEGIN:DAYLIGHT
TZOFFSETFROM:-0500
TZOFFSETTO:-0400
TZNAME:EDT
DTSTART:20250309T070000
END:DAYLIGHT
BEGIN:STANDARD
TZOFFSETFROM:-0400
TZOFFSETTO:-0500
TZNAME:EST
DTSTART:20251102T060000
END:STANDARD
BEGIN:DAYLIGHT
TZOFFSETFROM:-0500
TZOFFSETTO:-0400
TZNAME:EDT
DTSTART:20260308T070000
END:DAYLIGHT
BEGIN:STANDARD
TZOFFSETFROM:-0400
TZOFFSETTO:-0500
TZNAME:EST
DTSTART:20261101T060000
END:STANDARD
BEGIN:DAYLIGHT
TZOFFSETFROM:-0500
TZOFFSETTO:-0400
TZNAME:EDT
DTSTART:20270314T070000
END:DAYLIGHT
BEGIN:STANDARD
TZOFFSETFROM:-0400
TZOFFSETTO:-0500
TZNAME:EST
DTSTART:20271107T060000
END:STANDARD
BEGIN:DAYLIGHT
TZOFFSETFROM:-0500
TZOFFSETTO:-0400
TZNAME:EDT
DTSTART:20280312T070000
END:DAYLIGHT
BEGIN:STANDARD
TZOFFSETFROM:-0400
TZOFFSETTO:-0500
TZNAME:EST
DTSTART:20281105T060000
END:STANDARD
END:VTIMEZONE
BEGIN:VEVENT
DTSTART;VALUE=DATE:20260622
DTEND;VALUE=DATE:20261001
DTSTAMP:20260421T220507
CREATED:20251007T154547Z
LAST-MODIFIED:20260302T184848Z
UID:30109-1782086400-1790812799@sheridan.lib.in.us
SUMMARY:Room closed for remodel
DESCRIPTION:
URL:https://sheridan.lib.in.us/event/room-closed-for-remodel/
END:VEVENT
BEGIN:VEVENT
DTSTART;VALUE=DATE:20260726
DTEND;VALUE=DATE:20260727
DTSTAMP:20260421T220507
CREATED:20250805T183849Z
LAST-MODIFIED:20250805T183849Z
UID:29649-1785024000-1785110399@sheridan.lib.in.us
SUMMARY:WALLACE REUNION: MARIETTA LAMBDIN
DESCRIPTION:
URL:https://sheridan.lib.in.us/event/wallace-reunion-marietta-lambdin/
END:VEVENT
BEGIN:VEVENT
DTSTART;VALUE=DATE:20260920
DTEND;VALUE=DATE:20260921
DTSTAMP:20260421T220507
CREATED:20250922T140915Z
LAST-MODIFIED:20250922T140915Z
UID:29948-1789862400-1789948799@sheridan.lib.in.us
SUMMARY:Kinkead family
DESCRIPTION:
URL:https://sheridan.lib.in.us/event/kinkead-family-3/
END:VEVENT
BEGIN:VEVENT
DTSTART;VALUE=DATE:20261010
DTEND;VALUE=DATE:20261011
DTSTAMP:20260421T220507
CREATED:20260120T213859Z
LAST-MODIFIED:20260120T213859Z
UID:30689-1791590400-1791676799@sheridan.lib.in.us
SUMMARY:Easton O'Malley's 5th birthday
DESCRIPTION:
URL:https://sheridan.lib.in.us/event/easton-omalleys-5th-birthday/
END:VEVENT
BEGIN:VEVENT
DTSTART;VALUE=DATE:20261102
DTEND;VALUE=DATE:20261104
DTSTAMP:20260421T220507
CREATED:20241125T151257Z
LAST-MODIFIED:20241125T151257Z
UID:27393-1793577600-1793750399@sheridan.lib.in.us
SUMMARY:Closed for Elections
DESCRIPTION:
URL:https://sheridan.lib.in.us/event/closed-for-elections/
END:VEVENT
BEGIN:VEVENT
DTSTART;VALUE=DATE:20261107
DTEND;VALUE=DATE:20261108
DTSTAMP:20260421T220507
CREATED:20260120T213815Z
LAST-MODIFIED:20260120T213815Z
UID:30687-1794009600-1794095999@sheridan.lib.in.us
SUMMARY:Madison Riley's 7th birthday
DESCRIPTION:
URL:https://sheridan.lib.in.us/event/madison-rileys-7th-birthday/
END:VEVENT
BEGIN:VEVENT
DTSTART;VALUE=DATE:20261126
DTEND;VALUE=DATE:20261127
DTSTAMP:20260421T220507
CREATED:20251201T193317Z
LAST-MODIFIED:20251201T193317Z
UID:30427-1795651200-1795737599@sheridan.lib.in.us
SUMMARY:Pickett Family Thanksgiving
DESCRIPTION:
URL:https://sheridan.lib.in.us/event/pickett-family-thanksgiving/
END:VEVENT
BEGIN:VEVENT
DTSTART;VALUE=DATE:20261128
DTEND;VALUE=DATE:20261129
DTSTAMP:20260421T220507
CREATED:20260330T154820Z
LAST-MODIFIED:20260330T154820Z
UID:31072-1795824000-1795910399@sheridan.lib.in.us
SUMMARY:Sigman Family
DESCRIPTION:
URL:https://sheridan.lib.in.us/event/sigman-family-2/
END:VEVENT
BEGIN:VEVENT
DTSTART;TZID=America/Indiana/Indianapolis:20261128T120000
DTEND;TZID=America/Indiana/Indianapolis:20261128T210000
DTSTAMP:20260421T220507
CREATED:20260401T152008Z
LAST-MODIFIED:20260401T152008Z
UID:31076-1795867200-1795899600@sheridan.lib.in.us
SUMMARY:Sisman Reunion
DESCRIPTION:
URL:https://sheridan.lib.in.us/event/sisman-reunion/
END:VEVENT
BEGIN:VEVENT
DTSTART;TZID=America/Indiana/Indianapolis:20261205T080000
DTEND;TZID=America/Indiana/Indianapolis:20261205T130000
DTSTAMP:20260421T220507
CREATED:20250108T191806Z
LAST-MODIFIED:20250108T191806Z
UID:27994-1796457600-1796475600@sheridan.lib.in.us
SUMMARY:VISIT WITH SANTA
DESCRIPTION:
URL:https://sheridan.lib.in.us/event/visit-with-santa-3/
END:VEVENT
BEGIN:VEVENT
DTSTART;TZID=America/Indiana/Indianapolis:20261205T130000
DTEND;TZID=America/Indiana/Indianapolis:20261205T235900
DTSTAMP:20260421T220507
CREATED:20241209T225658Z
LAST-MODIFIED:20250829T152806Z
UID:27691-1796475600-1796515140@sheridan.lib.in.us
SUMMARY:WAGGONER FAMILY HOLIDAY GATHERING
DESCRIPTION:
URL:https://sheridan.lib.in.us/event/waggoner-family-holiday-gathering/
END:VEVENT
BEGIN:VEVENT
DTSTART;VALUE=DATE:20261213
DTEND;VALUE=DATE:20261214
DTSTAMP:20260421T220507
CREATED:20251222T183246Z
LAST-MODIFIED:20251222T183246Z
UID:30562-1797120000-1797206399@sheridan.lib.in.us
SUMMARY:BARRICK CHRISTMAS
DESCRIPTION:
URL:https://sheridan.lib.in.us/event/barrick-christmas/
END:VEVENT
BEGIN:VEVENT
DTSTART;VALUE=DATE:20261224
DTEND;VALUE=DATE:20261225
DTSTAMP:20260421T220507
CREATED:20260106T165200Z
LAST-MODIFIED:20260106T165200Z
UID:30573-1798070400-1798156799@sheridan.lib.in.us
SUMMARY:GREATHOUSE CHRISTMAS: STACEY TOCK
DESCRIPTION:
URL:https://sheridan.lib.in.us/event/greathouse-christmas-stacey-tock/
END:VEVENT
BEGIN:VEVENT
DTSTART;VALUE=DATE:20270206
DTEND;VALUE=DATE:20270207
DTSTAMP:20260421T220507
CREATED:20250403T181144Z
LAST-MODIFIED:20260107T144534Z
UID:28762-1801872000-1801958399@sheridan.lib.in.us
SUMMARY:Alex Riley's 10th birthday
DESCRIPTION:
URL:https://sheridan.lib.in.us/event/alex-rileys-9th-birthday/
END:VEVENT
BEGIN:VEVENT
DTSTART;TZID=America/Indiana/Indianapolis:20270320T080000
DTEND;TZID=America/Indiana/Indianapolis:20270320T130000
DTSTAMP:20260421T220507
CREATED:20250108T192609Z
LAST-MODIFIED:20250108T192609Z
UID:28000-1805529600-1805547600@sheridan.lib.in.us
SUMMARY:EASTER BUNNY VISIT + EGG HUNT
DESCRIPTION:
URL:https://sheridan.lib.in.us/event/easter-bunny-visit-egg-hunt-3/
END:VEVENT
BEGIN:VEVENT
DTSTART;VALUE=DATE:20270627
DTEND;VALUE=DATE:20270628
DTSTAMP:20260421T220507
CREATED:20250728T144036Z
LAST-MODIFIED:20260414T150904Z
UID:29630-1814054400-1814140799@sheridan.lib.in.us
SUMMARY:Jones Family reunion
DESCRIPTION:
URL:https://sheridan.lib.in.us/event/jones-family-reunion-2/
END:VEVENT
BEGIN:VEVENT
DTSTART;TZID=America/Indiana/Indianapolis:20271204T080000
DTEND;TZID=America/Indiana/Indianapolis:20271204T130000
DTSTAMP:20260421T220507
CREATED:20250108T192056Z
LAST-MODIFIED:20250108T192056Z
UID:27996-1827907200-1827925200@sheridan.lib.in.us
SUMMARY:VISIT WITH SANTA
DESCRIPTION:
URL:https://sheridan.lib.in.us/event/visit-with-santa-4/
END:VEVENT
END:VCALENDAR