BEGIN:VCALENDAR
VERSION:2.0
PRODID:-//Sheridan Public Library - ECPv6.15.20//NONSGML v1.0//EN
CALSCALE:GREGORIAN
METHOD:PUBLISH
X-ORIGINAL-URL:https://sheridan.lib.in.us
X-WR-CALDESC:Events for Sheridan Public Library
REFRESH-INTERVAL;VALUE=DURATION:PT1H
X-Robots-Tag:noindex
X-PUBLISHED-TTL:PT1H
BEGIN:VTIMEZONE
TZID:America/Indiana/Indianapolis
BEGIN:DAYLIGHT
TZOFFSETFROM:-0500
TZOFFSETTO:-0400
TZNAME:EDT
DTSTART:20240310T070000
END:DAYLIGHT
BEGIN:STANDARD
TZOFFSETFROM:-0400
TZOFFSETTO:-0500
TZNAME:EST
DTSTART:20241103T060000
END:STANDARD
BEGIN:DAYLIGHT
TZOFFSETFROM:-0500
TZOFFSETTO:-0400
TZNAME:EDT
DTSTART:20250309T070000
END:DAYLIGHT
BEGIN:STANDARD
TZOFFSETFROM:-0400
TZOFFSETTO:-0500
TZNAME:EST
DTSTART:20251102T060000
END:STANDARD
BEGIN:DAYLIGHT
TZOFFSETFROM:-0500
TZOFFSETTO:-0400
TZNAME:EDT
DTSTART:20260308T070000
END:DAYLIGHT
BEGIN:STANDARD
TZOFFSETFROM:-0400
TZOFFSETTO:-0500
TZNAME:EST
DTSTART:20261101T060000
END:STANDARD
END:VTIMEZONE
BEGIN:VEVENT
DTSTART;VALUE=DATE:20250104
DTEND;VALUE=DATE:20250105
DTSTAMP:20260422T181622
CREATED:20241130T171404Z
LAST-MODIFIED:20241130T171404Z
UID:27422-1735948800-1736035199@sheridan.lib.in.us
SUMMARY:Chandler Bragg's 9th Birthday
DESCRIPTION:
URL:https://sheridan.lib.in.us/event/chandler-braggs-9th-birthday/
END:VEVENT
BEGIN:VEVENT
DTSTART;VALUE=DATE:20250105
DTEND;VALUE=DATE:20250106
DTSTAMP:20260422T181622
CREATED:20241004T192510Z
LAST-MODIFIED:20241004T192510Z
UID:26979-1736035200-1736121599@sheridan.lib.in.us
SUMMARY:John Vincent's 70th Birthday
DESCRIPTION:
URL:https://sheridan.lib.in.us/event/john-vincents-70th-birthday/
END:VEVENT
BEGIN:VEVENT
DTSTART;TZID=America/Indiana/Indianapolis:20250107T153000
DTEND;TZID=America/Indiana/Indianapolis:20250107T173000
DTSTAMP:20260422T181622
CREATED:20241211T182224Z
LAST-MODIFIED:20241211T182224Z
UID:27705-1736263800-1736271000@sheridan.lib.in.us
SUMMARY:TEENS: CREATING ON CANVAS
DESCRIPTION:
URL:https://sheridan.lib.in.us/event/teens-creating-on-canvas/
END:VEVENT
BEGIN:VEVENT
DTSTART;TZID=America/Indiana/Indianapolis:20250107T180000
DTEND;TZID=America/Indiana/Indianapolis:20250107T180000
DTSTAMP:20260422T181622
CREATED:20241202T203746Z
LAST-MODIFIED:20241202T204819Z
UID:27466-1736272800-1736272800@sheridan.lib.in.us
SUMMARY:ROTARY
DESCRIPTION:
URL:https://sheridan.lib.in.us/event/rotary-40/
CATEGORIES:COMMUNITY ROOM
END:VEVENT
BEGIN:VEVENT
DTSTART;TZID=America/Indiana/Indianapolis:20250108T150000
DTEND;TZID=America/Indiana/Indianapolis:20250108T170000
DTSTAMP:20260422T181622
CREATED:20241213T185215Z
LAST-MODIFIED:20250114T201123Z
UID:27730-1736348400-1736355600@sheridan.lib.in.us
SUMMARY:ADULT BINGO
DESCRIPTION:
URL:https://sheridan.lib.in.us/event/adult-bingo-14/
END:VEVENT
BEGIN:VEVENT
DTSTART;TZID=America/Indiana/Indianapolis:20250108T180000
DTEND;TZID=America/Indiana/Indianapolis:20250108T193000
DTSTAMP:20260422T181622
CREATED:20241212T201057Z
LAST-MODIFIED:20241212T201057Z
UID:27717-1736359200-1736364600@sheridan.lib.in.us
SUMMARY:Rec Board Softball committee
DESCRIPTION:
URL:https://sheridan.lib.in.us/event/rec-board-softball-committee/
END:VEVENT
BEGIN:VEVENT
DTSTART;TZID=America/Indiana/Indianapolis:20250109T180000
DTEND;TZID=America/Indiana/Indianapolis:20250109T193000
DTSTAMP:20260422T181622
CREATED:20241018T180750Z
LAST-MODIFIED:20241018T180750Z
UID:27172-1736445600-1736451000@sheridan.lib.in.us
SUMMARY:Bingo
DESCRIPTION:
URL:https://sheridan.lib.in.us/event/bingo-9/
END:VEVENT
BEGIN:VEVENT
DTSTART;TZID=America/Indiana/Indianapolis:20250110T093000
DTEND;TZID=America/Indiana/Indianapolis:20250110T220000
DTSTAMP:20260422T181622
CREATED:20241211T182352Z
LAST-MODIFIED:20241211T182352Z
UID:27707-1736501400-1736546400@sheridan.lib.in.us
SUMMARY:PRESCHOOL PARACHUTE PLAY
DESCRIPTION:
URL:https://sheridan.lib.in.us/event/preschool-parachute-play/
END:VEVENT
BEGIN:VEVENT
DTSTART;VALUE=DATE:20250111
DTEND;VALUE=DATE:20250112
DTSTAMP:20260422T181622
CREATED:20250103T185641Z
LAST-MODIFIED:20250103T185641Z
UID:27862-1736553600-1736639999@sheridan.lib.in.us
SUMMARY:Carly's Eighth  Birthday
DESCRIPTION:
URL:https://sheridan.lib.in.us/event/carlys-eighth-birthday/
END:VEVENT
BEGIN:VEVENT
DTSTART;TZID=America/Indiana/Indianapolis:20250113T080000
DTEND;TZID=America/Indiana/Indianapolis:20250113T110000
DTSTAMP:20260422T181622
CREATED:20241111T141426Z
LAST-MODIFIED:20241111T141426Z
UID:27281-1736755200-1736766000@sheridan.lib.in.us
SUMMARY:BACKFLOW CLASS
DESCRIPTION:
URL:https://sheridan.lib.in.us/event/backflow-class-41/
END:VEVENT
BEGIN:VEVENT
DTSTART;TZID=America/Indiana/Indianapolis:20250113T180000
DTEND;TZID=America/Indiana/Indianapolis:20250113T180000
DTSTAMP:20260422T181622
CREATED:20241202T212645Z
LAST-MODIFIED:20241202T212645Z
UID:27548-1736791200-1736791200@sheridan.lib.in.us
SUMMARY:LIBRARY BOARD MEETING
DESCRIPTION:
URL:https://sheridan.lib.in.us/event/library-board-meeting-16/
END:VEVENT
BEGIN:VEVENT
DTSTART;TZID=America/Indiana/Indianapolis:20250114T080000
DTEND;TZID=America/Indiana/Indianapolis:20250114T110000
DTSTAMP:20260422T181622
CREATED:20241111T141449Z
LAST-MODIFIED:20241111T141449Z
UID:27283-1736841600-1736852400@sheridan.lib.in.us
SUMMARY:BACKFLOW CLASS
DESCRIPTION:
URL:https://sheridan.lib.in.us/event/backflow-class-42/
END:VEVENT
BEGIN:VEVENT
DTSTART;TZID=America/Indiana/Indianapolis:20250114T180000
DTEND;TZID=America/Indiana/Indianapolis:20250114T180000
DTSTAMP:20260422T181622
CREATED:20241202T204007Z
LAST-MODIFIED:20241202T204908Z
UID:27468-1736877600-1736877600@sheridan.lib.in.us
SUMMARY:ROTARY
DESCRIPTION:
URL:https://sheridan.lib.in.us/event/rotary-46/
CATEGORIES:COMMUNITY ROOM
END:VEVENT
BEGIN:VEVENT
DTSTART;TZID=America/Indiana/Indianapolis:20250115T080000
DTEND;TZID=America/Indiana/Indianapolis:20250115T110000
DTSTAMP:20260422T181622
CREATED:20241111T141508Z
LAST-MODIFIED:20241111T141508Z
UID:27285-1736928000-1736938800@sheridan.lib.in.us
SUMMARY:BACKFLOW CLASS
DESCRIPTION:
URL:https://sheridan.lib.in.us/event/backflow-class-43/
END:VEVENT
BEGIN:VEVENT
DTSTART;TZID=America/Indiana/Indianapolis:20250115T173000
DTEND;TZID=America/Indiana/Indianapolis:20250115T173000
DTSTAMP:20260422T181622
CREATED:20250107T164327Z
LAST-MODIFIED:20250107T164417Z
UID:23756-1736962200-1736962200@sheridan.lib.in.us
SUMMARY:SHERIDAN READERS
DESCRIPTION:
URL:https://sheridan.lib.in.us/event/sheridan-readers-3/
END:VEVENT
BEGIN:VEVENT
DTSTART;TZID=America/Indiana/Indianapolis:20250116T080000
DTEND;TZID=America/Indiana/Indianapolis:20250116T110000
DTSTAMP:20260422T181622
CREATED:20241111T141532Z
LAST-MODIFIED:20241111T141532Z
UID:27287-1737014400-1737025200@sheridan.lib.in.us
SUMMARY:BACKFLOW CLASS
DESCRIPTION:
URL:https://sheridan.lib.in.us/event/backflow-class-44/
END:VEVENT
BEGIN:VEVENT
DTSTART;TZID=America/Indiana/Indianapolis:20250116T153000
DTEND;TZID=America/Indiana/Indianapolis:20250116T163000
DTSTAMP:20260422T181622
CREATED:20241211T182518Z
LAST-MODIFIED:20241211T182518Z
UID:27709-1737041400-1737045000@sheridan.lib.in.us
SUMMARY:AFTER SCHOOL CLUB: LEGO WINTER CHALLENGES
DESCRIPTION:
URL:https://sheridan.lib.in.us/event/after-school-club-lego-winter-challenges/
END:VEVENT
BEGIN:VEVENT
DTSTART;TZID=America/Indiana/Indianapolis:20250116T180000
DTEND;TZID=America/Indiana/Indianapolis:20250116T180000
DTSTAMP:20260422T181622
CREATED:20241202T220040Z
LAST-MODIFIED:20241202T220201Z
UID:27627-1737050400-1737050400@sheridan.lib.in.us
SUMMARY:KIWANIS CLUB OF SHERIDAN
DESCRIPTION:
URL:https://sheridan.lib.in.us/event/kiwanis-club-of-sheridan-4/
END:VEVENT
BEGIN:VEVENT
DTSTART;TZID=America/Indiana/Indianapolis:20250117T080000
DTEND;TZID=America/Indiana/Indianapolis:20250117T110000
DTSTAMP:20260422T181622
CREATED:20241111T141559Z
LAST-MODIFIED:20241111T141559Z
UID:27289-1737100800-1737111600@sheridan.lib.in.us
SUMMARY:BACKFLOW CLASS
DESCRIPTION:
URL:https://sheridan.lib.in.us/event/backflow-class-45/
END:VEVENT
BEGIN:VEVENT
DTSTART;TZID=America/Indiana/Indianapolis:20250118T093000
DTEND;TZID=America/Indiana/Indianapolis:20250118T130000
DTSTAMP:20260422T181622
CREATED:20250108T184731Z
LAST-MODIFIED:20250108T184731Z
UID:27967-1737192600-1737205200@sheridan.lib.in.us
SUMMARY:Magic the Gathering
DESCRIPTION:
URL:https://sheridan.lib.in.us/event/magic-the-gathering/
END:VEVENT
BEGIN:VEVENT
DTSTART;VALUE=DATE:20250119
DTEND;VALUE=DATE:20250120
DTSTAMP:20260422T181622
CREATED:20241115T162145Z
LAST-MODIFIED:20241115T162145Z
UID:27320-1737244800-1737331199@sheridan.lib.in.us
SUMMARY:DINES THIRD BIRTHDAY PARTY
DESCRIPTION:
URL:https://sheridan.lib.in.us/event/dines-third-birthday-party/
END:VEVENT
BEGIN:VEVENT
DTSTART;TZID=America/Indiana/Indianapolis:20250120T180000
DTEND;TZID=America/Indiana/Indianapolis:20250120T180000
DTSTAMP:20260422T181622
CREATED:20241202T213718Z
LAST-MODIFIED:20241202T213718Z
UID:27572-1737396000-1737396000@sheridan.lib.in.us
SUMMARY:PINNERS
DESCRIPTION:
URL:https://sheridan.lib.in.us/event/pinners-11/
END:VEVENT
BEGIN:VEVENT
DTSTART;TZID=America/Indiana/Indianapolis:20250121T153000
DTEND;TZID=America/Indiana/Indianapolis:20250121T170000
DTSTAMP:20260422T181622
CREATED:20241211T182623Z
LAST-MODIFIED:20241211T182623Z
UID:27711-1737473400-1737478800@sheridan.lib.in.us
SUMMARY:TEENS: BOBA AND BOOKS
DESCRIPTION:
URL:https://sheridan.lib.in.us/event/teens-boba-and-books/
END:VEVENT
BEGIN:VEVENT
DTSTART;TZID=America/Indiana/Indianapolis:20250121T180000
DTEND;TZID=America/Indiana/Indianapolis:20250121T180000
DTSTAMP:20260422T181622
CREATED:20241202T204047Z
LAST-MODIFIED:20241202T205217Z
UID:27470-1737482400-1737482400@sheridan.lib.in.us
SUMMARY:ROTARY
DESCRIPTION:
URL:https://sheridan.lib.in.us/event/rotary-47/
CATEGORIES:COMMUNITY ROOM
END:VEVENT
BEGIN:VEVENT
DTSTART;TZID=America/Indiana/Indianapolis:20250122T150000
DTEND;TZID=America/Indiana/Indianapolis:20250122T170000
DTSTAMP:20260422T181622
CREATED:20241213T185248Z
LAST-MODIFIED:20250114T201203Z
UID:27732-1737558000-1737565200@sheridan.lib.in.us
SUMMARY:ADULT BINGO
DESCRIPTION:
URL:https://sheridan.lib.in.us/event/adult-bingo-15/
END:VEVENT
BEGIN:VEVENT
DTSTART;TZID=America/Indiana/Indianapolis:20250124T110000
DTEND;TZID=America/Indiana/Indianapolis:20250124T120000
DTSTAMP:20260422T181622
CREATED:20241211T182826Z
LAST-MODIFIED:20241211T182826Z
UID:27713-1737716400-1737720000@sheridan.lib.in.us
SUMMARY:HOMESCHOOLING MEET UP
DESCRIPTION:
URL:https://sheridan.lib.in.us/event/homeschooling-meet-up/
END:VEVENT
BEGIN:VEVENT
DTSTART;TZID=America/Indiana/Indianapolis:20250125T080000
DTEND;TZID=America/Indiana/Indianapolis:20250125T170000
DTSTAMP:20260422T181622
CREATED:20241227T185204Z
LAST-MODIFIED:20241227T185204Z
UID:27850-1737792000-1737824400@sheridan.lib.in.us
SUMMARY:Harper's Birthday Party
DESCRIPTION:
URL:https://sheridan.lib.in.us/event/harpers-birthday-party/
END:VEVENT
BEGIN:VEVENT
DTSTART;VALUE=DATE:20250126
DTEND;VALUE=DATE:20250127
DTSTAMP:20260422T181622
CREATED:20241223T180902Z
LAST-MODIFIED:20241223T180902Z
UID:27846-1737849600-1737935999@sheridan.lib.in.us
SUMMARY:INDIANA DRESSAGE SOCIETY: BARBARA LEVY
DESCRIPTION:
URL:https://sheridan.lib.in.us/event/indiana-dressage-society-barbara-levy/
END:VEVENT
BEGIN:VEVENT
DTSTART;TZID=America/Indiana/Indianapolis:20250127T173000
DTEND;TZID=America/Indiana/Indianapolis:20250127T193000
DTSTAMP:20260422T181622
CREATED:20241125T191931Z
LAST-MODIFIED:20241125T191931Z
UID:27399-1737999000-1738006200@sheridan.lib.in.us
SUMMARY:S-CERT RESPONSE TEAM
DESCRIPTION:
URL:https://sheridan.lib.in.us/event/s-cert-response-team-3/
END:VEVENT
BEGIN:VEVENT
DTSTART;TZID=America/Indiana/Indianapolis:20250128T190000
DTEND;TZID=America/Indiana/Indianapolis:20250128T190000
DTSTAMP:20260422T181622
CREATED:20241202T214858Z
LAST-MODIFIED:20241202T215014Z
UID:27600-1738090800-1738090800@sheridan.lib.in.us
SUMMARY:PHI BETA PSI
DESCRIPTION:
URL:https://sheridan.lib.in.us/event/phi-beta-psi-3/
END:VEVENT
END:VCALENDAR