BEGIN:VCALENDAR
VERSION:2.0
PRODID:-//Sheridan Public Library - ECPv6.15.20//NONSGML v1.0//EN
CALSCALE:GREGORIAN
METHOD:PUBLISH
X-ORIGINAL-URL:https://sheridan.lib.in.us
X-WR-CALDESC:Events for Sheridan Public Library
REFRESH-INTERVAL;VALUE=DURATION:PT1H
X-Robots-Tag:noindex
X-PUBLISHED-TTL:PT1H
BEGIN:VTIMEZONE
TZID:America/Indiana/Indianapolis
BEGIN:DAYLIGHT
TZOFFSETFROM:-0500
TZOFFSETTO:-0400
TZNAME:EDT
DTSTART:20230312T070000
END:DAYLIGHT
BEGIN:STANDARD
TZOFFSETFROM:-0400
TZOFFSETTO:-0500
TZNAME:EST
DTSTART:20231105T060000
END:STANDARD
BEGIN:DAYLIGHT
TZOFFSETFROM:-0500
TZOFFSETTO:-0400
TZNAME:EDT
DTSTART:20240310T070000
END:DAYLIGHT
BEGIN:STANDARD
TZOFFSETFROM:-0400
TZOFFSETTO:-0500
TZNAME:EST
DTSTART:20241103T060000
END:STANDARD
BEGIN:DAYLIGHT
TZOFFSETFROM:-0500
TZOFFSETTO:-0400
TZNAME:EDT
DTSTART:20250309T070000
END:DAYLIGHT
BEGIN:STANDARD
TZOFFSETFROM:-0400
TZOFFSETTO:-0500
TZNAME:EST
DTSTART:20251102T060000
END:STANDARD
END:VTIMEZONE
BEGIN:VEVENT
DTSTART;TZID=America/Indiana/Indianapolis:20241114T180000
DTEND;TZID=America/Indiana/Indianapolis:20241114T193000
DTSTAMP:20260422T195051
CREATED:20240912T161154Z
LAST-MODIFIED:20241021T141256Z
UID:26495-1731607200-1731612600@sheridan.lib.in.us
SUMMARY:Bingo
DESCRIPTION:
URL:https://sheridan.lib.in.us/event/bingo-10/
END:VEVENT
BEGIN:VEVENT
DTSTART;VALUE=DATE:20241116
DTEND;VALUE=DATE:20241117
DTSTAMP:20260422T195051
CREATED:20240925T133143Z
LAST-MODIFIED:20240925T133143Z
UID:26694-1731715200-1731801599@sheridan.lib.in.us
SUMMARY:Eldridge family
DESCRIPTION:
URL:https://sheridan.lib.in.us/event/eldridge-family/
END:VEVENT
BEGIN:VEVENT
DTSTART;VALUE=DATE:20241117
DTEND;VALUE=DATE:20241118
DTSTAMP:20260422T195051
CREATED:20240821T144046Z
LAST-MODIFIED:20240821T144046Z
UID:26269-1731801600-1731887999@sheridan.lib.in.us
SUMMARY:Richard & Arnola Pickett 70th Anniversary
DESCRIPTION:
URL:https://sheridan.lib.in.us/event/richard-arnola-pickett-70th-anniversary/
END:VEVENT
BEGIN:VEVENT
DTSTART;TZID=America/Indiana/Indianapolis:20241118T180000
DTEND;TZID=America/Indiana/Indianapolis:20241118T180000
DTSTAMP:20260422T195051
CREATED:20231006T152256Z
LAST-MODIFIED:20231006T152256Z
UID:23722-1731952800-1731952800@sheridan.lib.in.us
SUMMARY:PINNERS
DESCRIPTION:
URL:https://sheridan.lib.in.us/event/pinners-13/
END:VEVENT
BEGIN:VEVENT
DTSTART;TZID=America/Indiana/Indianapolis:20241119T180000
DTEND;TZID=America/Indiana/Indianapolis:20241119T180000
DTSTAMP:20260422T195051
CREATED:20231006T180207Z
LAST-MODIFIED:20231006T180207Z
UID:23933-1732039200-1732039200@sheridan.lib.in.us
SUMMARY:ROTARY
DESCRIPTION:
URL:https://sheridan.lib.in.us/event/rotary-42/
END:VEVENT
BEGIN:VEVENT
DTSTART;TZID=America/Indiana/Indianapolis:20241120T173000
DTEND;TZID=America/Indiana/Indianapolis:20241120T173000
DTSTAMP:20260422T195051
CREATED:20231002T220454Z
LAST-MODIFIED:20231002T220454Z
UID:23650-1732123800-1732123800@sheridan.lib.in.us
SUMMARY:SHERIDAN READERS
DESCRIPTION:
URL:https://sheridan.lib.in.us/event/sheridan-readers-14/
END:VEVENT
BEGIN:VEVENT
DTSTART;TZID=America/Indiana/Indianapolis:20241121T153000
DTEND;TZID=America/Indiana/Indianapolis:20241121T163000
DTSTAMP:20260422T195051
CREATED:20241021T172813Z
LAST-MODIFIED:20241021T173234Z
UID:27186-1732203000-1732206600@sheridan.lib.in.us
SUMMARY:TEEN AND AFTER SCHOOL CLUB - THANKSGIVING CUPCAKE DECORATING
DESCRIPTION:
URL:https://sheridan.lib.in.us/event/teen-and-after-school-club-thanksgiving-cupcake-decorating/
END:VEVENT
BEGIN:VEVENT
DTSTART;TZID=America/Indiana/Indianapolis:20241121T180000
DTEND;TZID=America/Indiana/Indianapolis:20241121T210000
DTSTAMP:20260422T195051
CREATED:20240226T190650Z
LAST-MODIFIED:20240226T190650Z
UID:25156-1732212000-1732222800@sheridan.lib.in.us
SUMMARY:Kiwanis Club of Sheridan
DESCRIPTION:
URL:https://sheridan.lib.in.us/event/kiwanis-club-of-sheridan-13/
END:VEVENT
BEGIN:VEVENT
DTSTART;TZID=America/Indiana/Indianapolis:20241122T103000
DTEND;TZID=America/Indiana/Indianapolis:20241122T113000
DTSTAMP:20260422T195051
CREATED:20241021T173116Z
LAST-MODIFIED:20241021T173116Z
UID:27188-1732271400-1732275000@sheridan.lib.in.us
SUMMARY:PURPOSEFUL PLAY
DESCRIPTION:
URL:https://sheridan.lib.in.us/event/purposeful-play-2/
END:VEVENT
BEGIN:VEVENT
DTSTART;VALUE=DATE:20241123
DTEND;VALUE=DATE:20241124
DTSTAMP:20260422T195051
CREATED:20240911T202558Z
LAST-MODIFIED:20240911T202558Z
UID:26467-1732320000-1732406399@sheridan.lib.in.us
SUMMARY:Sigman Family
DESCRIPTION:
URL:https://sheridan.lib.in.us/event/sigman-family/
END:VEVENT
BEGIN:VEVENT
DTSTART;VALUE=DATE:20241124
DTEND;VALUE=DATE:20241125
DTSTAMP:20260422T195051
CREATED:20241009T135137Z
LAST-MODIFIED:20241009T135137Z
UID:27083-1732406400-1732492799@sheridan.lib.in.us
SUMMARY:Pickett Reunion
DESCRIPTION:
URL:https://sheridan.lib.in.us/event/pickett-reunion/
END:VEVENT
BEGIN:VEVENT
DTSTART;TZID=America/Indiana/Indianapolis:20241125T173000
DTEND;TZID=America/Indiana/Indianapolis:20241125T173000
DTSTAMP:20260422T195051
CREATED:20231006T174026Z
LAST-MODIFIED:20231006T174456Z
UID:23838-1732555800-1732555800@sheridan.lib.in.us
SUMMARY:S-CERT RESPONSE TEAM
DESCRIPTION:
URL:https://sheridan.lib.in.us/event/s-cert-response-team-9/
END:VEVENT
BEGIN:VEVENT
DTSTART;TZID=America/Indiana/Indianapolis:20241126T190000
DTEND;TZID=America/Indiana/Indianapolis:20241126T190000
DTSTAMP:20260422T195051
CREATED:20231006T154748Z
LAST-MODIFIED:20231006T154748Z
UID:23783-1732647600-1732647600@sheridan.lib.in.us
SUMMARY:PHI BETA PSI
DESCRIPTION:
URL:https://sheridan.lib.in.us/event/phi-beta-psi-14/
END:VEVENT
BEGIN:VEVENT
DTSTART;VALUE=DATE:20241128
DTEND;VALUE=DATE:20241129
DTSTAMP:20260422T195051
CREATED:20231209T151730Z
LAST-MODIFIED:20231209T151730Z
UID:24478-1732752000-1732838399@sheridan.lib.in.us
SUMMARY:FOSTER FAMILY THANKSGIVING
DESCRIPTION:
URL:https://sheridan.lib.in.us/event/foster-family-thanksgiving-2/
END:VEVENT
BEGIN:VEVENT
DTSTART;VALUE=DATE:20241129
DTEND;VALUE=DATE:20241130
DTSTAMP:20260422T195051
CREATED:20241118T141500Z
LAST-MODIFIED:20241118T141500Z
UID:27328-1732838400-1732924799@sheridan.lib.in.us
SUMMARY:room closed
DESCRIPTION:
URL:https://sheridan.lib.in.us/event/room-closed-2/
END:VEVENT
BEGIN:VEVENT
DTSTART;VALUE=DATE:20241130
DTEND;VALUE=DATE:20241201
DTSTAMP:20260422T195051
CREATED:20240813T183020Z
LAST-MODIFIED:20240903T154741Z
UID:26241-1732924800-1733011199@sheridan.lib.in.us
SUMMARY:Patty Barker's Retirement Party
DESCRIPTION:
URL:https://sheridan.lib.in.us/event/closed-for-library-use-2/
END:VEVENT
BEGIN:VEVENT
DTSTART;TZID=America/Indiana/Indianapolis:20241203T180000
DTEND;TZID=America/Indiana/Indianapolis:20241203T180000
DTSTAMP:20260422T195051
CREATED:20231006T180231Z
LAST-MODIFIED:20231006T180231Z
UID:23935-1733248800-1733248800@sheridan.lib.in.us
SUMMARY:ROTARY
DESCRIPTION:
URL:https://sheridan.lib.in.us/event/rotary-43/
END:VEVENT
BEGIN:VEVENT
DTSTART;TZID=America/Indiana/Indianapolis:20241204T150000
DTEND;TZID=America/Indiana/Indianapolis:20241204T160000
DTSTAMP:20260422T195051
CREATED:20240903T191936Z
LAST-MODIFIED:20240903T191936Z
UID:26400-1733324400-1733328000@sheridan.lib.in.us
SUMMARY:Adult Bingo
DESCRIPTION:
URL:https://sheridan.lib.in.us/event/adult-bingo-13/
END:VEVENT
BEGIN:VEVENT
DTSTART;TZID=America/Indiana/Indianapolis:20241205T140000
DTEND;TZID=America/Indiana/Indianapolis:20241205T160000
DTSTAMP:20260422T195051
CREATED:20241118T201730Z
LAST-MODIFIED:20241118T201730Z
UID:27336-1733407200-1733414400@sheridan.lib.in.us
SUMMARY:Town of Sheridan
DESCRIPTION:
URL:https://sheridan.lib.in.us/event/town-of-sheridan/
END:VEVENT
BEGIN:VEVENT
DTSTART;TZID=America/Indiana/Indianapolis:20241205T180000
DTEND;TZID=America/Indiana/Indianapolis:20241205T210000
DTSTAMP:20260422T195051
CREATED:20240226T190714Z
LAST-MODIFIED:20240226T190714Z
UID:25158-1733421600-1733432400@sheridan.lib.in.us
SUMMARY:Kiwanis Club of Sheridan
DESCRIPTION:
URL:https://sheridan.lib.in.us/event/kiwanis-club-of-sheridan-14/
END:VEVENT
BEGIN:VEVENT
DTSTART;TZID=America/Indiana/Indianapolis:20241207T093000
DTEND;TZID=America/Indiana/Indianapolis:20241207T113000
DTSTAMP:20260422T195051
CREATED:20231204T150105Z
LAST-MODIFIED:20231204T150105Z
UID:24424-1733563800-1733571000@sheridan.lib.in.us
SUMMARY:Santa
DESCRIPTION:
URL:https://sheridan.lib.in.us/event/santa/
END:VEVENT
BEGIN:VEVENT
DTSTART;TZID=America/Indiana/Indianapolis:20241207T130000
DTEND;TZID=America/Indiana/Indianapolis:20241207T200000
DTSTAMP:20260422T195051
CREATED:20231204T152246Z
LAST-MODIFIED:20231204T152246Z
UID:24426-1733576400-1733601600@sheridan.lib.in.us
SUMMARY:Waggoner Family
DESCRIPTION:
URL:https://sheridan.lib.in.us/event/waggoner-family-2/
END:VEVENT
BEGIN:VEVENT
DTSTART;VALUE=DATE:20241208
DTEND;VALUE=DATE:20241209
DTSTAMP:20260422T195051
CREATED:20230929T180529Z
LAST-MODIFIED:20231115T180836Z
UID:23466-1733616000-1733702399@sheridan.lib.in.us
SUMMARY:CHRIST TABERNACLE CHURCH
DESCRIPTION:
URL:https://sheridan.lib.in.us/event/christ-tabernacle-church/
END:VEVENT
BEGIN:VEVENT
DTSTART;TZID=America/Indiana/Indianapolis:20241209T080000
DTEND;TZID=America/Indiana/Indianapolis:20241209T110000
DTSTAMP:20260422T195051
CREATED:20240912T204327Z
LAST-MODIFIED:20240912T204327Z
UID:26544-1733731200-1733742000@sheridan.lib.in.us
SUMMARY:Backflow class
DESCRIPTION:
URL:https://sheridan.lib.in.us/event/backflow-class-36/
END:VEVENT
BEGIN:VEVENT
DTSTART;TZID=America/Indiana/Indianapolis:20241209T130000
DTEND;TZID=America/Indiana/Indianapolis:20241209T190000
DTSTAMP:20260422T195051
CREATED:20240102T182830Z
LAST-MODIFIED:20240102T182830Z
UID:24616-1733749200-1733770800@sheridan.lib.in.us
SUMMARY:Blood Drive
DESCRIPTION:
URL:https://sheridan.lib.in.us/event/blood-drive-5/
END:VEVENT
BEGIN:VEVENT
DTSTART;TZID=America/Indiana/Indianapolis:20241209T180000
DTEND;TZID=America/Indiana/Indianapolis:20241209T180000
DTSTAMP:20260422T195051
CREATED:20231006T153309Z
LAST-MODIFIED:20231006T153309Z
UID:23754-1733767200-1733767200@sheridan.lib.in.us
SUMMARY:LIBRARY BOARD MEETING
DESCRIPTION:
URL:https://sheridan.lib.in.us/event/library-board-meeting-15/
END:VEVENT
BEGIN:VEVENT
DTSTART;TZID=America/Indiana/Indianapolis:20241210T080000
DTEND;TZID=America/Indiana/Indianapolis:20241210T110000
DTSTAMP:20260422T195051
CREATED:20240912T204348Z
LAST-MODIFIED:20240912T204348Z
UID:26546-1733817600-1733828400@sheridan.lib.in.us
SUMMARY:Backflow class
DESCRIPTION:
URL:https://sheridan.lib.in.us/event/backflow-class-37/
END:VEVENT
BEGIN:VEVENT
DTSTART;TZID=America/Indiana/Indianapolis:20241210T153000
DTEND;TZID=America/Indiana/Indianapolis:20241210T170000
DTSTAMP:20260422T195051
CREATED:20241115T162710Z
LAST-MODIFIED:20241115T164904Z
UID:27322-1733844600-1733850000@sheridan.lib.in.us
SUMMARY:CRAFTERNOON - ORNAMENTS
DESCRIPTION:
URL:https://sheridan.lib.in.us/event/crafternoon-ornaments/
END:VEVENT
BEGIN:VEVENT
DTSTART;TZID=America/Indiana/Indianapolis:20241210T180000
DTEND;TZID=America/Indiana/Indianapolis:20241210T180000
DTSTAMP:20260422T195051
CREATED:20231006T180247Z
LAST-MODIFIED:20231006T180247Z
UID:23937-1733853600-1733853600@sheridan.lib.in.us
SUMMARY:ROTARY
DESCRIPTION:
URL:https://sheridan.lib.in.us/event/rotary-44/
END:VEVENT
BEGIN:VEVENT
DTSTART;TZID=America/Indiana/Indianapolis:20241211T080000
DTEND;TZID=America/Indiana/Indianapolis:20241211T110000
DTSTAMP:20260422T195051
CREATED:20240912T204408Z
LAST-MODIFIED:20240912T204408Z
UID:26548-1733904000-1733914800@sheridan.lib.in.us
SUMMARY:Backflow class
DESCRIPTION:
URL:https://sheridan.lib.in.us/event/backflow-class-38/
END:VEVENT
END:VCALENDAR