BEGIN:VCALENDAR
VERSION:2.0
PRODID:-//Sheridan Public Library - ECPv6.15.20//NONSGML v1.0//EN
CALSCALE:GREGORIAN
METHOD:PUBLISH
X-ORIGINAL-URL:https://sheridan.lib.in.us
X-WR-CALDESC:Events for Sheridan Public Library
REFRESH-INTERVAL;VALUE=DURATION:PT1H
X-Robots-Tag:noindex
X-PUBLISHED-TTL:PT1H
BEGIN:VTIMEZONE
TZID:America/Indiana/Indianapolis
BEGIN:DAYLIGHT
TZOFFSETFROM:-0500
TZOFFSETTO:-0400
TZNAME:EDT
DTSTART:20230312T070000
END:DAYLIGHT
BEGIN:STANDARD
TZOFFSETFROM:-0400
TZOFFSETTO:-0500
TZNAME:EST
DTSTART:20231105T060000
END:STANDARD
BEGIN:DAYLIGHT
TZOFFSETFROM:-0500
TZOFFSETTO:-0400
TZNAME:EDT
DTSTART:20240310T070000
END:DAYLIGHT
BEGIN:STANDARD
TZOFFSETFROM:-0400
TZOFFSETTO:-0500
TZNAME:EST
DTSTART:20241103T060000
END:STANDARD
BEGIN:DAYLIGHT
TZOFFSETFROM:-0500
TZOFFSETTO:-0400
TZNAME:EDT
DTSTART:20250309T070000
END:DAYLIGHT
BEGIN:STANDARD
TZOFFSETFROM:-0400
TZOFFSETTO:-0500
TZNAME:EST
DTSTART:20251102T060000
END:STANDARD
END:VTIMEZONE
BEGIN:VEVENT
DTSTART;VALUE=DATE:20240720
DTEND;VALUE=DATE:20240721
DTSTAMP:20260423T012457
CREATED:20240611T160615Z
LAST-MODIFIED:20240611T160615Z
UID:25954-1721433600-1721519999@sheridan.lib.in.us
SUMMARY:BABY SHOWER - MADDI KELLER
DESCRIPTION:Contact: Holly Line
URL:https://sheridan.lib.in.us/event/baby-shower-maddi-keller/
END:VEVENT
BEGIN:VEVENT
DTSTART;TZID=America/Indiana/Indianapolis:20240722T110000
DTEND;TZID=America/Indiana/Indianapolis:20240722T120000
DTSTAMP:20260423T012457
CREATED:20240419T190225Z
LAST-MODIFIED:20240419T190225Z
UID:25557-1721646000-1721649600@sheridan.lib.in.us
SUMMARY:MINDFUL MOVEMENTS
DESCRIPTION:
URL:https://sheridan.lib.in.us/event/mindful-movements-18/
END:VEVENT
BEGIN:VEVENT
DTSTART;TZID=America/Indiana/Indianapolis:20240722T173000
DTEND;TZID=America/Indiana/Indianapolis:20240722T203000
DTSTAMP:20260423T012457
CREATED:20231006T174132Z
LAST-MODIFIED:20231114T164558Z
UID:23844-1721669400-1721680200@sheridan.lib.in.us
SUMMARY:S-CERT RESPONSE TEAM
DESCRIPTION:
URL:https://sheridan.lib.in.us/event/s-cert-response-team-12/
END:VEVENT
BEGIN:VEVENT
DTSTART;TZID=America/Indiana/Indianapolis:20240724T193000
DTEND;TZID=America/Indiana/Indianapolis:20240724T193000
DTSTAMP:20260423T012457
CREATED:20231006T160725Z
LAST-MODIFIED:20231006T160849Z
UID:23804-1721849400-1721849400@sheridan.lib.in.us
SUMMARY:SHERIDAN RECREATION BOARD
DESCRIPTION:
URL:https://sheridan.lib.in.us/event/sheridan-recreation-board-9/
END:VEVENT
BEGIN:VEVENT
DTSTART;TZID=America/Indiana/Indianapolis:20240726T130000
DTEND;TZID=America/Indiana/Indianapolis:20240726T150000
DTSTAMP:20260423T012457
CREATED:20231116T185010Z
LAST-MODIFIED:20240206T191920Z
UID:24313-1721998800-1722006000@sheridan.lib.in.us
SUMMARY:END OF SUMMER SPLASH
DESCRIPTION:
URL:https://sheridan.lib.in.us/event/closed-for-library-event-15/
END:VEVENT
BEGIN:VEVENT
DTSTART;VALUE=DATE:20240728
DTEND;VALUE=DATE:20240729
DTSTAMP:20260423T012457
CREATED:20230929T181247Z
LAST-MODIFIED:20231002T184244Z
UID:23484-1722124800-1722211199@sheridan.lib.in.us
SUMMARY:MENDENHALL FAMILY REUNION
DESCRIPTION:
URL:https://sheridan.lib.in.us/event/mendenhall-family-reunion/
END:VEVENT
BEGIN:VEVENT
DTSTART;TZID=America/Indiana/Indianapolis:20240729T110000
DTEND;TZID=America/Indiana/Indianapolis:20240729T120000
DTSTAMP:20260423T012457
CREATED:20240419T190255Z
LAST-MODIFIED:20240419T190255Z
UID:25559-1722250800-1722254400@sheridan.lib.in.us
SUMMARY:MINDFUL MOVEMENTS
DESCRIPTION:
URL:https://sheridan.lib.in.us/event/mindful-movements-19/
END:VEVENT
BEGIN:VEVENT
DTSTART;TZID=America/Indiana/Indianapolis:20240731T130000
DTEND;TZID=America/Indiana/Indianapolis:20240731T150000
DTSTAMP:20260423T012457
CREATED:20240208T234138Z
LAST-MODIFIED:20240208T234138Z
UID:24954-1722430800-1722438000@sheridan.lib.in.us
SUMMARY:HARRY POTTER BIRTHDAY PARTY
DESCRIPTION:
URL:https://sheridan.lib.in.us/event/harry-potter-birthday-party/
END:VEVENT
BEGIN:VEVENT
DTSTART;TZID=America/Indiana/Indianapolis:20240801T180000
DTEND;TZID=America/Indiana/Indianapolis:20240801T210000
DTSTAMP:20260423T012457
CREATED:20240226T190240Z
LAST-MODIFIED:20240226T190240Z
UID:25142-1722535200-1722546000@sheridan.lib.in.us
SUMMARY:Kiwanis Club of Sheridan
DESCRIPTION:
URL:https://sheridan.lib.in.us/event/kiwanis-club-of-sheridan-6/
END:VEVENT
BEGIN:VEVENT
DTSTART;VALUE=DATE:20240803
DTEND;VALUE=DATE:20240804
DTSTAMP:20260423T012457
CREATED:20240506T141532Z
LAST-MODIFIED:20240506T141532Z
UID:25696-1722643200-1722729599@sheridan.lib.in.us
SUMMARY:Norah Lindenmayer's 5th Birthday
DESCRIPTION:
URL:https://sheridan.lib.in.us/event/norah-lindenmayers-5th-birthday/
END:VEVENT
BEGIN:VEVENT
DTSTART;VALUE=DATE:20240804
DTEND;VALUE=DATE:20240805
DTSTAMP:20260423T012457
CREATED:20230929T181315Z
LAST-MODIFIED:20231002T184239Z
UID:23486-1722729600-1722815999@sheridan.lib.in.us
SUMMARY:WALTON FAMILY
DESCRIPTION:
URL:https://sheridan.lib.in.us/event/walton-family/
END:VEVENT
BEGIN:VEVENT
DTSTART;TZID=America/Indiana/Indianapolis:20240806T180000
DTEND;TZID=America/Indiana/Indianapolis:20240806T180000
DTSTAMP:20260423T012457
CREATED:20231006T175838Z
LAST-MODIFIED:20231006T175838Z
UID:23911-1722967200-1722967200@sheridan.lib.in.us
SUMMARY:ROTARY
DESCRIPTION:
URL:https://sheridan.lib.in.us/event/rotary-31/
END:VEVENT
BEGIN:VEVENT
DTSTART;TZID=America/Indiana/Indianapolis:20240809T180000
DTEND;TZID=America/Indiana/Indianapolis:20240809T193000
DTSTAMP:20260423T012457
CREATED:20240709T192806Z
LAST-MODIFIED:20240709T192806Z
UID:26114-1723226400-1723231800@sheridan.lib.in.us
SUMMARY:BINGO
DESCRIPTION:
URL:https://sheridan.lib.in.us/event/bingo-7/
END:VEVENT
BEGIN:VEVENT
DTSTART;VALUE=DATE:20240810
DTEND;VALUE=DATE:20240811
DTSTAMP:20260423T012457
CREATED:20240412T170902Z
LAST-MODIFIED:20240412T170902Z
UID:25476-1723248000-1723334399@sheridan.lib.in.us
SUMMARY:CAPES BIRTHDAY
DESCRIPTION:
URL:https://sheridan.lib.in.us/event/capes-birthday/
END:VEVENT
BEGIN:VEVENT
DTSTART;VALUE=DATE:20240811
DTEND;VALUE=DATE:20240812
DTSTAMP:20260423T012457
CREATED:20240507T181344Z
LAST-MODIFIED:20240507T181344Z
UID:25711-1723334400-1723420799@sheridan.lib.in.us
SUMMARY:West Bridal Shower
DESCRIPTION:
URL:https://sheridan.lib.in.us/event/west-bridal-shower/
END:VEVENT
BEGIN:VEVENT
DTSTART;TZID=America/Indiana/Indianapolis:20240812T080000
DTEND;TZID=America/Indiana/Indianapolis:20240812T110000
DTSTAMP:20260423T012457
CREATED:20240603T160509Z
LAST-MODIFIED:20240603T160618Z
UID:25873-1723449600-1723460400@sheridan.lib.in.us
SUMMARY:BACKFLOW CLASS
DESCRIPTION:
URL:https://sheridan.lib.in.us/event/backflow-class-26/
END:VEVENT
BEGIN:VEVENT
DTSTART;TZID=America/Indiana/Indianapolis:20240812T180000
DTEND;TZID=America/Indiana/Indianapolis:20240812T180000
DTSTAMP:20260423T012457
CREATED:20231006T153128Z
LAST-MODIFIED:20231006T153128Z
UID:23746-1723485600-1723485600@sheridan.lib.in.us
SUMMARY:LIBRARY BOARD MEETING
DESCRIPTION:
URL:https://sheridan.lib.in.us/event/library-board-meeting-11/
END:VEVENT
BEGIN:VEVENT
DTSTART;TZID=America/Indiana/Indianapolis:20240813T080000
DTEND;TZID=America/Indiana/Indianapolis:20240813T110000
DTSTAMP:20260423T012457
CREATED:20240603T160653Z
LAST-MODIFIED:20240603T160653Z
UID:25875-1723536000-1723546800@sheridan.lib.in.us
SUMMARY:BACKFLOW CLASS
DESCRIPTION:
URL:https://sheridan.lib.in.us/event/backflow-class-27/
END:VEVENT
BEGIN:VEVENT
DTSTART;TZID=America/Indiana/Indianapolis:20240813T180000
DTEND;TZID=America/Indiana/Indianapolis:20240813T180000
DTSTAMP:20260423T012457
CREATED:20231006T175857Z
LAST-MODIFIED:20231006T175857Z
UID:23913-1723572000-1723572000@sheridan.lib.in.us
SUMMARY:ROTARY
DESCRIPTION:
URL:https://sheridan.lib.in.us/event/rotary-32/
END:VEVENT
BEGIN:VEVENT
DTSTART;TZID=America/Indiana/Indianapolis:20240814T080000
DTEND;TZID=America/Indiana/Indianapolis:20240814T110000
DTSTAMP:20260423T012457
CREATED:20240603T160718Z
LAST-MODIFIED:20240603T160718Z
UID:25877-1723622400-1723633200@sheridan.lib.in.us
SUMMARY:BACKFLOW CLASS
DESCRIPTION:
URL:https://sheridan.lib.in.us/event/backflow-class-28/
END:VEVENT
BEGIN:VEVENT
DTSTART;TZID=America/Indiana/Indianapolis:20240815T080000
DTEND;TZID=America/Indiana/Indianapolis:20240815T110000
DTSTAMP:20260423T012457
CREATED:20240603T160746Z
LAST-MODIFIED:20240603T160746Z
UID:25879-1723708800-1723719600@sheridan.lib.in.us
SUMMARY:BACKFLOW CLASS
DESCRIPTION:
URL:https://sheridan.lib.in.us/event/backflow-class-29/
END:VEVENT
BEGIN:VEVENT
DTSTART;TZID=America/Indiana/Indianapolis:20240815T180000
DTEND;TZID=America/Indiana/Indianapolis:20240815T210000
DTSTAMP:20260423T012457
CREATED:20240226T190413Z
LAST-MODIFIED:20240226T190413Z
UID:25146-1723744800-1723755600@sheridan.lib.in.us
SUMMARY:Kiwanis Club of Sheridan
DESCRIPTION:
URL:https://sheridan.lib.in.us/event/kiwanis-club-of-sheridan-8/
END:VEVENT
BEGIN:VEVENT
DTSTART;TZID=America/Indiana/Indianapolis:20240816T080000
DTEND;TZID=America/Indiana/Indianapolis:20240816T110000
DTSTAMP:20260423T012457
CREATED:20240603T160803Z
LAST-MODIFIED:20240603T160803Z
UID:25881-1723795200-1723806000@sheridan.lib.in.us
SUMMARY:BACKFLOW CLASS
DESCRIPTION:
URL:https://sheridan.lib.in.us/event/backflow-class-30/
END:VEVENT
BEGIN:VEVENT
DTSTART;TZID=America/Indiana/Indianapolis:20240817T160000
DTEND;TZID=America/Indiana/Indianapolis:20240817T200000
DTSTAMP:20260423T012457
CREATED:20231116T185059Z
LAST-MODIFIED:20240725T201745Z
UID:24315-1723910400-1723924800@sheridan.lib.in.us
SUMMARY:HUNTER WAINSCOTT CONCERT
DESCRIPTION:
URL:https://sheridan.lib.in.us/event/closed-for-library-event-16/
END:VEVENT
BEGIN:VEVENT
DTSTART;VALUE=DATE:20240818
DTEND;VALUE=DATE:20240819
DTSTAMP:20260423T012457
CREATED:20240610T170554Z
LAST-MODIFIED:20240610T170554Z
UID:25937-1723939200-1724025599@sheridan.lib.in.us
SUMMARY:HINSHAW FAMILY REUNION | LISA BRAGG
DESCRIPTION:
URL:https://sheridan.lib.in.us/event/hinshaw-family-reunion-lisa-bragg/
END:VEVENT
BEGIN:VEVENT
DTSTART;TZID=America/Indiana/Indianapolis:20240819T180000
DTEND;TZID=America/Indiana/Indianapolis:20240819T180000
DTSTAMP:20260423T012457
CREATED:20231006T151728Z
LAST-MODIFIED:20231006T151728Z
UID:23716-1724090400-1724090400@sheridan.lib.in.us
SUMMARY:PINNERS
DESCRIPTION:
URL:https://sheridan.lib.in.us/event/pinners-10/
END:VEVENT
BEGIN:VEVENT
DTSTART;TZID=America/Indiana/Indianapolis:20240820T180000
DTEND;TZID=America/Indiana/Indianapolis:20240820T180000
DTSTAMP:20260423T012457
CREATED:20231006T175915Z
LAST-MODIFIED:20231006T175915Z
UID:23915-1724176800-1724176800@sheridan.lib.in.us
SUMMARY:ROTARY
DESCRIPTION:
URL:https://sheridan.lib.in.us/event/rotary-33/
END:VEVENT
BEGIN:VEVENT
DTSTART;TZID=America/Indiana/Indianapolis:20240821T173000
DTEND;TZID=America/Indiana/Indianapolis:20240821T173000
DTSTAMP:20260423T012457
CREATED:20231002T220352Z
LAST-MODIFIED:20240709T192941Z
UID:23644-1724261400-1724261400@sheridan.lib.in.us
SUMMARY:SHERIDAN READERS WITH AUTHOR CARA PUTMAN
DESCRIPTION:
URL:https://sheridan.lib.in.us/event/sheridan-readers-11/
END:VEVENT
BEGIN:VEVENT
DTSTART;TZID=America/Indiana/Indianapolis:20240822T130000
DTEND;TZID=America/Indiana/Indianapolis:20240822T190000
DTSTAMP:20260423T012457
CREATED:20240102T182754Z
LAST-MODIFIED:20240625T205002Z
UID:24614-1724331600-1724353200@sheridan.lib.in.us
SUMMARY:Blood Drive
DESCRIPTION:
URL:https://sheridan.lib.in.us/event/blood-drive-4/
END:VEVENT
BEGIN:VEVENT
DTSTART;VALUE=DATE:20240824
DTEND;VALUE=DATE:20240825
DTSTAMP:20260423T012457
CREATED:20240425T175318Z
LAST-MODIFIED:20240425T175318Z
UID:25588-1724457600-1724543999@sheridan.lib.in.us
SUMMARY:CLOUD FAMILY GENDER REVEAL
DESCRIPTION:
URL:https://sheridan.lib.in.us/event/cloud-family-gender-reveal/
END:VEVENT
END:VCALENDAR