BEGIN:VCALENDAR
VERSION:2.0
PRODID:-//Sheridan Public Library - ECPv6.15.20//NONSGML v1.0//EN
CALSCALE:GREGORIAN
METHOD:PUBLISH
X-ORIGINAL-URL:https://sheridan.lib.in.us
X-WR-CALDESC:Events for Sheridan Public Library
REFRESH-INTERVAL;VALUE=DURATION:PT1H
X-Robots-Tag:noindex
X-PUBLISHED-TTL:PT1H
BEGIN:VTIMEZONE
TZID:America/Indiana/Indianapolis
BEGIN:DAYLIGHT
TZOFFSETFROM:-0500
TZOFFSETTO:-0400
TZNAME:EDT
DTSTART:20230312T070000
END:DAYLIGHT
BEGIN:STANDARD
TZOFFSETFROM:-0400
TZOFFSETTO:-0500
TZNAME:EST
DTSTART:20231105T060000
END:STANDARD
BEGIN:DAYLIGHT
TZOFFSETFROM:-0500
TZOFFSETTO:-0400
TZNAME:EDT
DTSTART:20240310T070000
END:DAYLIGHT
BEGIN:STANDARD
TZOFFSETFROM:-0400
TZOFFSETTO:-0500
TZNAME:EST
DTSTART:20241103T060000
END:STANDARD
BEGIN:DAYLIGHT
TZOFFSETFROM:-0500
TZOFFSETTO:-0400
TZNAME:EDT
DTSTART:20250309T070000
END:DAYLIGHT
BEGIN:STANDARD
TZOFFSETFROM:-0400
TZOFFSETTO:-0500
TZNAME:EST
DTSTART:20251102T060000
END:STANDARD
END:VTIMEZONE
BEGIN:VEVENT
DTSTART;TZID=America/Indiana/Indianapolis:20240628T160000
DTEND;TZID=America/Indiana/Indianapolis:20240628T200000
DTSTAMP:20260423T030801
CREATED:20240208T203142Z
LAST-MODIFIED:20240624T173231Z
UID:24910-1719590400-1719604800@sheridan.lib.in.us
SUMMARY:LILLY ROSE CONCERT
DESCRIPTION:
URL:https://sheridan.lib.in.us/event/closed-for-concert/
END:VEVENT
BEGIN:VEVENT
DTSTART;TZID=America/Indiana/Indianapolis:20240628T163000
DTEND;TZID=America/Indiana/Indianapolis:20240628T180000
DTSTAMP:20260423T030801
CREATED:20240208T220911Z
LAST-MODIFIED:20240523T154941Z
UID:24935-1719592200-1719597600@sheridan.lib.in.us
SUMMARY:TEEN: LIVE ACTION AMONG US
DESCRIPTION:
URL:https://sheridan.lib.in.us/event/sr-program-2/
END:VEVENT
BEGIN:VEVENT
DTSTART;VALUE=DATE:20240629
DTEND;VALUE=DATE:20240630
DTSTAMP:20260423T030801
CREATED:20240614T143217Z
LAST-MODIFIED:20240614T143217Z
UID:25961-1719619200-1719705599@sheridan.lib.in.us
SUMMARY:RETIREMENT PARTY: JETTA HALL
DESCRIPTION:
URL:https://sheridan.lib.in.us/event/retirement-party-jetta-hall/
END:VEVENT
BEGIN:VEVENT
DTSTART;TZID=America/Indiana/Indianapolis:20240702T180000
DTEND;TZID=America/Indiana/Indianapolis:20240702T180000
DTSTAMP:20260423T030801
CREATED:20231006T175725Z
LAST-MODIFIED:20231006T175725Z
UID:23905-1719943200-1719943200@sheridan.lib.in.us
SUMMARY:ROTARY
DESCRIPTION:
URL:https://sheridan.lib.in.us/event/rotary-28/
END:VEVENT
BEGIN:VEVENT
DTSTART;VALUE=DATE:20240706
DTEND;VALUE=DATE:20240707
DTSTAMP:20260423T030801
CREATED:20240618T172413Z
LAST-MODIFIED:20240618T172413Z
UID:25981-1720224000-1720310399@sheridan.lib.in.us
SUMMARY:Brothers and Sisters Communion
DESCRIPTION:
URL:https://sheridan.lib.in.us/event/brothers-and-sisters-communion/
END:VEVENT
BEGIN:VEVENT
DTSTART;TZID=America/Indiana/Indianapolis:20240708T110000
DTEND;TZID=America/Indiana/Indianapolis:20240708T120000
DTSTAMP:20260423T030801
CREATED:20240419T190123Z
LAST-MODIFIED:20240419T190123Z
UID:25553-1720436400-1720440000@sheridan.lib.in.us
SUMMARY:MINDFUL MOVEMENTS
DESCRIPTION:
URL:https://sheridan.lib.in.us/event/mindful-movements-16/
END:VEVENT
BEGIN:VEVENT
DTSTART;TZID=America/Indiana/Indianapolis:20240708T180000
DTEND;TZID=America/Indiana/Indianapolis:20240708T180000
DTSTAMP:20260423T030801
CREATED:20231006T153107Z
LAST-MODIFIED:20231006T153107Z
UID:23744-1720461600-1720461600@sheridan.lib.in.us
SUMMARY:LIBRARY BOARD MEETING
DESCRIPTION:
URL:https://sheridan.lib.in.us/event/library-board-meeting-10/
END:VEVENT
BEGIN:VEVENT
DTSTART;TZID=America/Indiana/Indianapolis:20240709T093000
DTEND;TZID=America/Indiana/Indianapolis:20240709T120000
DTSTAMP:20260423T030801
CREATED:20240610T142913Z
LAST-MODIFIED:20240610T142913Z
UID:25934-1720517400-1720526400@sheridan.lib.in.us
SUMMARY:Estate Planning Workshop
DESCRIPTION:
URL:https://sheridan.lib.in.us/event/estate-planning-workshop/
END:VEVENT
BEGIN:VEVENT
DTSTART;TZID=America/Indiana/Indianapolis:20240709T150000
DTEND;TZID=America/Indiana/Indianapolis:20240709T160000
DTSTAMP:20260423T030801
CREATED:20240523T181240Z
LAST-MODIFIED:20240524T191419Z
UID:25845-1720537200-1720540800@sheridan.lib.in.us
SUMMARY:ADULT BINGO
DESCRIPTION:
URL:https://sheridan.lib.in.us/event/adult-bingo-9/
END:VEVENT
BEGIN:VEVENT
DTSTART;TZID=America/Indiana/Indianapolis:20240709T180000
DTEND;TZID=America/Indiana/Indianapolis:20240709T180000
DTSTAMP:20260423T030801
CREATED:20231006T175744Z
LAST-MODIFIED:20231006T175744Z
UID:23907-1720548000-1720548000@sheridan.lib.in.us
SUMMARY:ROTARY
DESCRIPTION:
URL:https://sheridan.lib.in.us/event/rotary-29/
END:VEVENT
BEGIN:VEVENT
DTSTART;TZID=America/Indiana/Indianapolis:20240712T180000
DTEND;TZID=America/Indiana/Indianapolis:20240712T193000
DTSTAMP:20260423T030801
CREATED:20231116T184942Z
LAST-MODIFIED:20240208T203350Z
UID:24311-1720807200-1720812600@sheridan.lib.in.us
SUMMARY:BINGO
DESCRIPTION:
URL:https://sheridan.lib.in.us/event/closed-for-library-event-14/
END:VEVENT
BEGIN:VEVENT
DTSTART;VALUE=DATE:20240714
DTEND;VALUE=DATE:20240715
DTSTAMP:20260423T030801
CREATED:20240619T175212Z
LAST-MODIFIED:20240619T175212Z
UID:26021-1720915200-1721001599@sheridan.lib.in.us
SUMMARY:MAKALA THOMAS BABY SHOWER
DESCRIPTION:
URL:https://sheridan.lib.in.us/event/makala-thomas-baby-shower/
END:VEVENT
BEGIN:VEVENT
DTSTART;TZID=America/Indiana/Indianapolis:20240715T110000
DTEND;TZID=America/Indiana/Indianapolis:20240715T120000
DTSTAMP:20260423T030801
CREATED:20240419T190154Z
LAST-MODIFIED:20240419T190154Z
UID:25555-1721041200-1721044800@sheridan.lib.in.us
SUMMARY:MINDFUL MOVEMENTS
DESCRIPTION:
URL:https://sheridan.lib.in.us/event/mindful-movements-17/
END:VEVENT
BEGIN:VEVENT
DTSTART;TZID=America/Indiana/Indianapolis:20240715T180000
DTEND;TZID=America/Indiana/Indianapolis:20240715T180000
DTSTAMP:20260423T030801
CREATED:20231006T151708Z
LAST-MODIFIED:20231006T151708Z
UID:23714-1721066400-1721066400@sheridan.lib.in.us
SUMMARY:PINNERS
DESCRIPTION:
URL:https://sheridan.lib.in.us/event/pinners-9/
END:VEVENT
BEGIN:VEVENT
DTSTART;TZID=America/Indiana/Indianapolis:20240716T180000
DTEND;TZID=America/Indiana/Indianapolis:20240716T180000
DTSTAMP:20260423T030801
CREATED:20231006T175804Z
LAST-MODIFIED:20231006T175804Z
UID:23909-1721152800-1721152800@sheridan.lib.in.us
SUMMARY:ROTARY
DESCRIPTION:
URL:https://sheridan.lib.in.us/event/rotary-30/
END:VEVENT
BEGIN:VEVENT
DTSTART;TZID=America/Indiana/Indianapolis:20240717T173000
DTEND;TZID=America/Indiana/Indianapolis:20240717T173000
DTSTAMP:20260423T030801
CREATED:20231002T220327Z
LAST-MODIFIED:20231002T220327Z
UID:23642-1721237400-1721237400@sheridan.lib.in.us
SUMMARY:SHERIDAN READERS
DESCRIPTION:
URL:https://sheridan.lib.in.us/event/sheridan-readers-10/
END:VEVENT
BEGIN:VEVENT
DTSTART;TZID=America/Indiana/Indianapolis:20240718T173000
DTEND;TZID=America/Indiana/Indianapolis:20240718T183000
DTSTAMP:20260423T030801
CREATED:20240208T233933Z
LAST-MODIFIED:20240208T233933Z
UID:24950-1721323800-1721327400@sheridan.lib.in.us
SUMMARY:PIZZA PARTY
DESCRIPTION:
URL:https://sheridan.lib.in.us/event/pizza-party/
END:VEVENT
BEGIN:VEVENT
DTSTART;TZID=America/Indiana/Indianapolis:20240718T190000
DTEND;TZID=America/Indiana/Indianapolis:20240718T200000
DTSTAMP:20260423T030801
CREATED:20240426T134638Z
LAST-MODIFIED:20240426T134638Z
UID:25602-1721329200-1721332800@sheridan.lib.in.us
SUMMARY:MEDICARE 101
DESCRIPTION:
URL:https://sheridan.lib.in.us/event/medicare-101-5/
END:VEVENT
BEGIN:VEVENT
DTSTART;TZID=America/Indiana/Indianapolis:20240719T113000
DTEND;TZID=America/Indiana/Indianapolis:20240719T123000
DTSTAMP:20260423T030801
CREATED:20240208T234018Z
LAST-MODIFIED:20240208T234018Z
UID:24952-1721388600-1721392200@sheridan.lib.in.us
SUMMARY:PIZZA PARTY
DESCRIPTION:
URL:https://sheridan.lib.in.us/event/pizza-party-2/
END:VEVENT
BEGIN:VEVENT
DTSTART;TZID=America/Indiana/Indianapolis:20240719T160000
DTEND;TZID=America/Indiana/Indianapolis:20240719T200000
DTSTAMP:20260423T030801
CREATED:20240208T203228Z
LAST-MODIFIED:20240523T155243Z
UID:24912-1721404800-1721419200@sheridan.lib.in.us
SUMMARY:THE ACKERMANS CONCERT
DESCRIPTION:
URL:https://sheridan.lib.in.us/event/closed-for-concert-2/
END:VEVENT
BEGIN:VEVENT
DTSTART;VALUE=DATE:20240720
DTEND;VALUE=DATE:20240721
DTSTAMP:20260423T030801
CREATED:20240611T160615Z
LAST-MODIFIED:20240611T160615Z
UID:25954-1721433600-1721519999@sheridan.lib.in.us
SUMMARY:BABY SHOWER - MADDI KELLER
DESCRIPTION:Contact: Holly Line
URL:https://sheridan.lib.in.us/event/baby-shower-maddi-keller/
END:VEVENT
BEGIN:VEVENT
DTSTART;TZID=America/Indiana/Indianapolis:20240722T110000
DTEND;TZID=America/Indiana/Indianapolis:20240722T120000
DTSTAMP:20260423T030801
CREATED:20240419T190225Z
LAST-MODIFIED:20240419T190225Z
UID:25557-1721646000-1721649600@sheridan.lib.in.us
SUMMARY:MINDFUL MOVEMENTS
DESCRIPTION:
URL:https://sheridan.lib.in.us/event/mindful-movements-18/
END:VEVENT
BEGIN:VEVENT
DTSTART;TZID=America/Indiana/Indianapolis:20240722T173000
DTEND;TZID=America/Indiana/Indianapolis:20240722T203000
DTSTAMP:20260423T030801
CREATED:20231006T174132Z
LAST-MODIFIED:20231114T164558Z
UID:23844-1721669400-1721680200@sheridan.lib.in.us
SUMMARY:S-CERT RESPONSE TEAM
DESCRIPTION:
URL:https://sheridan.lib.in.us/event/s-cert-response-team-12/
END:VEVENT
BEGIN:VEVENT
DTSTART;TZID=America/Indiana/Indianapolis:20240724T193000
DTEND;TZID=America/Indiana/Indianapolis:20240724T193000
DTSTAMP:20260423T030801
CREATED:20231006T160725Z
LAST-MODIFIED:20231006T160849Z
UID:23804-1721849400-1721849400@sheridan.lib.in.us
SUMMARY:SHERIDAN RECREATION BOARD
DESCRIPTION:
URL:https://sheridan.lib.in.us/event/sheridan-recreation-board-9/
END:VEVENT
BEGIN:VEVENT
DTSTART;TZID=America/Indiana/Indianapolis:20240726T130000
DTEND;TZID=America/Indiana/Indianapolis:20240726T150000
DTSTAMP:20260423T030801
CREATED:20231116T185010Z
LAST-MODIFIED:20240206T191920Z
UID:24313-1721998800-1722006000@sheridan.lib.in.us
SUMMARY:END OF SUMMER SPLASH
DESCRIPTION:
URL:https://sheridan.lib.in.us/event/closed-for-library-event-15/
END:VEVENT
BEGIN:VEVENT
DTSTART;VALUE=DATE:20240728
DTEND;VALUE=DATE:20240729
DTSTAMP:20260423T030801
CREATED:20230929T181247Z
LAST-MODIFIED:20231002T184244Z
UID:23484-1722124800-1722211199@sheridan.lib.in.us
SUMMARY:MENDENHALL FAMILY REUNION
DESCRIPTION:
URL:https://sheridan.lib.in.us/event/mendenhall-family-reunion/
END:VEVENT
BEGIN:VEVENT
DTSTART;TZID=America/Indiana/Indianapolis:20240729T110000
DTEND;TZID=America/Indiana/Indianapolis:20240729T120000
DTSTAMP:20260423T030801
CREATED:20240419T190255Z
LAST-MODIFIED:20240419T190255Z
UID:25559-1722250800-1722254400@sheridan.lib.in.us
SUMMARY:MINDFUL MOVEMENTS
DESCRIPTION:
URL:https://sheridan.lib.in.us/event/mindful-movements-19/
END:VEVENT
BEGIN:VEVENT
DTSTART;TZID=America/Indiana/Indianapolis:20240731T130000
DTEND;TZID=America/Indiana/Indianapolis:20240731T150000
DTSTAMP:20260423T030801
CREATED:20240208T234138Z
LAST-MODIFIED:20240208T234138Z
UID:24954-1722430800-1722438000@sheridan.lib.in.us
SUMMARY:HARRY POTTER BIRTHDAY PARTY
DESCRIPTION:
URL:https://sheridan.lib.in.us/event/harry-potter-birthday-party/
END:VEVENT
BEGIN:VEVENT
DTSTART;TZID=America/Indiana/Indianapolis:20240801T180000
DTEND;TZID=America/Indiana/Indianapolis:20240801T210000
DTSTAMP:20260423T030801
CREATED:20240226T190240Z
LAST-MODIFIED:20240226T190240Z
UID:25142-1722535200-1722546000@sheridan.lib.in.us
SUMMARY:Kiwanis Club of Sheridan
DESCRIPTION:
URL:https://sheridan.lib.in.us/event/kiwanis-club-of-sheridan-6/
END:VEVENT
BEGIN:VEVENT
DTSTART;VALUE=DATE:20240803
DTEND;VALUE=DATE:20240804
DTSTAMP:20260423T030801
CREATED:20240506T141532Z
LAST-MODIFIED:20240506T141532Z
UID:25696-1722643200-1722729599@sheridan.lib.in.us
SUMMARY:Norah Lindenmayer's 5th Birthday
DESCRIPTION:
URL:https://sheridan.lib.in.us/event/norah-lindenmayers-5th-birthday/
END:VEVENT
END:VCALENDAR