BEGIN:VCALENDAR
VERSION:2.0
PRODID:-//Sheridan Public Library - ECPv6.15.20//NONSGML v1.0//EN
CALSCALE:GREGORIAN
METHOD:PUBLISH
X-ORIGINAL-URL:https://sheridan.lib.in.us
X-WR-CALDESC:Events for Sheridan Public Library
REFRESH-INTERVAL;VALUE=DURATION:PT1H
X-Robots-Tag:noindex
X-PUBLISHED-TTL:PT1H
BEGIN:VTIMEZONE
TZID:America/Indiana/Indianapolis
BEGIN:DAYLIGHT
TZOFFSETFROM:-0500
TZOFFSETTO:-0400
TZNAME:EDT
DTSTART:20230312T070000
END:DAYLIGHT
BEGIN:STANDARD
TZOFFSETFROM:-0400
TZOFFSETTO:-0500
TZNAME:EST
DTSTART:20231105T060000
END:STANDARD
BEGIN:DAYLIGHT
TZOFFSETFROM:-0500
TZOFFSETTO:-0400
TZNAME:EDT
DTSTART:20240310T070000
END:DAYLIGHT
BEGIN:STANDARD
TZOFFSETFROM:-0400
TZOFFSETTO:-0500
TZNAME:EST
DTSTART:20241103T060000
END:STANDARD
BEGIN:DAYLIGHT
TZOFFSETFROM:-0500
TZOFFSETTO:-0400
TZNAME:EDT
DTSTART:20250309T070000
END:DAYLIGHT
BEGIN:STANDARD
TZOFFSETFROM:-0400
TZOFFSETTO:-0500
TZNAME:EST
DTSTART:20251102T060000
END:STANDARD
END:VTIMEZONE
BEGIN:VEVENT
DTSTART;VALUE=DATE:20240526
DTEND;VALUE=DATE:20240527
DTSTAMP:20260423T033552
CREATED:20240301T212109Z
LAST-MODIFIED:20240301T212109Z
UID:25209-1716681600-1716767999@sheridan.lib.in.us
SUMMARY:GRADUATION PARTY: DEBBI STAMPER
DESCRIPTION:
URL:https://sheridan.lib.in.us/event/graduation-party-debbi-stamper/
END:VEVENT
BEGIN:VEVENT
DTSTART;TZID=America/Indiana/Indianapolis:20240527T173000
DTEND;TZID=America/Indiana/Indianapolis:20240527T173000
DTSTAMP:20260423T033552
CREATED:20231006T173937Z
LAST-MODIFIED:20231006T173937Z
UID:23834-1716831000-1716831000@sheridan.lib.in.us
SUMMARY:S-CERT RESPONSE TEAM
DESCRIPTION:
URL:https://sheridan.lib.in.us/event/s-cert-response-team-7/
END:VEVENT
BEGIN:VEVENT
DTSTART;TZID=America/Indiana/Indianapolis:20240528T190000
DTEND;TZID=America/Indiana/Indianapolis:20240528T190000
DTSTAMP:20260423T033552
CREATED:20231006T154046Z
LAST-MODIFIED:20231006T154046Z
UID:23771-1716922800-1716922800@sheridan.lib.in.us
SUMMARY:PHI BETA PSI
DESCRIPTION:
URL:https://sheridan.lib.in.us/event/phi-beta-psi-8/
END:VEVENT
BEGIN:VEVENT
DTSTART;TZID=America/Indiana/Indianapolis:20240529T130000
DTEND;TZID=America/Indiana/Indianapolis:20240529T150000
DTSTAMP:20260423T033552
CREATED:20231116T184822Z
LAST-MODIFIED:20240206T191724Z
UID:24307-1716987600-1716994800@sheridan.lib.in.us
SUMMARY:SUMMER READING KICK OFF PARTY
DESCRIPTION:
URL:https://sheridan.lib.in.us/event/closed-for-library-event-12/
END:VEVENT
BEGIN:VEVENT
DTSTART;TZID=America/Indiana/Indianapolis:20240530T180000
DTEND;TZID=America/Indiana/Indianapolis:20240530T190000
DTSTAMP:20260423T033552
CREATED:20240109T184150Z
LAST-MODIFIED:20240109T184150Z
UID:24696-1717092000-1717095600@sheridan.lib.in.us
SUMMARY:SUMMER SAFETY
DESCRIPTION:
URL:https://sheridan.lib.in.us/event/summer-safety/
END:VEVENT
BEGIN:VEVENT
DTSTART;TZID=America/Indiana/Indianapolis:20240601T110000
DTEND;TZID=America/Indiana/Indianapolis:20240601T200000
DTSTAMP:20260423T033552
CREATED:20240202T212804Z
LAST-MODIFIED:20240202T212804Z
UID:24863-1717239600-1717272000@sheridan.lib.in.us
SUMMARY:RANSFORD GRADUATION OPEN HOUSE
DESCRIPTION:
URL:https://sheridan.lib.in.us/event/ransford-graduation-open-house/
END:VEVENT
BEGIN:VEVENT
DTSTART;VALUE=DATE:20240602
DTEND;VALUE=DATE:20240603
DTSTAMP:20260423T033552
CREATED:20240215T210425Z
LAST-MODIFIED:20240215T210425Z
UID:24981-1717286400-1717372799@sheridan.lib.in.us
SUMMARY:FENNEMAN 1ST BIRTHDAY
DESCRIPTION:
URL:https://sheridan.lib.in.us/event/fenneman-1st-birthday/
END:VEVENT
BEGIN:VEVENT
DTSTART;TZID=America/Indiana/Indianapolis:20240603T080000
DTEND;TZID=America/Indiana/Indianapolis:20240603T100000
DTSTAMP:20260423T033552
CREATED:20240502T185723Z
LAST-MODIFIED:20240502T185723Z
UID:25683-1717401600-1717408800@sheridan.lib.in.us
SUMMARY:BACKFLOW CLASS
DESCRIPTION:
URL:https://sheridan.lib.in.us/event/backflow-class-21/
END:VEVENT
BEGIN:VEVENT
DTSTART;TZID=America/Indiana/Indianapolis:20240603T110000
DTEND;TZID=America/Indiana/Indianapolis:20240603T120000
DTSTAMP:20260423T033552
CREATED:20240419T185740Z
LAST-MODIFIED:20240419T185740Z
UID:25543-1717412400-1717416000@sheridan.lib.in.us
SUMMARY:MINDFUL MOVEMENTS
DESCRIPTION:
URL:https://sheridan.lib.in.us/event/mindful-movements-10/
END:VEVENT
BEGIN:VEVENT
DTSTART;TZID=America/Indiana/Indianapolis:20240604T080000
DTEND;TZID=America/Indiana/Indianapolis:20240604T100000
DTSTAMP:20260423T033552
CREATED:20240502T185828Z
LAST-MODIFIED:20240502T185828Z
UID:25685-1717488000-1717495200@sheridan.lib.in.us
SUMMARY:BACKFLOW CLASS
DESCRIPTION:
URL:https://sheridan.lib.in.us/event/backflow-class-22/
END:VEVENT
BEGIN:VEVENT
DTSTART;TZID=America/Indiana/Indianapolis:20240604T110000
DTEND;TZID=America/Indiana/Indianapolis:20240604T120000
DTSTAMP:20260423T033552
CREATED:20240208T203625Z
LAST-MODIFIED:20240523T153741Z
UID:24916-1717498800-1717502400@sheridan.lib.in.us
SUMMARY:ELEMENTARY: ADVENTURES IN LIGHT
DESCRIPTION:
URL:https://sheridan.lib.in.us/event/sr-elementary-program/
END:VEVENT
BEGIN:VEVENT
DTSTART;TZID=America/Indiana/Indianapolis:20240604T150000
DTEND;TZID=America/Indiana/Indianapolis:20240604T160000
DTSTAMP:20260423T033552
CREATED:20240523T153609Z
LAST-MODIFIED:20240523T153609Z
UID:25822-1717513200-1717516800@sheridan.lib.in.us
SUMMARY:ADULT BINGO
DESCRIPTION:
URL:https://sheridan.lib.in.us/event/adult-bingo-8/
END:VEVENT
BEGIN:VEVENT
DTSTART;TZID=America/Indiana/Indianapolis:20240604T180000
DTEND;TZID=America/Indiana/Indianapolis:20240604T180000
DTSTAMP:20260423T033552
CREATED:20231006T175624Z
LAST-MODIFIED:20231006T175624Z
UID:23899-1717524000-1717524000@sheridan.lib.in.us
SUMMARY:ROTARY
DESCRIPTION:
URL:https://sheridan.lib.in.us/event/rotary-25/
END:VEVENT
BEGIN:VEVENT
DTSTART;TZID=America/Indiana/Indianapolis:20240605T080000
DTEND;TZID=America/Indiana/Indianapolis:20240605T100000
DTSTAMP:20260423T033552
CREATED:20240502T190119Z
LAST-MODIFIED:20240502T190119Z
UID:25687-1717574400-1717581600@sheridan.lib.in.us
SUMMARY:BACKFLOW CLASS
DESCRIPTION:
URL:https://sheridan.lib.in.us/event/backflow-class-23/
END:VEVENT
BEGIN:VEVENT
DTSTART;TZID=America/Indiana/Indianapolis:20240605T110000
DTEND;TZID=America/Indiana/Indianapolis:20240605T120000
DTSTAMP:20260423T033552
CREATED:20240208T203948Z
LAST-MODIFIED:20240523T154121Z
UID:24924-1717585200-1717588800@sheridan.lib.in.us
SUMMARY:STORY TIME: ADVENTURES IN IMAGINATIONS
DESCRIPTION:
URL:https://sheridan.lib.in.us/event/sr-story-time-program/
END:VEVENT
BEGIN:VEVENT
DTSTART;TZID=America/Indiana/Indianapolis:20240606T080000
DTEND;TZID=America/Indiana/Indianapolis:20240606T120000
DTSTAMP:20260423T033552
CREATED:20240502T190152Z
LAST-MODIFIED:20240502T190152Z
UID:25689-1717660800-1717675200@sheridan.lib.in.us
SUMMARY:BACKFLOW CLASS
DESCRIPTION:
URL:https://sheridan.lib.in.us/event/backflow-class-24/
END:VEVENT
BEGIN:VEVENT
DTSTART;TZID=America/Indiana/Indianapolis:20240607T080000
DTEND;TZID=America/Indiana/Indianapolis:20240607T110000
DTSTAMP:20260423T033552
CREATED:20240502T190219Z
LAST-MODIFIED:20240502T190219Z
UID:25691-1717747200-1717758000@sheridan.lib.in.us
SUMMARY:BACKFLOW CLASS
DESCRIPTION:
URL:https://sheridan.lib.in.us/event/backflow-class-25/
END:VEVENT
BEGIN:VEVENT
DTSTART;TZID=America/Indiana/Indianapolis:20240607T163000
DTEND;TZID=America/Indiana/Indianapolis:20240607T180000
DTSTAMP:20260423T033552
CREATED:20240208T220810Z
LAST-MODIFIED:20240523T154858Z
UID:24933-1717777800-1717783200@sheridan.lib.in.us
SUMMARY:AMAZING RACE: LIBRARY EDITION
DESCRIPTION:
URL:https://sheridan.lib.in.us/event/sr-program/
END:VEVENT
BEGIN:VEVENT
DTSTART;TZID=America/Indiana/Indianapolis:20240608T063000
DTEND;TZID=America/Indiana/Indianapolis:20240608T110000
DTSTAMP:20260423T033552
CREATED:20240501T204156Z
LAST-MODIFIED:20240501T204156Z
UID:25680-1717828200-1717844400@sheridan.lib.in.us
SUMMARY:GREATER MEN'S BREAKFAST
DESCRIPTION:
URL:https://sheridan.lib.in.us/event/greater-mens-breakfast-2/
END:VEVENT
BEGIN:VEVENT
DTSTART;VALUE=DATE:20240609
DTEND;VALUE=DATE:20240610
DTSTAMP:20260423T033552
CREATED:20240318T172222Z
LAST-MODIFIED:20240402T144709Z
UID:25311-1717891200-1717977599@sheridan.lib.in.us
SUMMARY:GRADUATION PARTY: WESTERMEIER
DESCRIPTION:
URL:https://sheridan.lib.in.us/event/graduation-party-westermeier/
END:VEVENT
BEGIN:VEVENT
DTSTART;TZID=America/Indiana/Indianapolis:20240610T110000
DTEND;TZID=America/Indiana/Indianapolis:20240610T120000
DTSTAMP:20260423T033552
CREATED:20240419T185807Z
LAST-MODIFIED:20240419T185807Z
UID:25545-1718017200-1718020800@sheridan.lib.in.us
SUMMARY:MINDFUL MOVEMENTS
DESCRIPTION:
URL:https://sheridan.lib.in.us/event/mindful-movements-13/
END:VEVENT
BEGIN:VEVENT
DTSTART;TZID=America/Indiana/Indianapolis:20240610T173000
DTEND;TZID=America/Indiana/Indianapolis:20240610T180000
DTSTAMP:20260423T033552
CREATED:20240605T135725Z
LAST-MODIFIED:20240605T135725Z
UID:25927-1718040600-1718042400@sheridan.lib.in.us
SUMMARY:Board of Trustee Executive Session
DESCRIPTION:
URL:https://sheridan.lib.in.us/event/board-of-trustee-executive-session/
END:VEVENT
BEGIN:VEVENT
DTSTART;TZID=America/Indiana/Indianapolis:20240610T180000
DTEND;TZID=America/Indiana/Indianapolis:20240610T180000
DTSTAMP:20260423T033552
CREATED:20231006T153048Z
LAST-MODIFIED:20231006T153048Z
UID:23742-1718042400-1718042400@sheridan.lib.in.us
SUMMARY:LIBRARY BOARD MEETING
DESCRIPTION:
URL:https://sheridan.lib.in.us/event/library-board-meeting-9/
END:VEVENT
BEGIN:VEVENT
DTSTART;TZID=America/Indiana/Indianapolis:20240611T110000
DTEND;TZID=America/Indiana/Indianapolis:20240611T120000
DTSTAMP:20260423T033552
CREATED:20240208T203702Z
LAST-MODIFIED:20240523T153757Z
UID:24918-1718103600-1718107200@sheridan.lib.in.us
SUMMARY:ELEMENTARY: ADVENTURES IN LIGHT
DESCRIPTION:
URL:https://sheridan.lib.in.us/event/sr-elementary-program-2/
END:VEVENT
BEGIN:VEVENT
DTSTART;TZID=America/Indiana/Indianapolis:20240611T180000
DTEND;TZID=America/Indiana/Indianapolis:20240611T180000
DTSTAMP:20260423T033552
CREATED:20231006T175640Z
LAST-MODIFIED:20231006T175640Z
UID:23901-1718128800-1718128800@sheridan.lib.in.us
SUMMARY:ROTARY
DESCRIPTION:
URL:https://sheridan.lib.in.us/event/rotary-26/
END:VEVENT
BEGIN:VEVENT
DTSTART;TZID=America/Indiana/Indianapolis:20240612T110000
DTEND;TZID=America/Indiana/Indianapolis:20240612T120000
DTSTAMP:20260423T033552
CREATED:20240208T204148Z
LAST-MODIFIED:20240523T154155Z
UID:24929-1718190000-1718193600@sheridan.lib.in.us
SUMMARY:STORY TIME: ADVENTURES IN IMAGINATIONS
DESCRIPTION:
URL:https://sheridan.lib.in.us/event/sr-story-time-program-3/
END:VEVENT
BEGIN:VEVENT
DTSTART;TZID=America/Indiana/Indianapolis:20240612T180000
DTEND;TZID=America/Indiana/Indianapolis:20240612T190000
DTSTAMP:20260423T033552
CREATED:20240208T221030Z
LAST-MODIFIED:20240523T154449Z
UID:24939-1718215200-1718218800@sheridan.lib.in.us
SUMMARY:FLY TYING INTRODUCTION
DESCRIPTION:
URL:https://sheridan.lib.in.us/event/sr-adult-program-2/
END:VEVENT
BEGIN:VEVENT
DTSTART;TZID=America/Indiana/Indianapolis:20240614T100000
DTEND;TZID=America/Indiana/Indianapolis:20240614T163000
DTSTAMP:20260423T033552
CREATED:20240424T154343Z
LAST-MODIFIED:20240424T154343Z
UID:25579-1718359200-1718382600@sheridan.lib.in.us
SUMMARY:CAREGIVER INC.
DESCRIPTION:
URL:https://sheridan.lib.in.us/event/caregiver-inc/
END:VEVENT
BEGIN:VEVENT
DTSTART;TZID=America/Indiana/Indianapolis:20240614T180000
DTEND;TZID=America/Indiana/Indianapolis:20240614T193000
DTSTAMP:20260423T033552
CREATED:20231116T184859Z
LAST-MODIFIED:20240208T203334Z
UID:24309-1718388000-1718393400@sheridan.lib.in.us
SUMMARY:BINGO
DESCRIPTION:
URL:https://sheridan.lib.in.us/event/closed-for-library-event-13/
END:VEVENT
BEGIN:VEVENT
DTSTART;VALUE=DATE:20240615
DTEND;VALUE=DATE:20240616
DTSTAMP:20260423T033552
CREATED:20240319T214732Z
LAST-MODIFIED:20240319T214732Z
UID:25354-1718409600-1718495999@sheridan.lib.in.us
SUMMARY:KINSEY BABY SHOWER
DESCRIPTION:
URL:https://sheridan.lib.in.us/event/kinsey-baby-shower/
END:VEVENT
END:VCALENDAR