BEGIN:VCALENDAR
VERSION:2.0
PRODID:-//wp-events-plugin.com//7.2.3.1//EN
TZID:America/Indiana/Indianapolis
X-WR-TIMEZONE:America/Indiana/Indianapolis
BEGIN:VEVENT
UID:9@sheridan.lib.in.us
DTSTART;TZID=America/Indiana/Indianapolis:20230929T110000
DTEND;TZID=America/Indiana/Indianapolis:20230929T114500
DTSTAMP:20230927T201716Z
URL:https://sheridan.lib.in.us/events/story-time/
SUMMARY:STORY TIME
DESCRIPTION:[events_calendar]\n
CATEGORIES:PRESCHOOL
END:VEVENT
BEGIN:VEVENT
UID:11@sheridan.lib.in.us
DTSTART;TZID=America/Indiana/Indianapolis:20231003T133000
DTEND;TZID=America/Indiana/Indianapolis:20231003T133000
DTSTAMP:20230929T192945Z
URL:https://sheridan.lib.in.us/events/adult-bingo/
SUMMARY:ADULT BINGO
DESCRIPTION:
CATEGORIES:ADULT
END:VEVENT
BEGIN:VEVENT
UID:28@sheridan.lib.in.us
DTSTART;TZID=America/Indiana/Indianapolis:20231003T160000
DTEND;TZID=America/Indiana/Indianapolis:20231003T160000
DTSTAMP:20231002T210703Z
URL:https://sheridan.lib.in.us/events/hero-kids/
SUMMARY:HERO KIDS  |  KIDS
DESCRIPTION:
CATEGORIES:KIDS
END:VEVENT
BEGIN:VEVENT
UID:23@sheridan.lib.in.us
DTSTART;TZID=America/Indiana/Indianapolis:20231004T110000
DTEND;TZID=America/Indiana/Indianapolis:20231004T110000
DTSTAMP:20231002T202017Z
URL:https://sheridan.lib.in.us/events/mindful-movements/
SUMMARY:MINDFUL MOVEMENTS  |  AGES 2-6
DESCRIPTION:
CATEGORIES:PRESCHOOL
END:VEVENT
BEGIN:VEVENT
UID:35@sheridan.lib.in.us
DTSTART;TZID=America/Indiana/Indianapolis:20231004T110000
DTEND;TZID=America/Indiana/Indianapolis:20231004T110000
DTSTAMP:20231002T202027Z
URL:https://sheridan.lib.in.us/events/needle-crafters/
SUMMARY:NEEDLE CRAFTERS  |  ADULT
DESCRIPTION:
CATEGORIES:ADULT
END:VEVENT
BEGIN:VEVENT
UID:20@sheridan.lib.in.us
DTSTART;TZID=America/Indiana/Indianapolis:20231005T110000
DTEND;TZID=America/Indiana/Indianapolis:20231005T110000
DTSTAMP:20231002T202110Z
URL:https://sheridan.lib.in.us/events/discovery-time/
SUMMARY:DISCOVERY TIME  |  AGES 18-36MOS
DESCRIPTION:
CATEGORIES:BABIES + TODDLERS
END:VEVENT
BEGIN:VEVENT
UID:33@sheridan.lib.in.us
DTSTART;TZID=America/Indiana/Indianapolis:20231005T160000
DTEND;TZID=America/Indiana/Indianapolis:20231005T160000
DTSTAMP:20231002T210830Z
URL:https://sheridan.lib.in.us/events/rippers/
SUMMARY:RIPPERS  |  TEENS
DESCRIPTION:
CATEGORIES:TEENS
END:VEVENT
BEGIN:VEVENT
UID:7@sheridan.lib.in.us
DTSTART;TZID=America/Indiana/Indianapolis:20231005T180000
DTEND;TZID=America/Indiana/Indianapolis:20231005T190000
DTSTAMP:20231002T202054Z
URL:https://sheridan.lib.in.us/events/voter-registration/
SUMMARY:VOTER REGISTRATION  |  ADULT
DESCRIPTION:
CATEGORIES:ADULT
END:VEVENT
BEGIN:VEVENT
UID:12@sheridan.lib.in.us
DTSTART;TZID=America/Indiana/Indianapolis:20231006T110000
DTEND;TZID=America/Indiana/Indianapolis:20231006T110000
DTSTAMP:20231002T202121Z
URL:https://sheridan.lib.in.us/events/storytime/
SUMMARY:STORYTIME  |  AGES 3-6
DESCRIPTION:
CATEGORIES:PRESCHOOL
END:VEVENT
BEGIN:VEVENT
UID:13@sheridan.lib.in.us
DTSTART;TZID=America/Indiana/Indianapolis:20231006T110000
DTEND;TZID=America/Indiana/Indianapolis:20231006T110000
DTSTAMP:20231002T202149Z
URL:https://sheridan.lib.in.us/events/chair-yoga/
SUMMARY:CHAIR YOGA  | ADULT
DESCRIPTION:
CATEGORIES:ADULT
END:VEVENT
BEGIN:VEVENT
UID:40@sheridan.lib.in.us
DTSTART;TZID=America/Indiana/Indianapolis:20231010T133000
DTEND;TZID=America/Indiana/Indianapolis:20231010T133000
DTSTAMP:20231002T154833Z
URL:https://sheridan.lib.in.us/events/adult-game-time/
SUMMARY:ADULT GAME TIME
DESCRIPTION:
CATEGORIES:ADULT
END:VEVENT
BEGIN:VEVENT
UID:29@sheridan.lib.in.us
DTSTART;TZID=America/Indiana/Indianapolis:20231010T160000
DTEND;TZID=America/Indiana/Indianapolis:20231010T160000
DTSTAMP:20231002T210719Z
URL:https://sheridan.lib.in.us/events/hero-kids-2/
SUMMARY:HERO KIDS | KIDS
DESCRIPTION:
CATEGORIES:KIDS
END:VEVENT
BEGIN:VEVENT
UID:24@sheridan.lib.in.us
DTSTART;TZID=America/Indiana/Indianapolis:20231011T110000
DTEND;TZID=America/Indiana/Indianapolis:20231011T110000
DTSTAMP:20231002T202136Z
URL:https://sheridan.lib.in.us/events/mindful-movements-2/
SUMMARY:MINDFUL MOVEMENTS | AGES 2-6
DESCRIPTION:
CATEGORIES:PRESCHOOL
END:VEVENT
BEGIN:VEVENT
UID:36@sheridan.lib.in.us
DTSTART;TZID=America/Indiana/Indianapolis:20231011T110000
DTEND;TZID=America/Indiana/Indianapolis:20231011T110000
DTSTAMP:20231002T202240Z
URL:https://sheridan.lib.in.us/events/needle-crafters-2/
SUMMARY:NEEDLE CRAFTERS  | ADULT
DESCRIPTION:
CATEGORIES:ADULT
END:VEVENT
BEGIN:VEVENT
UID:46@sheridan.lib.in.us
DTSTART;TZID=America/Indiana/Indianapolis:20231011T180000
DTEND;TZID=America/Indiana/Indianapolis:20231011T180000
DTSTAMP:20231002T202250Z
URL:https://sheridan.lib.in.us/events/family-science-night/
SUMMARY:FAMILY SCIENCE NIGHT  |  ALL AGES
DESCRIPTION:*Registration required
CATEGORIES:ALL AGES
END:VEVENT
BEGIN:VEVENT
UID:21@sheridan.lib.in.us
DTSTART;TZID=America/Indiana/Indianapolis:20231012T110000
DTEND;TZID=America/Indiana/Indianapolis:20231012T110000
DTSTAMP:20231002T202305Z
URL:https://sheridan.lib.in.us/events/discovery-time-2/
SUMMARY:DISCOVERY TIME  | AGES 18-36MOS
DESCRIPTION:
CATEGORIES:BABIES + TODDLERS
END:VEVENT
BEGIN:VEVENT
UID:32@sheridan.lib.in.us
DTSTART;TZID=America/Indiana/Indianapolis:20231012T130000
DTEND;TZID=America/Indiana/Indianapolis:20231012T130000
DTSTAMP:20231002T202319Z
URL:https://sheridan.lib.in.us/events/homeschool-meetup/
SUMMARY:HOMESCHOOL MEETUP  |  GRADES K-12
DESCRIPTION:
CATEGORIES:KIDS,TEENS
END:VEVENT
BEGIN:VEVENT
UID:48@sheridan.lib.in.us
DTSTART;TZID=America/Indiana/Indianapolis:20231012T160000
DTEND;TZID=America/Indiana/Indianapolis:20231012T160000
DTSTAMP:20231009T143312Z
URL:https://sheridan.lib.in.us/events/rippers-teens/
SUMMARY:RIPPERS  |  TEENS
DESCRIPTION:
CATEGORIES:TEENS
END:VEVENT
BEGIN:VEVENT
UID:18@sheridan.lib.in.us
DTSTART;TZID=America/Indiana/Indianapolis:20231013T110000
DTEND;TZID=America/Indiana/Indianapolis:20231013T110000
DTSTAMP:20231002T202421Z
URL:https://sheridan.lib.in.us/events/chair-yoga-2/
SUMMARY:CHAIR YOGA  | ADULT
DESCRIPTION:
CATEGORIES:ADULT
END:VEVENT
BEGIN:VEVENT
UID:25@sheridan.lib.in.us
DTSTART;TZID=America/Indiana/Indianapolis:20231013T110000
DTEND;TZID=America/Indiana/Indianapolis:20231013T110000
DTSTAMP:20231009T183631Z
URL:https://sheridan.lib.in.us/events/storytime-2/
SUMMARY:STORY TIME  | AGES 3-6
DESCRIPTION:
CATEGORIES:PRESCHOOL
END:VEVENT
BEGIN:VEVENT
UID:47@sheridan.lib.in.us
DTSTART;TZID=America/Indiana/Indianapolis:20231013T180000
DTEND;TZID=America/Indiana/Indianapolis:20231013T180000
DTSTAMP:20231002T202452Z
URL:https://sheridan.lib.in.us/events/bingo-night/
SUMMARY:BINGO NIGHT  |  ALL AGES
DESCRIPTION:
CATEGORIES:ALL AGES
END:VEVENT
BEGIN:VEVENT
UID:44@sheridan.lib.in.us
DTSTART;TZID=America/Indiana/Indianapolis:20231016T180000
DTEND;TZID=America/Indiana/Indianapolis:20231016T180000
DTSTAMP:20231002T202459Z
URL:https://sheridan.lib.in.us/events/pinners/
SUMMARY:PINNERS  |  ADULT
DESCRIPTION:
CATEGORIES:ADULT
END:VEVENT
BEGIN:VEVENT
UID:41@sheridan.lib.in.us
DTSTART;TZID=America/Indiana/Indianapolis:20231017T133000
DTEND;TZID=America/Indiana/Indianapolis:20231017T133000
DTSTAMP:20231002T154850Z
URL:https://sheridan.lib.in.us/events/adult-game-time-2/
SUMMARY:ADULT GAME TIME
DESCRIPTION:
CATEGORIES:ADULT
END:VEVENT
BEGIN:VEVENT
UID:37@sheridan.lib.in.us
DTSTART;TZID=America/Indiana/Indianapolis:20231018T110000
DTEND;TZID=America/Indiana/Indianapolis:20231018T110000
DTSTAMP:20231002T202514Z
URL:https://sheridan.lib.in.us/events/needle-crafters-3/
SUMMARY:NEEDLE CRAFTERS  |  ADULT
DESCRIPTION:
CATEGORIES:ADULT
END:VEVENT
BEGIN:VEVENT
UID:45@sheridan.lib.in.us
DTSTART;TZID=America/Indiana/Indianapolis:20231018T173000
DTEND;TZID=America/Indiana/Indianapolis:20231018T173000
DTSTAMP:20231002T202523Z
URL:https://sheridan.lib.in.us/events/sheridan-readers-book-club/
SUMMARY:SHERIDAN READERS BOOK CLUB  |  ADULT
DESCRIPTION:Lessons in Chemistry
CATEGORIES:ADULT
END:VEVENT
BEGIN:VEVENT
UID:8@sheridan.lib.in.us
DTSTART;TZID=America/Indiana/Indianapolis:20231019T180000
DTEND;TZID=America/Indiana/Indianapolis:20231019T190000
DTSTAMP:20231002T202530Z
URL:https://sheridan.lib.in.us/events/paranormal-investigation-presentatio
 n/
SUMMARY:PARANORMAL INVESTIGATION PRESENTATION  |  ADULT
DESCRIPTION:
CATEGORIES:ADULT
END:VEVENT
BEGIN:VEVENT
UID:10@sheridan.lib.in.us
DTSTART;TZID=America/Indiana/Indianapolis:20231019T190000
DTEND;TZID=America/Indiana/Indianapolis:20231019T190000
DTSTAMP:20231004T142647Z
URL:https://sheridan.lib.in.us/events/library-paranormal-investigation/
SUMMARY:LIBRARY PARANORMAL INVESTIGATION: REGISTRATION REQUIRED  |  ADULT
DESCRIPTION:
CATEGORIES:ADULT
END:VEVENT
BEGIN:VEVENT
UID:42@sheridan.lib.in.us
DTSTART;TZID=America/Indiana/Indianapolis:20231024T133000
DTEND;TZID=America/Indiana/Indianapolis:20231024T133000
DTSTAMP:20231002T154907Z
URL:https://sheridan.lib.in.us/events/adult-game-time-3/
SUMMARY:ADULT GAME TIME
DESCRIPTION:
CATEGORIES:ADULT
END:VEVENT
BEGIN:VEVENT
UID:30@sheridan.lib.in.us
DTSTART;TZID=America/Indiana/Indianapolis:20231024T160000
DTEND;TZID=America/Indiana/Indianapolis:20231024T160000
DTSTAMP:20231002T210736Z
URL:https://sheridan.lib.in.us/events/hero-kids-3/
SUMMARY:HERO KIDS  |  KIDS
DESCRIPTION:
CATEGORIES:KIDS
END:VEVENT
BEGIN:VEVENT
UID:27@sheridan.lib.in.us
DTSTART;TZID=America/Indiana/Indianapolis:20231025T110000
DTEND;TZID=America/Indiana/Indianapolis:20231025T110000
DTSTAMP:20231002T202751Z
URL:https://sheridan.lib.in.us/events/parachute-play/
SUMMARY:PARACHUTE PLAY  |  AGES 2-6
DESCRIPTION:
CATEGORIES:PRESCHOOL
END:VEVENT
BEGIN:VEVENT
UID:38@sheridan.lib.in.us
DTSTART;TZID=America/Indiana/Indianapolis:20231025T110000
DTEND;TZID=America/Indiana/Indianapolis:20231025T110000
DTSTAMP:20231002T203449Z
URL:https://sheridan.lib.in.us/events/needle-crafters-4/
SUMMARY:NEEDLE CRAFTERS  |  ADULTS
DESCRIPTION:
CATEGORIES:ADULT
END:VEVENT
BEGIN:VEVENT
UID:22@sheridan.lib.in.us
DTSTART;TZID=America/Indiana/Indianapolis:20231026T110000
DTEND;TZID=America/Indiana/Indianapolis:20231026T110000
DTSTAMP:20231002T203613Z
URL:https://sheridan.lib.in.us/events/discovery-time-3/
SUMMARY:DISCOVERY TIME  |  AGES 18-36MOS
DESCRIPTION:
CATEGORIES:BABIES + TODDLERS
END:VEVENT
BEGIN:VEVENT
UID:34@sheridan.lib.in.us
DTSTART;TZID=America/Indiana/Indianapolis:20231026T160000
DTEND;TZID=America/Indiana/Indianapolis:20231026T160000
DTSTAMP:20231002T210809Z
URL:https://sheridan.lib.in.us/events/rippers-2/
SUMMARY:RIPPERS  |  TEENS
DESCRIPTION:
CATEGORIES:TEENS
END:VEVENT
BEGIN:VEVENT
UID:39@sheridan.lib.in.us
DTSTART;TZID=America/Indiana/Indianapolis:20231027T110000
DTEND;TZID=America/Indiana/Indianapolis:20231027T110000
DTSTAMP:20231002T203545Z
URL:https://sheridan.lib.in.us/events/chair-yoga-3/
SUMMARY:CHAIR YOGA  |  ADULTS
DESCRIPTION:
CATEGORIES:ADULT
END:VEVENT
BEGIN:VEVENT
UID:26@sheridan.lib.in.us
DTSTART;TZID=America/Indiana/Indianapolis:20231027T110000
DTEND;TZID=America/Indiana/Indianapolis:20231027T110000
DTSTAMP:20231009T183653Z
URL:https://sheridan.lib.in.us/events/storytime-3/
SUMMARY:STORY TIME  |  AGES 3-6
DESCRIPTION:
CATEGORIES:PRESCHOOL
END:VEVENT
BEGIN:VEVENT
UID:43@sheridan.lib.in.us
DTSTART;TZID=America/Indiana/Indianapolis:20231031T133000
DTEND;TZID=America/Indiana/Indianapolis:20231031T133000
DTSTAMP:20231002T154922Z
URL:https://sheridan.lib.in.us/events/adult-game-time-4/
SUMMARY:ADULT GAME TIME
DESCRIPTION:
CATEGORIES:ADULT
END:VEVENT
BEGIN:VEVENT
UID:31@sheridan.lib.in.us
DTSTART;TZID=America/Indiana/Indianapolis:20231031T160000
DTEND;TZID=America/Indiana/Indianapolis:20231031T160000
DTSTAMP:20231002T210746Z
URL:https://sheridan.lib.in.us/events/hero-kids-4/
SUMMARY:HERO KIDS  | KIDS
DESCRIPTION:
CATEGORIES:KIDS
END:VEVENT
BEGIN:VEVENT
UID:95@sheridan.lib.in.us
DTSTART;TZID=America/Indiana/Indianapolis:20231031T180000
DTEND;TZID=America/Indiana/Indianapolis:20231031T180000
DTSTAMP:20231027T161458Z
URL:https://sheridan.lib.in.us/events/trunk-or-treat/
SUMMARY:TRUNK OR TREAT
DESCRIPTION:
CATEGORIES:ALL AGES
END:VEVENT
BEGIN:VEVENT
UID:71@sheridan.lib.in.us
DTSTART;TZID=America/Indiana/Indianapolis:20231101T110000
DTEND;TZID=America/Indiana/Indianapolis:20231101T110000
DTSTAMP:20231013T183203Z
URL:https://sheridan.lib.in.us/events/mindful-movements-ages-2-6/
SUMMARY:MINDFUL MOVEMENTS  |  AGES 2-6
DESCRIPTION:
CATEGORIES:PRESCHOOL
END:VEVENT
BEGIN:VEVENT
UID:51@sheridan.lib.in.us
DTSTART;TZID=America/Indiana/Indianapolis:20231101T110000
DTEND;TZID=America/Indiana/Indianapolis:20231101T110000
DTSTAMP:20231013T181854Z
URL:https://sheridan.lib.in.us/events/needle-crafters-adult/
SUMMARY:NEEDLE CRAFTERS  |  ADULT
DESCRIPTION:
CATEGORIES:ADULT
END:VEVENT
BEGIN:VEVENT
UID:69@sheridan.lib.in.us
DTSTART;TZID=America/Indiana/Indianapolis:20231101T180000
DTEND;TZID=America/Indiana/Indianapolis:20231101T180000
DTSTAMP:20231013T183610Z
URL:https://sheridan.lib.in.us/events/friends-meeting/
SUMMARY:FRIENDS MEETING  |  ADULT
DESCRIPTION:
CATEGORIES:ADULT
END:VEVENT
BEGIN:VEVENT
UID:61@sheridan.lib.in.us
DTSTART;TZID=America/Indiana/Indianapolis:20231102T110000
DTEND;TZID=America/Indiana/Indianapolis:20231102T110000
DTSTAMP:20231013T182403Z
URL:https://sheridan.lib.in.us/events/discovery-time-ages-18-36mos/
SUMMARY:DISCOVERY TIME  |  AGES 18-36MOS
DESCRIPTION:
CATEGORIES:BABIES + TODDLERS
END:VEVENT
BEGIN:VEVENT
UID:65@sheridan.lib.in.us
DTSTART;TZID=America/Indiana/Indianapolis:20231102T160000
DTEND;TZID=America/Indiana/Indianapolis:20231102T160000
DTSTAMP:20231013T182605Z
URL:https://sheridan.lib.in.us/events/rippers-teens-2/
SUMMARY:RIPPERS  |  TEENS
DESCRIPTION:
CATEGORIES:TEENS
END:VEVENT
BEGIN:VEVENT
UID:75@sheridan.lib.in.us
DTSTART;TZID=America/Indiana/Indianapolis:20231102T180000
DTEND;TZID=America/Indiana/Indianapolis:20231102T180000
DTSTAMP:20231013T183527Z
URL:https://sheridan.lib.in.us/events/wits-wagers-game-show-all-ages/
SUMMARY:WITS + WAGERS GAME SHOW  |  ALL AGES
DESCRIPTION:
CATEGORIES:ALL AGES
END:VEVENT
BEGIN:VEVENT
UID:79@sheridan.lib.in.us
DTSTART;TZID=America/Indiana/Indianapolis:20231103T110000
DTEND;TZID=America/Indiana/Indianapolis:20231103T110000
DTSTAMP:20231013T184958Z
URL:https://sheridan.lib.in.us/events/chair-yoga-adults/
SUMMARY:CHAIR YOGA  |  ADULTS
DESCRIPTION:
CATEGORIES:ADULT
END:VEVENT
BEGIN:VEVENT
UID:76@sheridan.lib.in.us
DTSTART;TZID=America/Indiana/Indianapolis:20231103T110000
DTEND;TZID=America/Indiana/Indianapolis:20231103T110000
DTSTAMP:20231013T184710Z
URL:https://sheridan.lib.in.us/events/story-time-ages-3-6/
SUMMARY:STORY TIME  |  AGES 3-6
DESCRIPTION:
CATEGORIES:PRESCHOOL
END:VEVENT
BEGIN:VEVENT
UID:89@sheridan.lib.in.us
DTSTART;TZID=America/Indiana/Indianapolis:20231107T150000
DTEND;TZID=America/Indiana/Indianapolis:20231107T150000
DTSTAMP:20231013T193653Z
URL:https://sheridan.lib.in.us/events/adult-bingo-2/
SUMMARY:ADULT BINGO
DESCRIPTION:
CATEGORIES:ADULT
END:VEVENT
BEGIN:VEVENT
UID:83@sheridan.lib.in.us
DTSTART;TZID=America/Indiana/Indianapolis:20231107T150000
DTEND;TZID=America/Indiana/Indianapolis:20231107T170000
DTSTAMP:20231013T191148Z
URL:https://sheridan.lib.in.us/events/lego-club-grades-k-5/
SUMMARY:LEGO CLUB  |  GRADES K-5
DESCRIPTION:
CATEGORIES:KIDS
END:VEVENT
BEGIN:VEVENT
UID:52@sheridan.lib.in.us
DTSTART;TZID=America/Indiana/Indianapolis:20231108T110000
DTEND;TZID=America/Indiana/Indianapolis:20231108T110000
DTSTAMP:20231013T181921Z
URL:https://sheridan.lib.in.us/events/needle-crafters-adult-2/
SUMMARY:NEEDLE CRAFTERS  |  ADULT
DESCRIPTION:
CATEGORIES:ADULT
END:VEVENT
BEGIN:VEVENT
UID:72@sheridan.lib.in.us
DTSTART;TZID=America/Indiana/Indianapolis:20231108T110000
DTEND;TZID=America/Indiana/Indianapolis:20231108T110000
DTSTAMP:20231013T183242Z
URL:https://sheridan.lib.in.us/events/mindful-movements-ages-2-6-2/
SUMMARY:MINDFUL MOVEMENTS  |  AGES 2-6
DESCRIPTION:
CATEGORIES:PRESCHOOL
END:VEVENT
BEGIN:VTIMEZONE
TZID:America/Indiana/Indianapolis
X-LIC-LOCATION:America/Indiana/Indianapolis
BEGIN:DAYLIGHT
DTSTART:20230312T030000
TZOFFSETFROM:-0500
TZOFFSETTO:-0400
TZNAME:EDT
END:DAYLIGHT
BEGIN:STANDARD
DTSTART:20231105T010000
TZOFFSETFROM:-0400
TZOFFSETTO:-0500
TZNAME:EST
END:STANDARD
END:VTIMEZONE
END:VCALENDAR