BEGIN:VCALENDAR
VERSION:2.0
PRODID:-//Sheridan Public Library - ECPv6.15.20//NONSGML v1.0//EN
CALSCALE:GREGORIAN
METHOD:PUBLISH
X-ORIGINAL-URL:https://sheridan.lib.in.us
X-WR-CALDESC:Events for Sheridan Public Library
REFRESH-INTERVAL;VALUE=DURATION:PT1H
X-Robots-Tag:noindex
X-PUBLISHED-TTL:PT1H
BEGIN:VTIMEZONE
TZID:America/Indiana/Indianapolis
BEGIN:DAYLIGHT
TZOFFSETFROM:-0500
TZOFFSETTO:-0400
TZNAME:EDT
DTSTART:20250309T070000
END:DAYLIGHT
BEGIN:STANDARD
TZOFFSETFROM:-0400
TZOFFSETTO:-0500
TZNAME:EST
DTSTART:20251102T060000
END:STANDARD
BEGIN:DAYLIGHT
TZOFFSETFROM:-0500
TZOFFSETTO:-0400
TZNAME:EDT
DTSTART:20260308T070000
END:DAYLIGHT
BEGIN:STANDARD
TZOFFSETFROM:-0400
TZOFFSETTO:-0500
TZNAME:EST
DTSTART:20261101T060000
END:STANDARD
BEGIN:DAYLIGHT
TZOFFSETFROM:-0500
TZOFFSETTO:-0400
TZNAME:EDT
DTSTART:20270314T070000
END:DAYLIGHT
BEGIN:STANDARD
TZOFFSETFROM:-0400
TZOFFSETTO:-0500
TZNAME:EST
DTSTART:20271107T060000
END:STANDARD
END:VTIMEZONE
BEGIN:VEVENT
DTSTART;TZID=America/Indiana/Indianapolis:20260204T150000
DTEND;TZID=America/Indiana/Indianapolis:20260204T170000
DTSTAMP:20260421T190223
CREATED:20260108T191538Z
LAST-MODIFIED:20260108T191538Z
UID:30622-1770217200-1770224400@sheridan.lib.in.us
SUMMARY:ADULT BINGO
DESCRIPTION:
URL:https://sheridan.lib.in.us/event/adult-bingo-39/
END:VEVENT
BEGIN:VEVENT
DTSTART;TZID=America/Indiana/Indianapolis:20260204T180000
DTEND;TZID=America/Indiana/Indianapolis:20260204T200000
DTSTAMP:20260421T190223
CREATED:20260108T191432Z
LAST-MODIFIED:20260108T191432Z
UID:30620-1770228000-1770235200@sheridan.lib.in.us
SUMMARY:PINNERS
DESCRIPTION:
URL:https://sheridan.lib.in.us/event/pinners-17/
END:VEVENT
END:VCALENDAR