BEGIN:VCALENDAR
VERSION:2.0
PRODID:-//Sheridan Public Library - ECPv6.15.20//NONSGML v1.0//EN
CALSCALE:GREGORIAN
METHOD:PUBLISH
X-ORIGINAL-URL:https://sheridan.lib.in.us
X-WR-CALDESC:Events for Sheridan Public Library
REFRESH-INTERVAL;VALUE=DURATION:PT1H
X-Robots-Tag:noindex
X-PUBLISHED-TTL:PT1H
BEGIN:VTIMEZONE
TZID:America/Indiana/Indianapolis
BEGIN:DAYLIGHT
TZOFFSETFROM:-0500
TZOFFSETTO:-0400
TZNAME:EDT
DTSTART:20240310T070000
END:DAYLIGHT
BEGIN:STANDARD
TZOFFSETFROM:-0400
TZOFFSETTO:-0500
TZNAME:EST
DTSTART:20241103T060000
END:STANDARD
BEGIN:DAYLIGHT
TZOFFSETFROM:-0500
TZOFFSETTO:-0400
TZNAME:EDT
DTSTART:20250309T070000
END:DAYLIGHT
BEGIN:STANDARD
TZOFFSETFROM:-0400
TZOFFSETTO:-0500
TZNAME:EST
DTSTART:20251102T060000
END:STANDARD
BEGIN:DAYLIGHT
TZOFFSETFROM:-0500
TZOFFSETTO:-0400
TZNAME:EDT
DTSTART:20260308T070000
END:DAYLIGHT
BEGIN:STANDARD
TZOFFSETFROM:-0400
TZOFFSETTO:-0500
TZNAME:EST
DTSTART:20261101T060000
END:STANDARD
END:VTIMEZONE
BEGIN:VEVENT
DTSTART;TZID=America/Indiana/Indianapolis:20251118T103000
DTEND;TZID=America/Indiana/Indianapolis:20251118T120000
DTSTAMP:20260421T233609
CREATED:20251009T162338Z
LAST-MODIFIED:20251009T162338Z
UID:30117-1763461800-1763467200@sheridan.lib.in.us
SUMMARY:HOMESCHOOL SNACKSGIVING AND PLAY
DESCRIPTION:
URL:https://sheridan.lib.in.us/event/homeschool-snacksgiving-and-play/
END:VEVENT
BEGIN:VEVENT
DTSTART;TZID=America/Indiana/Indianapolis:20251118T123000
DTEND;TZID=America/Indiana/Indianapolis:20251118T153000
DTSTAMP:20260421T233609
CREATED:20251017T192830Z
LAST-MODIFIED:20251017T192830Z
UID:30136-1763469000-1763479800@sheridan.lib.in.us
SUMMARY:ESTATE PLANNING WORKSHOP FOR SENIORS - BLEVINS LAW OFFICE
DESCRIPTION:
URL:https://sheridan.lib.in.us/event/estate-planning-workshop-for-seniors-blevins-law-office/
END:VEVENT
BEGIN:VEVENT
DTSTART;TZID=America/Indiana/Indianapolis:20251118T180000
DTEND;TZID=America/Indiana/Indianapolis:20251118T180000
DTSTAMP:20260421T233609
CREATED:20241202T212214Z
LAST-MODIFIED:20241202T212214Z
UID:27538-1763488800-1763488800@sheridan.lib.in.us
SUMMARY:ROTARY
DESCRIPTION:
URL:https://sheridan.lib.in.us/event/rotary-77/
END:VEVENT
END:VCALENDAR