BEGIN:VCALENDAR
VERSION:2.0
PRODID:-//Sheridan Public Library - ECPv6.15.20//NONSGML v1.0//EN
CALSCALE:GREGORIAN
METHOD:PUBLISH
X-ORIGINAL-URL:https://sheridan.lib.in.us
X-WR-CALDESC:Events for Sheridan Public Library
REFRESH-INTERVAL;VALUE=DURATION:PT1H
X-Robots-Tag:noindex
X-PUBLISHED-TTL:PT1H
BEGIN:VTIMEZONE
TZID:America/Indiana/Indianapolis
BEGIN:DAYLIGHT
TZOFFSETFROM:-0500
TZOFFSETTO:-0400
TZNAME:EDT
DTSTART:20240310T070000
END:DAYLIGHT
BEGIN:STANDARD
TZOFFSETFROM:-0400
TZOFFSETTO:-0500
TZNAME:EST
DTSTART:20241103T060000
END:STANDARD
BEGIN:DAYLIGHT
TZOFFSETFROM:-0500
TZOFFSETTO:-0400
TZNAME:EDT
DTSTART:20250309T070000
END:DAYLIGHT
BEGIN:STANDARD
TZOFFSETFROM:-0400
TZOFFSETTO:-0500
TZNAME:EST
DTSTART:20251102T060000
END:STANDARD
BEGIN:DAYLIGHT
TZOFFSETFROM:-0500
TZOFFSETTO:-0400
TZNAME:EDT
DTSTART:20260308T070000
END:DAYLIGHT
BEGIN:STANDARD
TZOFFSETFROM:-0400
TZOFFSETTO:-0500
TZNAME:EST
DTSTART:20261101T060000
END:STANDARD
END:VTIMEZONE
BEGIN:VEVENT
DTSTART;TZID=America/Indiana/Indianapolis:20250501T033000
DTEND;TZID=America/Indiana/Indianapolis:20250501T163000
DTSTAMP:20260422T091418
CREATED:20250415T145129Z
LAST-MODIFIED:20250415T145203Z
UID:28848-1746070200-1746117000@sheridan.lib.in.us
SUMMARY:MAY THE FOURTH BE WITH YOU - STAR WARS PARTY
DESCRIPTION:
URL:https://sheridan.lib.in.us/event/may-the-fourth-be-with-you-star-wars-party/
END:VEVENT
BEGIN:VEVENT
DTSTART;TZID=America/Indiana/Indianapolis:20250501T083000
DTEND;TZID=America/Indiana/Indianapolis:20250501T150000
DTSTAMP:20260422T091418
CREATED:20250109T211153Z
LAST-MODIFIED:20250109T211153Z
UID:28009-1746088200-1746111600@sheridan.lib.in.us
SUMMARY:SHERIDAN ELEMENTARY KINDERGARTEN REGISTRATION
DESCRIPTION:
URL:https://sheridan.lib.in.us/event/sheridan-elementary-kindergarten-registration/
END:VEVENT
BEGIN:VEVENT
DTSTART;TZID=America/Indiana/Indianapolis:20250501T180000
DTEND;TZID=America/Indiana/Indianapolis:20250501T180000
DTSTAMP:20260422T091418
CREATED:20241202T220501Z
LAST-MODIFIED:20241202T220501Z
UID:27643-1746122400-1746122400@sheridan.lib.in.us
SUMMARY:KIWANIS CLUB OF SHERIDAN
DESCRIPTION:
URL:https://sheridan.lib.in.us/event/kiwanis-club-of-sheridan-22/
END:VEVENT
END:VCALENDAR