BEGIN:VCALENDAR
VERSION:2.0
PRODID:-//Sheridan Public Library - ECPv6.15.20//NONSGML v1.0//EN
CALSCALE:GREGORIAN
METHOD:PUBLISH
X-ORIGINAL-URL:https://sheridan.lib.in.us
X-WR-CALDESC:Events for Sheridan Public Library
REFRESH-INTERVAL;VALUE=DURATION:PT1H
X-Robots-Tag:noindex
X-PUBLISHED-TTL:PT1H
BEGIN:VTIMEZONE
TZID:America/Indiana/Indianapolis
BEGIN:DAYLIGHT
TZOFFSETFROM:-0500
TZOFFSETTO:-0400
TZNAME:EDT
DTSTART:20240310T070000
END:DAYLIGHT
BEGIN:STANDARD
TZOFFSETFROM:-0400
TZOFFSETTO:-0500
TZNAME:EST
DTSTART:20241103T060000
END:STANDARD
BEGIN:DAYLIGHT
TZOFFSETFROM:-0500
TZOFFSETTO:-0400
TZNAME:EDT
DTSTART:20250309T070000
END:DAYLIGHT
BEGIN:STANDARD
TZOFFSETFROM:-0400
TZOFFSETTO:-0500
TZNAME:EST
DTSTART:20251102T060000
END:STANDARD
BEGIN:DAYLIGHT
TZOFFSETFROM:-0500
TZOFFSETTO:-0400
TZNAME:EDT
DTSTART:20260308T070000
END:DAYLIGHT
BEGIN:STANDARD
TZOFFSETFROM:-0400
TZOFFSETTO:-0500
TZNAME:EST
DTSTART:20261101T060000
END:STANDARD
END:VTIMEZONE
BEGIN:VEVENT
DTSTART;TZID=America/Indiana/Indianapolis:20250318T080000
DTEND;TZID=America/Indiana/Indianapolis:20250318T110000
DTSTAMP:20260422T121556
CREATED:20250107T212257Z
LAST-MODIFIED:20250107T212257Z
UID:27941-1742284800-1742295600@sheridan.lib.in.us
SUMMARY:BACKFLOW CLASS
DESCRIPTION:
URL:https://sheridan.lib.in.us/event/backflow-class-52/
END:VEVENT
BEGIN:VEVENT
DTSTART;TZID=America/Indiana/Indianapolis:20250318T110000
DTEND;TZID=America/Indiana/Indianapolis:20250318T133000
DTSTAMP:20260422T121556
CREATED:20250124T192329Z
LAST-MODIFIED:20250124T192329Z
UID:28206-1742295600-1742304600@sheridan.lib.in.us
SUMMARY:SYAP
DESCRIPTION:
URL:https://sheridan.lib.in.us/event/syap/
END:VEVENT
BEGIN:VEVENT
DTSTART;TZID=America/Indiana/Indianapolis:20250318T133000
DTEND;TZID=America/Indiana/Indianapolis:20250318T163000
DTSTAMP:20260422T121556
CREATED:20250317T175246Z
LAST-MODIFIED:20250317T175246Z
UID:28590-1742304600-1742315400@sheridan.lib.in.us
SUMMARY:ELDER LAW
DESCRIPTION:
URL:https://sheridan.lib.in.us/event/elder-law/
END:VEVENT
BEGIN:VEVENT
DTSTART;TZID=America/Indiana/Indianapolis:20250318T180000
DTEND;TZID=America/Indiana/Indianapolis:20250318T180000
DTSTAMP:20260422T121556
CREATED:20241202T210804Z
LAST-MODIFIED:20241202T210804Z
UID:27488-1742320800-1742320800@sheridan.lib.in.us
SUMMARY:ROTARY
DESCRIPTION:
URL:https://sheridan.lib.in.us/event/rotary-53/
END:VEVENT
END:VCALENDAR