BEGIN:VCALENDAR
VERSION:2.0
PRODID:-//Sheridan Public Library - ECPv6.15.20//NONSGML v1.0//EN
CALSCALE:GREGORIAN
METHOD:PUBLISH
X-ORIGINAL-URL:https://sheridan.lib.in.us
X-WR-CALDESC:Events for Sheridan Public Library
REFRESH-INTERVAL;VALUE=DURATION:PT1H
X-Robots-Tag:noindex
X-PUBLISHED-TTL:PT1H
BEGIN:VTIMEZONE
TZID:America/Indiana/Indianapolis
BEGIN:DAYLIGHT
TZOFFSETFROM:-0500
TZOFFSETTO:-0400
TZNAME:EDT
DTSTART:20240310T070000
END:DAYLIGHT
BEGIN:STANDARD
TZOFFSETFROM:-0400
TZOFFSETTO:-0500
TZNAME:EST
DTSTART:20241103T060000
END:STANDARD
BEGIN:DAYLIGHT
TZOFFSETFROM:-0500
TZOFFSETTO:-0400
TZNAME:EDT
DTSTART:20250309T070000
END:DAYLIGHT
BEGIN:STANDARD
TZOFFSETFROM:-0400
TZOFFSETTO:-0500
TZNAME:EST
DTSTART:20251102T060000
END:STANDARD
BEGIN:DAYLIGHT
TZOFFSETFROM:-0500
TZOFFSETTO:-0400
TZNAME:EDT
DTSTART:20260308T070000
END:DAYLIGHT
BEGIN:STANDARD
TZOFFSETFROM:-0400
TZOFFSETTO:-0500
TZNAME:EST
DTSTART:20261101T060000
END:STANDARD
END:VTIMEZONE
BEGIN:VEVENT
DTSTART;TZID=America/Indiana/Indianapolis:20250211T080000
DTEND;TZID=America/Indiana/Indianapolis:20250211T110000
DTSTAMP:20260422T134601
CREATED:20250107T211327Z
LAST-MODIFIED:20250110T163355Z
UID:27930-1739260800-1739271600@sheridan.lib.in.us
SUMMARY:BACKFLOW CLASS
DESCRIPTION:
URL:https://sheridan.lib.in.us/event/backflow-class-47/
END:VEVENT
BEGIN:VEVENT
DTSTART;TZID=America/Indiana/Indianapolis:20250211T153000
DTEND;TZID=America/Indiana/Indianapolis:20250211T170000
DTSTAMP:20260422T134601
CREATED:20250113T161432Z
LAST-MODIFIED:20250113T161432Z
UID:28018-1739287800-1739293200@sheridan.lib.in.us
SUMMARY:Valentine Crafternoon
DESCRIPTION:
URL:https://sheridan.lib.in.us/event/valentine-crafternoon/
END:VEVENT
BEGIN:VEVENT
DTSTART;TZID=America/Indiana/Indianapolis:20250211T180000
DTEND;TZID=America/Indiana/Indianapolis:20250211T180000
DTSTAMP:20260422T134601
CREATED:20241202T204208Z
LAST-MODIFIED:20241202T205351Z
UID:27474-1739296800-1739296800@sheridan.lib.in.us
SUMMARY:ROTARY
DESCRIPTION:
URL:https://sheridan.lib.in.us/event/rotary-49/
END:VEVENT
END:VCALENDAR