BEGIN:VCALENDAR
VERSION:2.0
PRODID:-//Sheridan Public Library - ECPv6.15.20//NONSGML v1.0//EN
CALSCALE:GREGORIAN
METHOD:PUBLISH
X-ORIGINAL-URL:https://sheridan.lib.in.us
X-WR-CALDESC:Events for Sheridan Public Library
REFRESH-INTERVAL;VALUE=DURATION:PT1H
X-Robots-Tag:noindex
X-PUBLISHED-TTL:PT1H
BEGIN:VTIMEZONE
TZID:America/Indiana/Indianapolis
BEGIN:DAYLIGHT
TZOFFSETFROM:-0500
TZOFFSETTO:-0400
TZNAME:EDT
DTSTART:20240310T070000
END:DAYLIGHT
BEGIN:STANDARD
TZOFFSETFROM:-0400
TZOFFSETTO:-0500
TZNAME:EST
DTSTART:20241103T060000
END:STANDARD
BEGIN:DAYLIGHT
TZOFFSETFROM:-0500
TZOFFSETTO:-0400
TZNAME:EDT
DTSTART:20250309T070000
END:DAYLIGHT
BEGIN:STANDARD
TZOFFSETFROM:-0400
TZOFFSETTO:-0500
TZNAME:EST
DTSTART:20251102T060000
END:STANDARD
BEGIN:DAYLIGHT
TZOFFSETFROM:-0500
TZOFFSETTO:-0400
TZNAME:EDT
DTSTART:20260308T070000
END:DAYLIGHT
BEGIN:STANDARD
TZOFFSETFROM:-0400
TZOFFSETTO:-0500
TZNAME:EST
DTSTART:20261101T060000
END:STANDARD
END:VTIMEZONE
BEGIN:VEVENT
DTSTART;VALUE=DATE:20250129
DTEND;VALUE=DATE:20250131
DTSTAMP:20260422T134607
CREATED:20250121T215226Z
LAST-MODIFIED:20250122T171007Z
UID:28130-1738108800-1738281599@sheridan.lib.in.us
SUMMARY:Closed for maintenance
DESCRIPTION:
URL:https://sheridan.lib.in.us/event/closed-for-maintenance/
END:VEVENT
BEGIN:VEVENT
DTSTART;TZID=America/Indiana/Indianapolis:20250130T153000
DTEND;TZID=America/Indiana/Indianapolis:20250130T170000
DTSTAMP:20260422T134607
CREATED:20241211T183031Z
LAST-MODIFIED:20241211T183031Z
UID:27715-1738251000-1738256400@sheridan.lib.in.us
SUMMARY:AFTER SCHOOL CLUB: SLED STEAM CHALLENGE
DESCRIPTION:
URL:https://sheridan.lib.in.us/event/after-school-club-sled-steam-challenge/
END:VEVENT
BEGIN:VEVENT
DTSTART;TZID=America/Indiana/Indianapolis:20250130T180000
DTEND;TZID=America/Indiana/Indianapolis:20250130T200000
DTSTAMP:20260422T134607
CREATED:20250114T200620Z
LAST-MODIFIED:20250114T200620Z
UID:28060-1738260000-1738267200@sheridan.lib.in.us
SUMMARY:MEDICARE EDUCATION: ROBERT OWEN
DESCRIPTION:
URL:https://sheridan.lib.in.us/event/medicare-education-robert-owen/
END:VEVENT
END:VCALENDAR