BEGIN:VCALENDAR
VERSION:2.0
PRODID:-//Sheridan Public Library - ECPv6.15.20//NONSGML v1.0//EN
CALSCALE:GREGORIAN
METHOD:PUBLISH
X-ORIGINAL-URL:https://sheridan.lib.in.us
X-WR-CALDESC:Events for Sheridan Public Library
REFRESH-INTERVAL;VALUE=DURATION:PT1H
X-Robots-Tag:noindex
X-PUBLISHED-TTL:PT1H
BEGIN:VTIMEZONE
TZID:America/Indiana/Indianapolis
BEGIN:DAYLIGHT
TZOFFSETFROM:-0500
TZOFFSETTO:-0400
TZNAME:EDT
DTSTART:20230312T070000
END:DAYLIGHT
BEGIN:STANDARD
TZOFFSETFROM:-0400
TZOFFSETTO:-0500
TZNAME:EST
DTSTART:20231105T060000
END:STANDARD
BEGIN:DAYLIGHT
TZOFFSETFROM:-0500
TZOFFSETTO:-0400
TZNAME:EDT
DTSTART:20240310T070000
END:DAYLIGHT
BEGIN:STANDARD
TZOFFSETFROM:-0400
TZOFFSETTO:-0500
TZNAME:EST
DTSTART:20241103T060000
END:STANDARD
BEGIN:DAYLIGHT
TZOFFSETFROM:-0500
TZOFFSETTO:-0400
TZNAME:EDT
DTSTART:20250309T070000
END:DAYLIGHT
BEGIN:STANDARD
TZOFFSETFROM:-0400
TZOFFSETTO:-0500
TZNAME:EST
DTSTART:20251102T060000
END:STANDARD
END:VTIMEZONE
BEGIN:VEVENT
DTSTART;TZID=America/Indiana/Indianapolis:20241209T080000
DTEND;TZID=America/Indiana/Indianapolis:20241209T110000
DTSTAMP:20260422T181422
CREATED:20240912T204327Z
LAST-MODIFIED:20240912T204327Z
UID:26544-1733731200-1733742000@sheridan.lib.in.us
SUMMARY:Backflow class
DESCRIPTION:
URL:https://sheridan.lib.in.us/event/backflow-class-36/
END:VEVENT
BEGIN:VEVENT
DTSTART;TZID=America/Indiana/Indianapolis:20241209T130000
DTEND;TZID=America/Indiana/Indianapolis:20241209T190000
DTSTAMP:20260422T181422
CREATED:20240102T182830Z
LAST-MODIFIED:20240102T182830Z
UID:24616-1733749200-1733770800@sheridan.lib.in.us
SUMMARY:Blood Drive
DESCRIPTION:
URL:https://sheridan.lib.in.us/event/blood-drive-5/
END:VEVENT
BEGIN:VEVENT
DTSTART;TZID=America/Indiana/Indianapolis:20241209T180000
DTEND;TZID=America/Indiana/Indianapolis:20241209T180000
DTSTAMP:20260422T181422
CREATED:20231006T153309Z
LAST-MODIFIED:20231006T153309Z
UID:23754-1733767200-1733767200@sheridan.lib.in.us
SUMMARY:LIBRARY BOARD MEETING
DESCRIPTION:
URL:https://sheridan.lib.in.us/event/library-board-meeting-15/
END:VEVENT
END:VCALENDAR