BEGIN:VCALENDAR
VERSION:2.0
PRODID:-//Sheridan Public Library - ECPv6.15.20//NONSGML v1.0//EN
CALSCALE:GREGORIAN
METHOD:PUBLISH
X-ORIGINAL-URL:https://sheridan.lib.in.us
X-WR-CALDESC:Events for Sheridan Public Library
REFRESH-INTERVAL;VALUE=DURATION:PT1H
X-Robots-Tag:noindex
X-PUBLISHED-TTL:PT1H
BEGIN:VTIMEZONE
TZID:America/Indiana/Indianapolis
BEGIN:DAYLIGHT
TZOFFSETFROM:-0500
TZOFFSETTO:-0400
TZNAME:EDT
DTSTART:20230312T070000
END:DAYLIGHT
BEGIN:STANDARD
TZOFFSETFROM:-0400
TZOFFSETTO:-0500
TZNAME:EST
DTSTART:20231105T060000
END:STANDARD
BEGIN:DAYLIGHT
TZOFFSETFROM:-0500
TZOFFSETTO:-0400
TZNAME:EDT
DTSTART:20240310T070000
END:DAYLIGHT
BEGIN:STANDARD
TZOFFSETFROM:-0400
TZOFFSETTO:-0500
TZNAME:EST
DTSTART:20241103T060000
END:STANDARD
BEGIN:DAYLIGHT
TZOFFSETFROM:-0500
TZOFFSETTO:-0400
TZNAME:EDT
DTSTART:20250309T070000
END:DAYLIGHT
BEGIN:STANDARD
TZOFFSETFROM:-0400
TZOFFSETTO:-0500
TZNAME:EST
DTSTART:20251102T060000
END:STANDARD
END:VTIMEZONE
BEGIN:VEVENT
DTSTART;TZID=America/Indiana/Indianapolis:20240626T110000
DTEND;TZID=America/Indiana/Indianapolis:20240626T120000
DTSTAMP:20260423T015049
CREATED:20240208T204308Z
LAST-MODIFIED:20240523T154207Z
UID:24931-1719399600-1719403200@sheridan.lib.in.us
SUMMARY:STORY TIME: ADVENTURES IN IMAGINATIONS
DESCRIPTION:
URL:https://sheridan.lib.in.us/event/sr-story-time-program-4/
END:VEVENT
BEGIN:VEVENT
DTSTART;TZID=America/Indiana/Indianapolis:20240626T180000
DTEND;TZID=America/Indiana/Indianapolis:20240626T190000
DTSTAMP:20260423T015049
CREATED:20240419T185958Z
LAST-MODIFIED:20240523T154525Z
UID:25551-1719424800-1719428400@sheridan.lib.in.us
SUMMARY:BACKPACKING INTRODUCTION
DESCRIPTION:
URL:https://sheridan.lib.in.us/event/sr-adult-program-3/
END:VEVENT
BEGIN:VEVENT
DTSTART;TZID=America/Indiana/Indianapolis:20240626T193000
DTEND;TZID=America/Indiana/Indianapolis:20240626T193000
DTSTAMP:20260423T015049
CREATED:20231006T160747Z
LAST-MODIFIED:20231006T160747Z
UID:23806-1719430200-1719430200@sheridan.lib.in.us
SUMMARY:SHERIDAN RECREATION BOARD
DESCRIPTION:
URL:https://sheridan.lib.in.us/event/sheridan-recreation-board-10/
END:VEVENT
END:VCALENDAR