BEGIN:VCALENDAR
VERSION:2.0
PRODID:-//Sheridan Public Library - ECPv6.15.20//NONSGML v1.0//EN
CALSCALE:GREGORIAN
METHOD:PUBLISH
X-ORIGINAL-URL:https://sheridan.lib.in.us
X-WR-CALDESC:Events for Sheridan Public Library
REFRESH-INTERVAL;VALUE=DURATION:PT1H
X-Robots-Tag:noindex
X-PUBLISHED-TTL:PT1H
BEGIN:VTIMEZONE
TZID:America/Indiana/Indianapolis
BEGIN:DAYLIGHT
TZOFFSETFROM:-0500
TZOFFSETTO:-0400
TZNAME:EDT
DTSTART:20230312T070000
END:DAYLIGHT
BEGIN:STANDARD
TZOFFSETFROM:-0400
TZOFFSETTO:-0500
TZNAME:EST
DTSTART:20231105T060000
END:STANDARD
BEGIN:DAYLIGHT
TZOFFSETFROM:-0500
TZOFFSETTO:-0400
TZNAME:EDT
DTSTART:20240310T070000
END:DAYLIGHT
BEGIN:STANDARD
TZOFFSETFROM:-0400
TZOFFSETTO:-0500
TZNAME:EST
DTSTART:20241103T060000
END:STANDARD
BEGIN:DAYLIGHT
TZOFFSETFROM:-0500
TZOFFSETTO:-0400
TZNAME:EDT
DTSTART:20250309T070000
END:DAYLIGHT
BEGIN:STANDARD
TZOFFSETFROM:-0400
TZOFFSETTO:-0500
TZNAME:EST
DTSTART:20251102T060000
END:STANDARD
END:VTIMEZONE
BEGIN:VEVENT
DTSTART;TZID=America/Indiana/Indianapolis:20240614T100000
DTEND;TZID=America/Indiana/Indianapolis:20240614T163000
DTSTAMP:20260423T015049
CREATED:20240424T154343Z
LAST-MODIFIED:20240424T154343Z
UID:25579-1718359200-1718382600@sheridan.lib.in.us
SUMMARY:CAREGIVER INC.
DESCRIPTION:
URL:https://sheridan.lib.in.us/event/caregiver-inc/
END:VEVENT
BEGIN:VEVENT
DTSTART;TZID=America/Indiana/Indianapolis:20240614T180000
DTEND;TZID=America/Indiana/Indianapolis:20240614T193000
DTSTAMP:20260423T015049
CREATED:20231116T184859Z
LAST-MODIFIED:20240208T203334Z
UID:24309-1718388000-1718393400@sheridan.lib.in.us
SUMMARY:BINGO
DESCRIPTION:
URL:https://sheridan.lib.in.us/event/closed-for-library-event-13/
END:VEVENT
END:VCALENDAR